BEGIN:VCALENDAR
VERSION:2.0
PRODID:-//Special Olympics Kansas - ECPv6.15.20//NONSGML v1.0//EN
CALSCALE:GREGORIAN
METHOD:PUBLISH
X-ORIGINAL-URL:https://soks.org
X-WR-CALDESC:Events for Special Olympics Kansas
REFRESH-INTERVAL;VALUE=DURATION:PT1H
X-Robots-Tag:noindex
X-PUBLISHED-TTL:PT1H
BEGIN:VTIMEZONE
TZID:America/Chicago
BEGIN:DAYLIGHT
TZOFFSETFROM:-0600
TZOFFSETTO:-0500
TZNAME:CDT
DTSTART:20240310T080000
END:DAYLIGHT
BEGIN:STANDARD
TZOFFSETFROM:-0500
TZOFFSETTO:-0600
TZNAME:CST
DTSTART:20241103T070000
END:STANDARD
BEGIN:DAYLIGHT
TZOFFSETFROM:-0600
TZOFFSETTO:-0500
TZNAME:CDT
DTSTART:20250309T080000
END:DAYLIGHT
BEGIN:STANDARD
TZOFFSETFROM:-0500
TZOFFSETTO:-0600
TZNAME:CST
DTSTART:20251102T070000
END:STANDARD
BEGIN:DAYLIGHT
TZOFFSETFROM:-0600
TZOFFSETTO:-0500
TZNAME:CDT
DTSTART:20260308T080000
END:DAYLIGHT
BEGIN:STANDARD
TZOFFSETFROM:-0500
TZOFFSETTO:-0600
TZNAME:CST
DTSTART:20261101T070000
END:STANDARD
END:VTIMEZONE
BEGIN:VEVENT
DTSTART;TZID=America/Chicago:20250222T090000
DTEND;TZID=America/Chicago:20250222T150000
DTSTAMP:20260420T161410
CREATED:20241209T195101Z
LAST-MODIFIED:20241209T195101Z
UID:10003115-1740214800-1740236400@soks.org
SUMMARY:Strong Minds at Unified Bocce
DESCRIPTION:Join Us for Strong Minds at Unified Bocce in Lawrence! \nSpecial Olympics Kansas is thrilled to host our first-ever Strong Minds Screening on Saturday\, February 22\, 2025\, from 9:00 AM to 3:00 PM at Lawrence High School (1901 Louisiana Street\, Lawrence\, KS 66044) during the Unified Bocce event. \nThis groundbreaking screening will focus on comprehensive well-being\, addressing mental\, physical\, and emotional health. Designed to empower our athletes and participants\, Strong Minds is an opportunity to learn practical strategies for managing stress\, maintaining resilience\, and fostering positive mental health. \nWe’re proud to partner with Unified to make this event a success\, but we need your help! We’re seeking mental health professionals—or mental health professional students—who are passionate about supporting individuals with intellectual disabilities to run this vital screening. \nMark your calendar for this milestone event and join us in supporting a healthier\, more inclusive community. If you’re interested in volunteering or learning more\, stay tuned for the GivePulse link coming soon! \nTogether\, we can build stronger minds and brighter futures.
URL:https://soks.org/event/strong-minds-at-unified-bocce/
LOCATION:Lawrence High School\, 1901 Louisiana Street\, Lawrence\, KS\, 66044\, United States
CATEGORIES:Health & Fitness,Metro Region
ATTACH;FMTTYPE=image/jpeg:https://soks.org/wp-content/uploads/2024/01/18strongminds_featured-e1733773854918.jpg
ORGANIZER;CN="Svea Knight":MAILTO:knights@sosk.org
END:VEVENT
END:VCALENDAR