BEGIN:VCALENDAR
VERSION:2.0
PRODID:-//Special Olympics Kansas - ECPv6.15.20//NONSGML v1.0//EN
CALSCALE:GREGORIAN
METHOD:PUBLISH
X-WR-CALNAME:Special Olympics Kansas
X-ORIGINAL-URL:https://soks.org
X-WR-CALDESC:Events for Special Olympics Kansas
REFRESH-INTERVAL;VALUE=DURATION:PT1H
X-Robots-Tag:noindex
X-PUBLISHED-TTL:PT1H
BEGIN:VTIMEZONE
TZID:America/Chicago
BEGIN:DAYLIGHT
TZOFFSETFROM:-0600
TZOFFSETTO:-0500
TZNAME:CDT
DTSTART:20250309T080000
END:DAYLIGHT
BEGIN:STANDARD
TZOFFSETFROM:-0500
TZOFFSETTO:-0600
TZNAME:CST
DTSTART:20251102T070000
END:STANDARD
BEGIN:DAYLIGHT
TZOFFSETFROM:-0600
TZOFFSETTO:-0500
TZNAME:CDT
DTSTART:20260308T080000
END:DAYLIGHT
BEGIN:STANDARD
TZOFFSETFROM:-0500
TZOFFSETTO:-0600
TZNAME:CST
DTSTART:20261101T070000
END:STANDARD
BEGIN:DAYLIGHT
TZOFFSETFROM:-0600
TZOFFSETTO:-0500
TZNAME:CDT
DTSTART:20270314T080000
END:DAYLIGHT
BEGIN:STANDARD
TZOFFSETFROM:-0500
TZOFFSETTO:-0600
TZNAME:CST
DTSTART:20271107T070000
END:STANDARD
END:VTIMEZONE
BEGIN:VEVENT
DTSTART;TZID=America/Chicago:20260314T080000
DTEND;TZID=America/Chicago:20260314T140000
DTSTAMP:20260419T190242
CREATED:20260128T232251Z
LAST-MODIFIED:20260128T232458Z
UID:10003287-1773475200-1773496800@soks.org
SUMMARY:Special Smiles at Youth State Basketball
DESCRIPTION:Healthy Athletes® – Special SmilesSpecial Smiles is a Healthy Athletes® discipline offered at Youth State Basketball in Emporia\, providing Special Olympics athletes with free dental screenings and oral health education. Athletes can receive oral health screenings\, brushing and flossing instruction\, fluoride varnish application\, and access to mouthguard fittings. By increasing awareness and access to dental care\, Special Smiles helps reduce oral health disparities for individuals with intellectual and developmental disabilities (IDD) and supports healthier\, more confident athletes—on and off the field. \nFor more information on the event or to sign up to volunteer\, use the following link: https://soks.givepulse.com/event/815341-healthy-athletes-special-smiles-youth-state-basketball \nIf you have any questions regarding the event\, please email your Healthy Athletes contact\, Rhae Burt\, at burtr@soks.org 
URL:https://soks.org/event/special-smiles-at-youth-state-basketball/
LOCATION:Emporia State University Student Rec Center\, 1800 Morse Rd\, Emporia\, KS 66801\, Emporia\, 66801\, United States
CATEGORIES:Health & Fitness
ATTACH;FMTTYPE=image/jpeg:https://soks.org/wp-content/uploads/2026/01/HA_Special_Smiles_CMYK.jpg
END:VEVENT
END:VCALENDAR