BEGIN:VCALENDAR
VERSION:2.0
PRODID:-//Special Olympics Kansas - ECPv6.15.20//NONSGML v1.0//EN
CALSCALE:GREGORIAN
METHOD:PUBLISH
X-ORIGINAL-URL:https://soks.org
X-WR-CALDESC:Events for Special Olympics Kansas
REFRESH-INTERVAL;VALUE=DURATION:PT1H
X-Robots-Tag:noindex
X-PUBLISHED-TTL:PT1H
BEGIN:VTIMEZONE
TZID:America/Chicago
BEGIN:DAYLIGHT
TZOFFSETFROM:-0600
TZOFFSETTO:-0500
TZNAME:CDT
DTSTART:20250309T080000
END:DAYLIGHT
BEGIN:STANDARD
TZOFFSETFROM:-0500
TZOFFSETTO:-0600
TZNAME:CST
DTSTART:20251102T070000
END:STANDARD
BEGIN:DAYLIGHT
TZOFFSETFROM:-0600
TZOFFSETTO:-0500
TZNAME:CDT
DTSTART:20260308T080000
END:DAYLIGHT
BEGIN:STANDARD
TZOFFSETFROM:-0500
TZOFFSETTO:-0600
TZNAME:CST
DTSTART:20261101T070000
END:STANDARD
BEGIN:DAYLIGHT
TZOFFSETFROM:-0600
TZOFFSETTO:-0500
TZNAME:CDT
DTSTART:20270314T080000
END:DAYLIGHT
BEGIN:STANDARD
TZOFFSETFROM:-0500
TZOFFSETTO:-0600
TZNAME:CST
DTSTART:20271107T070000
END:STANDARD
END:VTIMEZONE
BEGIN:VEVENT
DTSTART;TZID=America/Chicago:20260516T090000
DTEND;TZID=America/Chicago:20260516T120000
DTSTAMP:20260419T170949
CREATED:20260309T221000Z
LAST-MODIFIED:20260309T221000Z
UID:10003296-1778922000-1778932800@soks.org
SUMMARY:Healthy Athletes Opening Eyes Q&A
DESCRIPTION:Stop by the Healthy Athletes Opening Eyes Q&A Table during the South Central Regional Tennis competition to learn more about vision health and the resources available through Special Olympics Kansas. \nThis informational table will be available on May 16\, 2026\, from 9:00 a.m. to 12:00 p.m. at Bishop Carroll Catholic High School. \nWhile this will not be a full Healthy Athletes screening\, the Opening Eyes table will provide athletes\, families\, and coaches with the opportunity to ask questions about vision health\, eye care\, and the Healthy Athletes Opening Eyes program. Staff and volunteers will be available to share information about the importance of eye exams\, proper eyewear\, and how athletes can access vision screenings and services through Special Olympics programs. \nIf you are attending the South Central Regional Tennis tournament\, be sure to stop by the table to learn more about how Healthy Athletes programs help support the overall health and wellness of Special Olympics athletes.
URL:https://soks.org/event/healthy-athletes-opening-eyes-qa/
LOCATION:Bishop Carroll Catholic High School\, 8101 W Central Ave\, Wichita\, 67212\, United States
CATEGORIES:Health & Fitness,South Central Region
ATTACH;FMTTYPE=image/jpeg:https://soks.org/wp-content/uploads/2022/10/Opening-Eye-SOKS.jpg
ORGANIZER;CN="Erin McDaniel":MAILTO:mcdaniele@soks.org
END:VEVENT
END:VCALENDAR