BEGIN:VCALENDAR
VERSION:2.0
PRODID:-//Special Olympics Kansas - ECPv6.15.20//NONSGML v1.0//EN
CALSCALE:GREGORIAN
METHOD:PUBLISH
X-ORIGINAL-URL:https://soks.org
X-WR-CALDESC:Events for Special Olympics Kansas
REFRESH-INTERVAL;VALUE=DURATION:PT1H
X-Robots-Tag:noindex
X-PUBLISHED-TTL:PT1H
BEGIN:VTIMEZONE
TZID:America/Chicago
BEGIN:DAYLIGHT
TZOFFSETFROM:-0600
TZOFFSETTO:-0500
TZNAME:CDT
DTSTART:20240310T080000
END:DAYLIGHT
BEGIN:STANDARD
TZOFFSETFROM:-0500
TZOFFSETTO:-0600
TZNAME:CST
DTSTART:20241103T070000
END:STANDARD
BEGIN:DAYLIGHT
TZOFFSETFROM:-0600
TZOFFSETTO:-0500
TZNAME:CDT
DTSTART:20250309T080000
END:DAYLIGHT
BEGIN:STANDARD
TZOFFSETFROM:-0500
TZOFFSETTO:-0600
TZNAME:CST
DTSTART:20251102T070000
END:STANDARD
BEGIN:DAYLIGHT
TZOFFSETFROM:-0600
TZOFFSETTO:-0500
TZNAME:CDT
DTSTART:20260308T080000
END:DAYLIGHT
BEGIN:STANDARD
TZOFFSETFROM:-0500
TZOFFSETTO:-0600
TZNAME:CST
DTSTART:20261101T070000
END:STANDARD
END:VTIMEZONE
BEGIN:VEVENT
DTSTART;TZID=America/Chicago:20250901T080000
DTEND;TZID=America/Chicago:20250915T170000
DTSTAMP:20260424T052209
CREATED:20250723T164459Z
LAST-MODIFIED:20250811T214320Z
UID:10003195-1756713600-1757955600@soks.org
SUMMARY:Chicken N’ Pickle Cup Campaign
DESCRIPTION:Chicken N’ Pickle Cup Campaign – Benefiting Special Olympics KansasDate: September 1\, 2025 (and throughout the month!)Time: 8:00 AM – 11:59 PMLocation: Chicken N Pickle – Wichita\, 1240 N Greenwich Rd\, Wichita\, KS 67206Event Contacts: Ryan Warren (warrenr@soks.org) \nDrink for a cause! During the month of September\, Special Olympics Kansas is proud to be a featured nonprofit in Chicken N’ Pickle’s Community Cup Campaign. Every time you purchase a fountain drink\, $0.25 is donated to support our athletes across the state! \nThis is a simple and delicious way to give back. Just stop by Chicken N’ Pickle Wichita\, enjoy your favorite meal and beverage\, and know you’re helping create more inclusive sports opportunities for individuals with intellectual disabilities.
URL:https://soks.org/event/chicken-n-pickle-cup-campaign/
LOCATION:Chicken N Pickle – Wichita\, 1240 N Greenwich Road\, Wichita\, 67206\, United States
CATEGORIES:Fundraising Events,South Central Region
ATTACH;FMTTYPE=image/png:https://soks.org/wp-content/uploads/2025/07/ICT-Community-Cup-September-1-15-.png
ORGANIZER;CN="Ryan Warren":MAILTO:warrenr@soks.org
END:VEVENT
BEGIN:VEVENT
DTSTART;TZID=America/Chicago:20250906T090000
DTEND;TZID=America/Chicago:20250906T140000
DTSTAMP:20260424T052209
CREATED:20250617T152230Z
LAST-MODIFIED:20250617T160016Z
UID:10003187-1757149200-1757167200@soks.org
SUMMARY:South Central Regional Softball
DESCRIPTION:South Central Regional Softball TournamentDate: Saturday\, Sept. 6\, 2025Time: 9 a.m. – 2 p.m.Location: TRYC Wichita \nBatter up! Join us for the South Central Regional Softball Tournament\, where Special Olympics Kansas athletes will take the field for a day of spirited competition\, teamwork and fun. Game play is set to begin at 9 a.m.\, with teams battling it out through the early afternoon. \nThis event offers athletes the opportunity to showcase their skills\, celebrate personal achievements and experience the camaraderie that comes with team sports. Fans\, families and community members are encouraged to come out and support these incredible athletes. \nBring your cheers and help us create an unforgettable day on the diamond! \nVolunteer at this event
URL:https://soks.org/event/south-central-regional-softball-3/
LOCATION:Two Rivers Youth Club\, 1700 N Ridge Rd\, Wichita\, 67212\, United States
CATEGORIES:South Central Region,Sporting Event,Sports,Volunteer
ATTACH;FMTTYPE=image/jpeg:https://soks.org/wp-content/uploads/2025/02/090624_SONA_SOFTBALL_Competition_MCatini-0042-3799-scaled.jpg
ORGANIZER;CN="Kylee Monseu":MAILTO:monseuk@soks.org
END:VEVENT
BEGIN:VEVENT
DTSTART;TZID=America/Chicago:20250906T140000
DTEND;TZID=America/Chicago:20250906T200000
DTSTAMP:20260424T052209
CREATED:20250506T211006Z
LAST-MODIFIED:20250521T155722Z
UID:10003176-1757167200-1757188800@soks.org
SUMMARY:Northwest Kansas Truck Convoy
DESCRIPTION:Northwest Kansas Truck Convoy\nPresented by the Kansas Law Enforcement Torch RunDate: Saturday\, September 6\, 2025Time: 2:00 PM – 8:00 PMEnding Location: Colby Event Center – Auxiliary Gym\, 1200 S Franklin Ave\, Colby\, KS 67701Register or donate: charity.pledgeit.org/NWKS \nThe Northwest Kansas Truck Convoy\, a proud tradition of the Kansas Law Enforcement Torch Run (LETR)\, is back and bigger than ever! Join us as truckers\, law enforcement\, and community members come together to celebrate and support Special Olympics Kansas athletes in a day full of horsepower\, heart\, and hometown pride. \nThis unique event includes two convoy legs that will roll into Colby for a community celebration complete with dinner\, a live auction\, yard games\, and a truck parade through town. \nConvoy Details:\nWestern Leg – Goodland\, KSShort and Son Trucking: 1016 W Highland 24Registration: 2:30 PM MT | Convoy Departs: 3:15 PM MT \nEastern Leg – Oakley\, KS\nMittens TA: 1001 Highway 40Registration: 3:30 PM CT | Convoy Departs: 4:30 PM CT \nArrival & Celebration in Colby:\n4:30 PM – Meet at Short and Son Trucking and Mittens: Head to Colby \n5:00 PM – Arrive in Colby and line up on Horton Ave\, outside Oasis \n5:15 PM – Parade begins through town \n5:45 PM – Parade ends; arrive at the Event Center \n5:45 PM – 6:45 PM – Dinner is served \n6:45 PM – Performance begins \nSilent Auction will be open during dinner. Closes at 7:00 PM. \nEntry Fees:\n\n\nTrucks with 5+ wheels: $100 \n\n\nVehicles with 4 or fewer wheels: $50 \n\n\nAll vehicles must be road-safe to participate in the convoy parade. \n\n\nJoin us for an unforgettable day supporting a powerful cause—inclusion and opportunity for athletes with intellectual disabilities across Kansas. Whether you’re behind the wheel or on the sidelines\, you’re part of something extraordinary. \nFor questions\, contact: Katelyn Andrist – andristk@soks.org
URL:https://soks.org/event/northwest-kansas-truck-convoy-2/
CATEGORIES:Fundraising Events,LETR,Special,West Region
ATTACH;FMTTYPE=image/png:https://soks.org/wp-content/uploads/2025/03/LETR-TruckConvoyLogo-2024.png
ORGANIZER;CN="Katelyn Andrist":MAILTO:andristk@sosk.org
END:VEVENT
END:VCALENDAR