BEGIN:VCALENDAR
VERSION:2.0
PRODID:-//Special Olympics Kansas - ECPv6.15.20//NONSGML v1.0//EN
CALSCALE:GREGORIAN
METHOD:PUBLISH
X-ORIGINAL-URL:https://soks.org
X-WR-CALDESC:Events for Special Olympics Kansas
REFRESH-INTERVAL;VALUE=DURATION:PT1H
X-Robots-Tag:noindex
X-PUBLISHED-TTL:PT1H
BEGIN:VTIMEZONE
TZID:America/Chicago
BEGIN:DAYLIGHT
TZOFFSETFROM:-0600
TZOFFSETTO:-0500
TZNAME:CDT
DTSTART:20240310T080000
END:DAYLIGHT
BEGIN:STANDARD
TZOFFSETFROM:-0500
TZOFFSETTO:-0600
TZNAME:CST
DTSTART:20241103T070000
END:STANDARD
BEGIN:DAYLIGHT
TZOFFSETFROM:-0600
TZOFFSETTO:-0500
TZNAME:CDT
DTSTART:20250309T080000
END:DAYLIGHT
BEGIN:STANDARD
TZOFFSETFROM:-0500
TZOFFSETTO:-0600
TZNAME:CST
DTSTART:20251102T070000
END:STANDARD
BEGIN:DAYLIGHT
TZOFFSETFROM:-0600
TZOFFSETTO:-0500
TZNAME:CDT
DTSTART:20260308T080000
END:DAYLIGHT
BEGIN:STANDARD
TZOFFSETFROM:-0500
TZOFFSETTO:-0600
TZNAME:CST
DTSTART:20261101T070000
END:STANDARD
END:VTIMEZONE
BEGIN:VEVENT
DTSTART;TZID=America/Chicago:20251011T090000
DTEND;TZID=America/Chicago:20251011T130000
DTSTAMP:20260422T033309
CREATED:20250724T192612Z
LAST-MODIFIED:20250724T192612Z
UID:10003197-1760173200-1760187600@soks.org
SUMMARY:North Central Unified Basketball Match Day
DESCRIPTION:North Central Unified Basketball Match Day\nDate: Saturday\, October 11\, 2025Time: 9:00 AM – 1:00 PMLocation: Shawnee Heights Middle & High School (4201 SE Shawnee Heights Rd\, Tecumseh\, KS 66542)Event Contact: Caroline Meyers (meyersc@soks.org) \nVolunteer Sign-Up: https://givepul.se/lx6pvz \nGet ready to hit the court for a day of inclusion\, teamwork\, and competition at the North Central Unified Basketball Match Day! This exciting event brings together students with and without intellectual disabilities to compete as teammates in the spirit of unity and sportsmanship. \nUnified Sports foster meaningful connections both on and off the court—and this match day will showcase the power of inclusion through fast-paced basketball action and supportive community energy. \nVolunteers are needed! Help with scorekeeping\, team support\, event setup\, and cheering on athletes. No experience required—just bring your enthusiasm and team spirit! \nJoin us in making this a memorable day for all athletes\, partners\, and fans.
URL:https://soks.org/event/north-central-unified-basketball-match-day/
LOCATION:Shawnee Heights High School\, 4201 SE Shawnee Heights Rd\, Tecumseh\, KS\, 66542\, United States
CATEGORIES:North Central Region,Sporting Event,Sports,Unified
ATTACH;FMTTYPE=image/jpeg:https://soks.org/wp-content/uploads/2024/11/Basketball3-scaled.jpg
ORGANIZER;CN="Caroline Meyers":MAILTO:meyersc@soks.org
END:VEVENT
BEGIN:VEVENT
DTSTART;TZID=America/Chicago:20251011T090000
DTEND;TZID=America/Chicago:20251011T130000
DTSTAMP:20260422T033309
CREATED:20250815T155522Z
LAST-MODIFIED:20250815T155522Z
UID:10003216-1760173200-1760187600@soks.org
SUMMARY:KC Metro Unified Basketball Match Day
DESCRIPTION:KC Metro Unified Basketball Match DayDate: Saturday\, October 11\, 2025Time: 9:00 AM – 1:00 PMLocation: Bonner Springs High School (100 McDanield St\, Bonner Springs\, KS 66012) \nJoin us for the Metro Unified Basketball Match Day\, where Unified Champion Schools from across the region will come together for a day of exciting competition. This event is designed to determine proper divisioning for teams and help them prepare for upcoming tournament play. \nAthletes with and without intellectual disabilities will take the court together\, showcasing teamwork\, sportsmanship\, and inclusion through the power of Unified Sports. \nVolunteer Opportunities:We’re always looking for community members to help make events like this possible. Sign up here: Volunteer Link
URL:https://soks.org/event/kc-metro-unified-basketball-match-day/
LOCATION:Bonner Springs High School\, 100 McDanield St\, Bonner Springs\, KS\, 66012\, United States
CATEGORIES:Metro Region,Sporting Event,Sports,Unified,Volunteer
ATTACH;FMTTYPE=image/jpeg:https://soks.org/wp-content/uploads/2024/11/Basketball3-scaled.jpg
ORGANIZER;CN="Caroline Meyers":MAILTO:meyersc@soks.org
END:VEVENT
BEGIN:VEVENT
DTSTART;TZID=America/Chicago:20251011T160000
DTEND;TZID=America/Chicago:20251011T200000
DTSTAMP:20260422T033309
CREATED:20250730T145703Z
LAST-MODIFIED:20250730T145737Z
UID:10003207-1760198400-1760212800@soks.org
SUMMARY:Topgolf Tip-A-Cop – Overland Park
DESCRIPTION:Topgolf Tip-A-Cop – Overland Park\nDate: Saturday\, October 11\, 2025Time: 4:00 PM – 8:00 PMLocation: Topgolf Overland Park (10611 Nall Ave\, Overland Park\, KS 66207)Event Contacts: Ryan Warren (warrenr@soks.org) \nTee up for a cause! Join local law enforcement officers at Topgolf Overland Park for a fun and impactful evening at Tip-A-Cop\, benefiting Special Olympics Kansas. \nAs part of the Law Enforcement Torch Run® (LETR)\, officers will be on-site serving guests\, sharing the mission of Special Olympics\, and collecting “tips” (donations) to support thousands of athletes across the state. \n\nHit the bays with friends and family\nMeet local officers supporting inclusion\nHelp empower individuals with intellectual disabilities through sport\n\nWhether you’re there to compete\, unwind\, or just enjoy the energy\, every swing supports a stronger\, more inclusive community. \nDon’t miss your chance to golf for good. All proceeds directly benefit Special Olympics Kansas athletes and programs. \nReserve your bay!
URL:https://soks.org/event/72848/
LOCATION:Topgolf Overland Park\, 10611 Nall Ave\, Overland Park\, United States
CATEGORIES:Fundraising Events,LETR,Metro Region
ATTACH;FMTTYPE=image/svg+xml:https://soks.org/wp-content/uploads/2024/08/topgolf-logo.svg
ORGANIZER;CN="Ryan Warren":MAILTO:warrenr@soks.org
END:VEVENT
BEGIN:VEVENT
DTSTART;TZID=America/Chicago:20251011T160000
DTEND;TZID=America/Chicago:20251011T200000
DTSTAMP:20260422T033309
CREATED:20250730T150340Z
LAST-MODIFIED:20250730T150340Z
UID:10003208-1760198400-1760212800@soks.org
SUMMARY:Topgolf Tip-A-Cop – Wichita
DESCRIPTION:Topgolf Tip-A-Cop – Wichita\nDate: Saturday\, September 13\, 2025Time: 4:00 PM – 8:00 PMLocation: Topgolf Wichita (2976 N Greenwich Rd\, Wichita\, KS 67226) \nJoin local law enforcement officers for an unforgettable evening of fun\, fundraising\, and community impact at Topgolf Tip-A-Cop in Wichita! \nAs part of the Law Enforcement Torch Run® (LETR) for Special Olympics Kansas\, officers will swap out their uniforms for golf bays—serving guests\, collecting “tips” (donations)\, and raising awareness for the athletes of Special Olympics Kansas. \n\nEnjoy a night at Topgolf\nMeet local officers supporting inclusion\nHelp empower athletes with intellectual disabilities\n\nWhether you’re a regular or a first-timer at Topgolf\, this is the perfect opportunity to play golf and support Special Olympics programming across the state. \nAll donations collected during the event go directly to Special Olympics Kansas. Let’s tee up for a great cause! \nReserve your bay!
URL:https://soks.org/event/topgolf-tip-a-cop-wichita-2/
LOCATION:Topgolf Wichita\, 2976 N Greenwich Rd\, Wichita\, 67226\, United States
CATEGORIES:Fundraising Events,LETR,South Central Region
ATTACH;FMTTYPE=image/svg+xml:https://soks.org/wp-content/uploads/2024/08/topgolf-logo.svg
ORGANIZER;CN="Jake LaMunyon":MAILTO:lamunyonj@soks.org
END:VEVENT
END:VCALENDAR