BEGIN:VCALENDAR
VERSION:2.0
PRODID:-//Special Olympics Kansas - ECPv6.15.20//NONSGML v1.0//EN
CALSCALE:GREGORIAN
METHOD:PUBLISH
X-ORIGINAL-URL:https://soks.org
X-WR-CALDESC:Events for Special Olympics Kansas
REFRESH-INTERVAL;VALUE=DURATION:PT1H
X-Robots-Tag:noindex
X-PUBLISHED-TTL:PT1H
BEGIN:VTIMEZONE
TZID:America/Chicago
BEGIN:DAYLIGHT
TZOFFSETFROM:-0600
TZOFFSETTO:-0500
TZNAME:CDT
DTSTART:20250309T080000
END:DAYLIGHT
BEGIN:STANDARD
TZOFFSETFROM:-0500
TZOFFSETTO:-0600
TZNAME:CST
DTSTART:20251102T070000
END:STANDARD
BEGIN:DAYLIGHT
TZOFFSETFROM:-0600
TZOFFSETTO:-0500
TZNAME:CDT
DTSTART:20260308T080000
END:DAYLIGHT
BEGIN:STANDARD
TZOFFSETFROM:-0500
TZOFFSETTO:-0600
TZNAME:CST
DTSTART:20261101T070000
END:STANDARD
BEGIN:DAYLIGHT
TZOFFSETFROM:-0600
TZOFFSETTO:-0500
TZNAME:CDT
DTSTART:20270314T080000
END:DAYLIGHT
BEGIN:STANDARD
TZOFFSETFROM:-0500
TZOFFSETTO:-0600
TZNAME:CST
DTSTART:20271107T070000
END:STANDARD
END:VTIMEZONE
BEGIN:VEVENT
DTSTART;TZID=America/Chicago:20260509T080000
DTEND;TZID=America/Chicago:20260509T170000
DTSTAMP:20260421T174428
CREATED:20251118T185839Z
LAST-MODIFIED:20251118T185839Z
UID:10003263-1778313600-1778346000@soks.org
SUMMARY:Border War Powerlifting Competition
DESCRIPTION:Border War Powerlifting Competition\nDate: May 9\, 2026Time: 8:00 AM – 5:00 PMLocation: Strong Barbell Club4209 Merriam Dr\, Shawnee\, KS 66203 \nJoin us for an electrifying day of strength and determination at the Border War Powerlifting Competition! Hosted at Strong Barbell Club\, this event brings together athletes for an intense and inspiring showcase of powerlifting skill. Competitors will push their limits in a supportive environment as they take on lifts that test strength\, technique\, and perseverance. \nThe Border War Powerlifting Competition is a highlight event\, offering athletes the chance to challenge themselves\, achieve personal bests\, and celebrate the results of their hard work and training. \nSpectators\, families\, and supporters are encouraged to come out and cheer on these incredible athletes as they demonstrate what true strength looks like—on and off the platform.
URL:https://soks.org/event/border-war-powerlifting-competition/
LOCATION:Strong Barbell Club\, 4209 Merriam Dr\, Shawnee\, 66203\, United States
CATEGORIES:Metro Region,Sporting Event,Sports
ATTACH;FMTTYPE=image/jpeg:https://soks.org/wp-content/uploads/2024/11/POwerlifting1-scaled.jpg
ORGANIZER;CN="Tim Rehder":MAILTO:rehdert@soks.org
END:VEVENT
BEGIN:VEVENT
DTSTART;TZID=America/Chicago:20260509T090000
DTEND;TZID=America/Chicago:20260509T130000
DTSTAMP:20260421T174428
CREATED:20260115T171640Z
LAST-MODIFIED:20260421T154934Z
UID:10003284-1778317200-1778331600@soks.org
SUMMARY:Unified KC Metro & North Central Track and Field
DESCRIPTION:Join us for an exciting day of competition at the 2026 Unified Track and Field Meet! \nThis event marks the 2nd annual Unified Track and Field meet for teams from the KC Metro and North Central areas. Athletes with and without intellectual disabilities will compete together in a variety of track and field events that highlight teamwork\, inclusion\, and sportsmanship. \n📅 Date: Saturday\, May 9\, 2026⏰ Time: 9:00 a.m. – 1:00 p.m.📍 Location: West Middle School (2700 Harvard Road\, Lawrence\, KS 66049) \nAthletes will take part in running\, jumping\, and throwing events throughout the morning\, building skills\, confidence\, and friendships along the way. \nInterested in volunteering? Sign up here:🔗 https://givepul.se/70qt8q \nCome cheer on the athletes and be part of a day that celebrates inclusion through sport!
URL:https://soks.org/event/unified-mc-metro-north-central-track-and-field/
LOCATION:West Middle School\, 2700 Harvard Road\, Lawrence\, KS\, 66049\, United States
CATEGORIES:Metro Region,North Central Region,Sporting Event,Sports,Unified,Volunteer
ATTACH;FMTTYPE=image/jpeg:https://soks.org/wp-content/uploads/2024/11/Track-scaled.jpg
ORGANIZER;CN="Caroline Meyers":MAILTO:meyersc@soks.org
END:VEVENT
BEGIN:VEVENT
DTSTART;TZID=America/Chicago:20260509T100000
DTEND;TZID=America/Chicago:20260509T110000
DTSTAMP:20260421T174428
CREATED:20260309T220556Z
LAST-MODIFIED:20260309T220556Z
UID:10003295-1778320800-1778324400@soks.org
SUMMARY:Young Athletes Fest
DESCRIPTION:Join us for the Young Athletes Fest\, a fun and inclusive event designed especially for our youngest athletes! Held alongside the Unified Track & Field competition\, this exciting celebration welcomes all children ages 2–12 to experience the joy of movement\, sports\, and teamwork. \nThe event will take place at Lawrence Free State High School and will feature a variety of engaging sports and play stations designed to help children build confidence\, develop motor skills\, and discover a love for physical activity. Activities will be inspired by track and field events\, focusing on foundational skills like walking\, running\, balance\, jumping\, and coordination. \nParticipants will rotate through interactive stations and will also have the opportunity to take part in a fun run on the track\, where every child will cross the finish line and receive a medal to celebrate their achievement! 🏅 \nFamilies are encouraged to come early or stay after to enjoy the excitement of the Unified Track & Field competition\, which begins at 9:00 a.m.\, and learn more about Unified sports and other future Special Olympics Kansas opportunities. \nImportant Links\n\n\nRegister to participate: https://forms.gle/TSuvtcdEgWvDQVbA7 \n\n\nVolunteer sign-up: https://www.givepulse.com/shift/5542537 \n\n\nWhether your child is new to sports or already loves to run and play\, the Young Athletes Fest is a wonderful opportunity to build skills\, make friends\, and celebrate inclusion through sports!
URL:https://soks.org/event/young-athletes-fest-5/
LOCATION:Free State High School\, 4700 Overland Dr 66049\, Lawrence\, 66049\, United States
CATEGORIES:Health & Fitness,Metro Region,Unified,Volunteer
ORGANIZER;CN="Lauren Van Volkenburgh":MAILTO:vanvolkenburghl@soks.org
END:VEVENT
END:VCALENDAR