BEGIN:VCALENDAR
VERSION:2.0
PRODID:-//Special Olympics Kansas - ECPv6.15.20//NONSGML v1.0//EN
CALSCALE:GREGORIAN
METHOD:PUBLISH
X-ORIGINAL-URL:https://soks.org
X-WR-CALDESC:Events for Special Olympics Kansas
REFRESH-INTERVAL;VALUE=DURATION:PT1H
X-Robots-Tag:noindex
X-PUBLISHED-TTL:PT1H
BEGIN:VTIMEZONE
TZID:America/Chicago
BEGIN:DAYLIGHT
TZOFFSETFROM:-0600
TZOFFSETTO:-0500
TZNAME:CDT
DTSTART:20240310T080000
END:DAYLIGHT
BEGIN:STANDARD
TZOFFSETFROM:-0500
TZOFFSETTO:-0600
TZNAME:CST
DTSTART:20241103T070000
END:STANDARD
BEGIN:DAYLIGHT
TZOFFSETFROM:-0600
TZOFFSETTO:-0500
TZNAME:CDT
DTSTART:20250309T080000
END:DAYLIGHT
BEGIN:STANDARD
TZOFFSETFROM:-0500
TZOFFSETTO:-0600
TZNAME:CST
DTSTART:20251102T070000
END:STANDARD
BEGIN:DAYLIGHT
TZOFFSETFROM:-0600
TZOFFSETTO:-0500
TZNAME:CDT
DTSTART:20260308T080000
END:DAYLIGHT
BEGIN:STANDARD
TZOFFSETFROM:-0500
TZOFFSETTO:-0600
TZNAME:CST
DTSTART:20261101T070000
END:STANDARD
END:VTIMEZONE
BEGIN:VEVENT
DTSTART;TZID=America/Chicago:20250719T090000
DTEND;TZID=America/Chicago:20250719T120000
DTSTAMP:20260420T005041
CREATED:20250422T165313Z
LAST-MODIFIED:20250422T165313Z
UID:10003170-1752915600-1752926400@soks.org
SUMMARY:North Central Regional Swimming
DESCRIPTION:North Central Regional Swimming CompetitionDate: Saturday\, July 19\, 2025Time: 9:00 AM – 12:00 PMLocation: Hummer Sports Park Natatorium530 SW Tuffy Kellogg Dr #03/02\, Topeka\, KS 66606 \nJoin us in Topeka as athletes from across the region dive into competition at the North Central Regional Swimming Competition! This event brings together Special Olympics Kansas athletes from the North Central area for a morning of excitement\, competition\, and camaraderie in the pool. \nCheer on these incredible swimmers as they showcase their skills\, determination\, and sportsmanship. Whether you’re a supporter\, volunteer\, or family member\, this is a wonderful opportunity to witness the power of sport and inclusion in action. \nFor more information\, contact Krystin Guggisberg at guggisbergk@soks.org.
URL:https://soks.org/event/north-central-regional-swimming-4/
LOCATION:Hummer Sports Park\, 2751 SW East Circle Dr S # 1\, Topeka\, KS\, 66606\, United States
CATEGORIES:North Central Region,Sporting Event,Sports
ATTACH;FMTTYPE=image/jpeg:https://soks.org/wp-content/uploads/2024/12/Swimming-scaled.jpg
ORGANIZER;CN="Krystin Guggisberg":MAILTO:guggisbergk@soks.org
END:VEVENT
BEGIN:VEVENT
DTSTART;TZID=America/Chicago:20250723T160000
DTEND;TZID=America/Chicago:20250723T200000
DTSTAMP:20260420T005041
CREATED:20250520T214047Z
LAST-MODIFIED:20250620T182319Z
UID:10003178-1753286400-1753300800@soks.org
SUMMARY:Custard with Cops
DESCRIPTION:Custard with Cops – Benefiting Special Olympics KansasDate: Wednesday\, July 23\, 2025Time: 4:00 PM – 8:00 PMLocation: Freddy’s Frozen Custard (12 Kansas locations listed below) \nJoin us for a cool treat and a warm cause at our annual Custard with Cops event! In partnership with Freddy’s Frozen Custard\, LETR officers and Special Olympics Kansas athletes will be on-site to meet patrons\, build community\, and collect freewill donations to support year-round programs for athletes with intellectual disabilities. \n\n15% of all sales during the event will be donated back to Special Olympics Kansas thanks to Freddy’s incredible Give Back program.\nMeet your local law enforcement officers and athletes at participating locations!\nFredHead mascot appearances at select Wichita locations.\nShare our event on Facebook\n\nParticipating Freddy’s Locations: \n\n\nTopeka – Wanamaker: 1050 SW Wanamaker Rd \n\n\nTopeka – Gage: 2135 SW Gage Blvd \n\n\nManhattan: 229 McCall Rd \n\n\nLansing: 237 N. Main St \n\n\nHutchinson: 1501 E. 17th St \n\n\nNewton: 520 SE 14th St \n\n\nMcPherson: 202 Champlin St \n\n\nDodge City: 1800 Wyatt Earp Blvd \n\n\nWichita – West: 8621 W. 21st St N (LETR/Athletes/FredHead: 4–5:30 PM) \n\n\nWichita – East: 11525 E. 13th St N (LETR/Athletes/FredHead: 6:30–8 PM) \n\n\nWichita – Rock Rd: 310 N. Rock Rd \n\n\nWichita – South: 3450 S. Meridian Ave \n\n\nBring your appetite and your support—let’s make a difference together\, one scoop at a time!
URL:https://soks.org/event/custard-with-cops-2/
CATEGORIES:Fundraising Events,LETR,North Central Region,South Central Region,West Region
ATTACH;FMTTYPE=image/jpeg:https://soks.org/wp-content/uploads/2025/05/CustardFBCover1.jpg
ORGANIZER;CN="Jake LaMunyon":MAILTO:lamunyonj@soks.org
END:VEVENT
BEGIN:VEVENT
DTSTART;TZID=America/Chicago:20250726T090000
DTEND;TZID=America/Chicago:20250726T150000
DTSTAMP:20260420T005041
CREATED:20250422T165521Z
LAST-MODIFIED:20250422T165521Z
UID:10003171-1753520400-1753542000@soks.org
SUMMARY:North Central Regional Bowling
DESCRIPTION:North Central Regional Bowling CompetitionDate: Saturday\, July 26\, 2025Time: 9:00 AM – 3:00 PMLocation: West Ridge Lanes1935 SW Westport Dr\, Topeka\, KS 66604 \nStrike up some fun and join us in Topeka for the North Central Regional Bowling Competition! This exciting event welcomes Special Olympics Kansas athletes from the North Central region to showcase their skills on the lanes in a day full of friendly competition and community spirit. \nWhether you’re a fan\, family member\, or volunteer\, you won’t want to miss this celebration of sportsmanship\, determination\, and inclusion. Come cheer on these amazing athletes as they roll toward victory! \nFor more information\, contact Krystin Guggisberg at guggisbergk@soks.org.
URL:https://soks.org/event/north-central-regional-bowling-5/
LOCATION:West Ridge Lanes Family Fun\, 1935 SW Westport Dr\, Topeka\, 66604\, United States
CATEGORIES:North Central Region,Sporting Event,Sports
ATTACH;FMTTYPE=image/jpeg:https://soks.org/wp-content/uploads/2022/07/Bowling-Photo.jpg
ORGANIZER;CN="Krystin Guggisberg":MAILTO:guggisbergk@soks.org
END:VEVENT
END:VCALENDAR