BEGIN:VCALENDAR
VERSION:2.0
PRODID:-//Special Olympics Kansas - ECPv6.15.20//NONSGML v1.0//EN
CALSCALE:GREGORIAN
METHOD:PUBLISH
X-WR-CALNAME:Special Olympics Kansas
X-ORIGINAL-URL:https://soks.org
X-WR-CALDESC:Events for Special Olympics Kansas
REFRESH-INTERVAL;VALUE=DURATION:PT1H
X-Robots-Tag:noindex
X-PUBLISHED-TTL:PT1H
BEGIN:VTIMEZONE
TZID:America/Chicago
BEGIN:DAYLIGHT
TZOFFSETFROM:-0600
TZOFFSETTO:-0500
TZNAME:CDT
DTSTART:20240310T080000
END:DAYLIGHT
BEGIN:STANDARD
TZOFFSETFROM:-0500
TZOFFSETTO:-0600
TZNAME:CST
DTSTART:20241103T070000
END:STANDARD
BEGIN:DAYLIGHT
TZOFFSETFROM:-0600
TZOFFSETTO:-0500
TZNAME:CDT
DTSTART:20250309T080000
END:DAYLIGHT
BEGIN:STANDARD
TZOFFSETFROM:-0500
TZOFFSETTO:-0600
TZNAME:CST
DTSTART:20251102T070000
END:STANDARD
BEGIN:DAYLIGHT
TZOFFSETFROM:-0600
TZOFFSETTO:-0500
TZNAME:CDT
DTSTART:20260308T080000
END:DAYLIGHT
BEGIN:STANDARD
TZOFFSETFROM:-0500
TZOFFSETTO:-0600
TZNAME:CST
DTSTART:20261101T070000
END:STANDARD
END:VTIMEZONE
BEGIN:VEVENT
DTSTART;TZID=America/Chicago:20250802T100000
DTEND;TZID=America/Chicago:20250802T150000
DTSTAMP:20260419T231853
CREATED:20241217T211321Z
LAST-MODIFIED:20241217T211321Z
UID:10003130-1754128800-1754146800@soks.org
SUMMARY:2025 State Swimming
DESCRIPTION:State Swimming Championship \nMake a splash at the 2025 State Swimming Championship as Special Olympics Kansas athletes showcase their talent and determination in the pool! \n📅 Saturday\, August 2\, 2025\n🕙 10:00 AM – 3:00 PM\n📍 USD 501/Hummer Sports Park Natatorium\n(530 SW Tuffy Kellogg Dr\, Topeka\, KS 66606) \nJoin us for an exciting day of swimming events as athletes from across the state compete in various races and demonstrate their hard work and dedication. Cheer them on as they strive for personal bests and celebrate their achievements in the water! \nFor more information\, visit the Special Olympics Kansas website or contact Brent Kaiser at kaiserb@soks.org.
URL:https://soks.org/event/2025-state-swimming/
LOCATION:TPS 501/Hummer Sports Park Natatorium\, 530 SW Tuffy Kellogg Dr\, Topeka\, KS\, 66606\, United States
CATEGORIES:North Central Region,Sporting Event,Sports,State,Volunteer
ATTACH;FMTTYPE=image/jpeg:https://soks.org/wp-content/uploads/2024/12/Swimming-scaled.jpg
ORGANIZER;CN="Brent Kaiser":MAILTO:kaiserb@soks.org
END:VEVENT
BEGIN:VEVENT
DTSTART;TZID=America/Chicago:20250809T090000
DTEND;TZID=America/Chicago:20250809T170000
DTSTAMP:20260419T231853
CREATED:20250306T181748Z
LAST-MODIFIED:20250724T152056Z
UID:10003148-1754730000-1754758800@soks.org
SUMMARY:Manhattan Golf Scramble
DESCRIPTION:Join Us for the Manhattan Golf Scramble!  \nGrab your clubs and get ready for a day of fun and fundraising at the Manhattan Golf Scramble\, benefiting Special Olympics Kansas! \nDate: Saturday\, August 9\, 2025Location: Stagg Hill Golf Club (4441 Stagg Hill Road\, Manhattan\, KS 66502)Tee Time: 9:00 AM \nEvent Details: \n\n4-Person Scramble Format\nEntry Fee: $100 per golfer (includes tournament play\, lunch\, and beverages)\nContests & Prizes:\n\nLongest Drive (Male & Female)\nClosest to the Pin\nOther Hole Contests\nRaffle & Auction Items\n\n\nAwards & Lunch: Stick around after the tournament for an award presentation and lunch to celebrate the day!\n\nRegister Now! Sign up here \nEntry Fee: $100 per golfer (includes tournament play\, lunch\, and beverages). To sponsor\, reach out to Katelyn Andrist at andristk@soks.org. Online payments can be done here: https://checkout.square.site/merchant/6BT4XGF5PT694/checkout/UEXRXMREUF4GJRC4MXPMFG2Y \nYour support helps provide opportunities for Special Olympics Kansas athletes. Our goal is 50 people for this first-ever tournament. Help us reach our goal by registering a team or sharing with someone you know that golfs!
URL:https://soks.org/event/manhattan-golf-scramble/
LOCATION:Stagg Hill Golf Club\, 4441 Stagg Hill Road\, Manhattan\, 66502\, United States
CATEGORIES:Fundraising Events,LETR,North Central Region,Special
ATTACH;FMTTYPE=image/jpeg:https://soks.org/wp-content/uploads/2024/04/53204787790_3678d93704_o-scaled-e1712173090512.jpg
ORGANIZER;CN="Katelyn Andrist":MAILTO:andristk@sosk.org
END:VEVENT
BEGIN:VEVENT
DTSTART;TZID=America/Chicago:20250822T070000
DTEND;TZID=America/Chicago:20250822T100000
DTSTAMP:20260419T231853
CREATED:20250520T214906Z
LAST-MODIFIED:20250808T205035Z
UID:10003179-1755846000-1755856800@soks.org
SUMMARY:Cops at Donut Shops
DESCRIPTION:Cops at Donut Shops Date: Friday\, August 22\, 2025Time: 7:00 AM – 10:00 AMLocation: All stand-alone Dunkin’ locations across Kansas \nJoin Law Enforcement Torch Run (LETR) officers and Special Olympics Kansas athletes at participating Dunkin’ locations across the state for our beloved annual event\, Cops at Donut Shops. \nLETR Officers and athletes will be on-site greeting guests\, sharing the mission of Special Olympics Kansas\, and collecting free-will donations to support year-round programming for athletes with intellectual disabilities. \nWhether you’re stopping for your morning coffee or looking to give back to your community\, this event is a fun\, easy way to start your day with purpose. \nLocations: All stand-alone Dunkin’ stores in KansasDonations: Free-will donations gladly accepted at each location \nContact for questions or media inquiries:Jake LaMunyon – lamunyonj@soks.org
URL:https://soks.org/event/cops-at-donut-shops-5/
CATEGORIES:Fundraising Events,LETR,Metro Region,North Central Region,South Central Region,Southeast Region,Special,West Region
ATTACH;FMTTYPE=image/jpeg:https://soks.org/wp-content/uploads/2025/05/Cops-FB-Cover-1-scaled.jpg
ORGANIZER;CN="Jake LaMunyon":MAILTO:lamunyonj@soks.org
END:VEVENT
END:VCALENDAR