BEGIN:VCALENDAR
VERSION:2.0
PRODID:-//Special Olympics Kansas - ECPv6.15.20//NONSGML v1.0//EN
CALSCALE:GREGORIAN
METHOD:PUBLISH
X-ORIGINAL-URL:https://soks.org
X-WR-CALDESC:Events for Special Olympics Kansas
REFRESH-INTERVAL;VALUE=DURATION:PT1H
X-Robots-Tag:noindex
X-PUBLISHED-TTL:PT1H
BEGIN:VTIMEZONE
TZID:America/Chicago
BEGIN:DAYLIGHT
TZOFFSETFROM:-0600
TZOFFSETTO:-0500
TZNAME:CDT
DTSTART:20240310T080000
END:DAYLIGHT
BEGIN:STANDARD
TZOFFSETFROM:-0500
TZOFFSETTO:-0600
TZNAME:CST
DTSTART:20241103T070000
END:STANDARD
BEGIN:DAYLIGHT
TZOFFSETFROM:-0600
TZOFFSETTO:-0500
TZNAME:CDT
DTSTART:20250309T080000
END:DAYLIGHT
BEGIN:STANDARD
TZOFFSETFROM:-0500
TZOFFSETTO:-0600
TZNAME:CST
DTSTART:20251102T070000
END:STANDARD
BEGIN:DAYLIGHT
TZOFFSETFROM:-0600
TZOFFSETTO:-0500
TZNAME:CDT
DTSTART:20260308T080000
END:DAYLIGHT
BEGIN:STANDARD
TZOFFSETFROM:-0500
TZOFFSETTO:-0600
TZNAME:CST
DTSTART:20261101T070000
END:STANDARD
END:VTIMEZONE
BEGIN:VEVENT
DTSTART;TZID=America/Chicago:20251003T080000
DTEND;TZID=America/Chicago:20251005T170000
DTSTAMP:20260419T203132
CREATED:20250910T202829Z
LAST-MODIFIED:20250910T202829Z
UID:10003224-1759478400-1759683600@soks.org
SUMMARY:Wash for a Cause with Club Car Wash
DESCRIPTION:Wash for a Cause with Club Car Wash\nOctober 3–5\, 2025 (Friday–Sunday)All day\, open to closeAll Kansas Club Car Wash locations \nGet your car shining and support a great cause during Wash for a Cause Weekend with Club Car Wash! From October 3–5\, every $5 MVP Wash purchased at any Kansas location will benefit Special Olympics Kansas\, with $1 from each wash donated to support athletes across the state. \nIt’s the perfect way to keep your car looking its best while helping create opportunities for individuals with intellectual disabilities to train\, compete\, and shine in sports and life. \nDrive in\, wash up\, and give back—because every car wash helps make a difference!
URL:https://soks.org/event/wash-for-a-cause-with-club-car-wash/
CATEGORIES:Fundraising Events,LETR,Metro Region,North Central Region,South Central Region,Special
ORGANIZER;CN="Jake LaMunyon":MAILTO:lamunyonj@soks.org
END:VEVENT
BEGIN:VEVENT
DTSTART;TZID=America/Chicago:20251011T090000
DTEND;TZID=America/Chicago:20251011T130000
DTSTAMP:20260419T203132
CREATED:20250724T192612Z
LAST-MODIFIED:20250724T192612Z
UID:10003197-1760173200-1760187600@soks.org
SUMMARY:North Central Unified Basketball Match Day
DESCRIPTION:North Central Unified Basketball Match Day\nDate: Saturday\, October 11\, 2025Time: 9:00 AM – 1:00 PMLocation: Shawnee Heights Middle & High School (4201 SE Shawnee Heights Rd\, Tecumseh\, KS 66542)Event Contact: Caroline Meyers (meyersc@soks.org) \nVolunteer Sign-Up: https://givepul.se/lx6pvz \nGet ready to hit the court for a day of inclusion\, teamwork\, and competition at the North Central Unified Basketball Match Day! This exciting event brings together students with and without intellectual disabilities to compete as teammates in the spirit of unity and sportsmanship. \nUnified Sports foster meaningful connections both on and off the court—and this match day will showcase the power of inclusion through fast-paced basketball action and supportive community energy. \nVolunteers are needed! Help with scorekeeping\, team support\, event setup\, and cheering on athletes. No experience required—just bring your enthusiasm and team spirit! \nJoin us in making this a memorable day for all athletes\, partners\, and fans.
URL:https://soks.org/event/north-central-unified-basketball-match-day/
LOCATION:Shawnee Heights High School\, 4201 SE Shawnee Heights Rd\, Tecumseh\, KS\, 66542\, United States
CATEGORIES:North Central Region,Sporting Event,Sports,Unified
ATTACH;FMTTYPE=image/jpeg:https://soks.org/wp-content/uploads/2024/11/Basketball3-scaled.jpg
ORGANIZER;CN="Caroline Meyers":MAILTO:meyersc@soks.org
END:VEVENT
BEGIN:VEVENT
DTSTART;TZID=America/Chicago:20251012T120000
DTEND;TZID=America/Chicago:20251012T150000
DTSTAMP:20260419T203132
CREATED:20250910T202728Z
LAST-MODIFIED:20250923T185001Z
UID:10003223-1760270400-1760281200@soks.org
SUMMARY:Battle of the Badges Kickball Tournament
DESCRIPTION:Battle of the Badges – Kickball Tournament\nSunday\, Oct. 12\, 2025Gates open at 12:00 PM | Competition starts at 1:00 PMHayden High School Gymnasium (401 SW Gage Blvd\, Topeka\, KS 66606) \nGet ready for an action-packed afternoon of fun\, community\, and friendly competition at the Battle of the Badges Kickball Tournament\, hosted by the Kansas Law Enforcement Torch Run (LETR) to benefit Special Olympics Kansas! \nLocal first responders will go head-to-head on the kickball court to see which team will claim bragging rights in this year’s Battle of the Badges. Fans can cheer on their favorite team while enjoying an afternoon of high-energy fun\, all for a great cause. \nThe event will also feature a silent auction with exciting prizes up for grabs\, giving you even more ways to support Special Olympics Kansas athletes. \nQuestions? Contact Dan Wilson at dwilson@topeka.org \nCome out\, show your support\, and help us celebrate inclusion through sports at this unforgettable community event
URL:https://soks.org/event/battle-of-the-badges-kickball-tournament/
LOCATION:Hayden High School\, 401 SW Gage Blvd\, Topeka\, KS\, 66606\, United States
CATEGORIES:Fundraising Events,LETR,North Central Region,Special
ATTACH;FMTTYPE=image/jpeg:https://soks.org/wp-content/uploads/2025/09/battle-of-the-badges-2025.jpg
ORGANIZER;CN="Katelyn Andrist":MAILTO:andristk@sosk.org
END:VEVENT
BEGIN:VEVENT
DTSTART;TZID=America/Chicago:20251018T090000
DTEND;TZID=America/Chicago:20251018T130000
DTSTAMP:20260419T203132
CREATED:20250422T170506Z
LAST-MODIFIED:20250422T170506Z
UID:10003173-1760778000-1760792400@soks.org
SUMMARY:North Central Regional Volleyball
DESCRIPTION:North Central Regional Volleyball CompetitionDate: Saturday\, October 18\, 2025Time: 9:00 AM – 1:00 PMLocation: Anthony Recreation Center2415 Browning Ave\, Manhattan\, KS 66502 \nBump\, set\, spike! Join us for an action-packed day of competition at the North Central Regional Volleyball Competition. Athletes from across the region will take the court at the Anthony Recreation Center to showcase their teamwork\, skills\, and sportsmanship. \nThis high-energy event is a fantastic way to support Special Olympics Kansas athletes and celebrate the power of inclusion through sport. Whether you’re cheering from the stands or volunteering\, your presence makes a difference! \nSpectators are welcome and encouraged to attend – let’s fill the stands and support our incredible teams! \nFor more information\, please contact Krystin Guggisberg at guggisbergk@soks.org.
URL:https://soks.org/event/north-central-regional-volleyball-6/
LOCATION:Anthony Recreation Center\, 2415 Browning Ave\, Manhattan\, KS\, 66502\, United States
CATEGORIES:North Central Region,Sporting Event,Sports
ATTACH;FMTTYPE=image/jpeg:https://soks.org/wp-content/uploads/2022/09/Volleyball.jpg
ORGANIZER;CN="Krystin Guggisberg":MAILTO:guggisbergk@soks.org
END:VEVENT
BEGIN:VEVENT
DTSTART;TZID=America/Chicago:20251025T090000
DTEND;TZID=America/Chicago:20251025T130000
DTSTAMP:20260419T203132
CREATED:20250730T151627Z
LAST-MODIFIED:20250730T151627Z
UID:10003209-1761382800-1761397200@soks.org
SUMMARY:North Central Unified Basketball Tournament
DESCRIPTION:North Central Unified Basketball Tournament\nDate: Saturday\, October 25\, 2025Time: 9:00 AM – 1:00 PMLocation: Washburn Rural Middle School (5620 SW 61st St\, Topeka\, KS 66619)Event Contact: Caroline Meyers (meyersc@soks.org)Volunteer Sign-Up: https://givepul.se/m0fy5h \nJoin us for an action-packed day of inclusion\, teamwork\, and competition at the North Central Unified Basketball Tournament! Athletes with and without intellectual disabilities from across the region will compete side by side for medals and memories on the court. \nUnified Sports promote social inclusion through shared training and competition—bringing together individuals of all abilities to break down barriers and build lasting friendships. \n\nHigh-energy matchups\nTeams compete for medals\nA celebration of inclusion and sportsmanship\n\nVolunteers are needed! From scorekeeping to team support and cheering in the stands\, your time makes a meaningful difference.
URL:https://soks.org/event/north-central-unified-basketball-tournament/
LOCATION:Washburn Rural Middle School\, 5620 SW 61st St\, Topeka\, 66619\, United States
CATEGORIES:North Central Region,Sporting Event,Sports,Unified,Volunteer
ATTACH;FMTTYPE=image/jpeg:https://soks.org/wp-content/uploads/2024/11/Basketball3-scaled.jpg
ORGANIZER;CN="Caroline Meyers":MAILTO:meyersc@soks.org
END:VEVENT
BEGIN:VEVENT
DTSTART;TZID=America/Chicago:20251025T090000
DTEND;TZID=America/Chicago:20251025T130000
DTSTAMP:20260419T203132
CREATED:20250807T152754Z
LAST-MODIFIED:20250807T152754Z
UID:10003212-1761382800-1761397200@soks.org
SUMMARY:North Central Unified Basketball Tournament
DESCRIPTION:North Central Unified Basketball Tournament\nDate: Saturday\, October 25\, 2025Time: 9:00 AM – 1:00 PMLocation: Washburn Rural Middle School5620 SW 61st St\, Topeka\, KS 66619Event Contact: Caroline Meyers (meyersc@soks.org)Volunteer Sign-Up: https://givepul.se/m0fy5h \nJoin us in Topeka for a high-energy day of inclusion and competition at the North Central Unified Basketball Tournament! Athletes with and without intellectual disabilities will compete side by side as teammates\, showing the power of Unified Sports and the spirit of sportsmanship. \nTeams from across the North Central region will compete for medals in an atmosphere of fun\, teamwork\, and respect. \nVolunteers are needed! Help us make the day a success by assisting with scorekeeping\, team support\, awards\, and more. No experience necessary—just bring your enthusiasm!
URL:https://soks.org/event/north-central-unified-basketball-tournament-2/
LOCATION:Washburn Rural Middle School\, 5620 SW 61st St\, Topeka\, 66619\, United States
CATEGORIES:North Central Region,Sporting Event,Sports,Unified,Volunteer
ATTACH;FMTTYPE=image/jpeg:https://soks.org/wp-content/uploads/2024/11/Basketball3-scaled.jpg
ORGANIZER;CN="Caroline Meyers":MAILTO:meyersc@soks.org
END:VEVENT
END:VCALENDAR