BEGIN:VCALENDAR
VERSION:2.0
PRODID:-//Special Olympics Kansas - ECPv6.15.20//NONSGML v1.0//EN
CALSCALE:GREGORIAN
METHOD:PUBLISH
X-ORIGINAL-URL:https://soks.org
X-WR-CALDESC:Events for Special Olympics Kansas
REFRESH-INTERVAL;VALUE=DURATION:PT1H
X-Robots-Tag:noindex
X-PUBLISHED-TTL:PT1H
BEGIN:VTIMEZONE
TZID:America/Chicago
BEGIN:DAYLIGHT
TZOFFSETFROM:-0600
TZOFFSETTO:-0500
TZNAME:CDT
DTSTART:20250309T080000
END:DAYLIGHT
BEGIN:STANDARD
TZOFFSETFROM:-0500
TZOFFSETTO:-0600
TZNAME:CST
DTSTART:20251102T070000
END:STANDARD
BEGIN:DAYLIGHT
TZOFFSETFROM:-0600
TZOFFSETTO:-0500
TZNAME:CDT
DTSTART:20260308T080000
END:DAYLIGHT
BEGIN:STANDARD
TZOFFSETFROM:-0500
TZOFFSETTO:-0600
TZNAME:CST
DTSTART:20261101T070000
END:STANDARD
BEGIN:DAYLIGHT
TZOFFSETFROM:-0600
TZOFFSETTO:-0500
TZNAME:CDT
DTSTART:20270314T080000
END:DAYLIGHT
BEGIN:STANDARD
TZOFFSETFROM:-0500
TZOFFSETTO:-0600
TZNAME:CST
DTSTART:20271107T070000
END:STANDARD
END:VTIMEZONE
BEGIN:VEVENT
DTSTART;TZID=America/Chicago:20260207T073000
DTEND;TZID=America/Chicago:20260207T130000
DTSTAMP:20260419T120243
CREATED:20251110T182817Z
LAST-MODIFIED:20251110T182817Z
UID:10003251-1770449400-1770469200@soks.org
SUMMARY:2026 Salina Polar Plunge
DESCRIPTION:2026 Salina Polar Plunge\nFebruary 7\, 2026Webster Conference Center – 2601 N Ohio St\, Salina\, KS 67401 \nWhy Plunge?\nJoin the “Coolest Pool Party of the Year” and help support the athletes of Special Olympics Kansas! Whether you’re plunging into icy waters\, volunteering\, donating or simply cheering on your friends\, your participation makes a real difference. Every dollar raised helps thousands of athletes live healthier lives\, gain confidence and feel included in their communities. \nEvent Details\n\n\nDate: February 7\, 2026 \n\n\nLocation: Webster Conference Center\, 2601 N Ohio St.\, Salina\, KS 67401 \n\n\nTentative Schedule: \n\n\n7:30‑8:30 a.m. — Pancake & sausage breakfast (suggested $5 donation) \n\n\n8:30‑9:30 a.m. — Registration for the 5K/1‑mile run/walk (Polar Strut) \n\n\n9:30‑10:30 a.m. — Polar Strut (5K/1 Mile) \n\n\n11:00‑11:15 a.m. — Awards & Prizes for runners \n\n\n11:30 a.m. — Polar Plunge \n\n\n\n\nHow to Get Involved\n\n\nRegister to plunge solo or form a team with friends\, family or coworkers. \n\n\nFundraise or donate — even a gift of $50 helps provide athlete meals at a Special Olympics event. \n\n\nVolunteer or attend as a supporter — you don’t have to take the plunge to make a splash! \n\n\nWhy Your Participation Matters\nBy joining the event in any capacity\, you help: \n\n\nEmpower athletes with intellectual disabilities to train\, compete\, belong and live full lives. \n\n\nBuild stronger\, more inclusive communities where everyone is valued. \n\n\nSupport the “One Team” mindset — when we come together\, we create meaningful change. \n\n\nReady to Make a Splash?\nRegister or start your fundraising page today. Plan your costume\, rally your team and get ready for a memorable day of courage\, community and fun!
URL:https://soks.org/event/2026-salina-polar-plunge/
LOCATION:Webster Conference Center\, 2601 N Ohio St.\, Salina\, 67401\, United States
CATEGORIES:Fundraising Events,LETR,North Central Region
ATTACH;FMTTYPE=image/png:https://soks.org/wp-content/uploads/2025/11/SALINA.png
ORGANIZER;CN="Jake LaMunyon":MAILTO:lamunyonj@soks.org
END:VEVENT
BEGIN:VEVENT
DTSTART;TZID=America/Chicago:20260214T110000
DTEND;TZID=America/Chicago:20260214T140000
DTSTAMP:20260419T120243
CREATED:20251110T181803Z
LAST-MODIFIED:20251110T181816Z
UID:10003249-1771066800-1771077600@soks.org
SUMMARY:2026 Manhattan Polar Plunge
DESCRIPTION:2026 Manhattan Polar Plunge\nFebruary 14\, 2026 • 11:00 a.m.Tuttle Creek State Park — 5800 River Pond Road\, Manhattan\, KS 66502 \nWhy Plunge?\nJoin the coolest pool party of the year in support of **Special Olympics Kansas! Gather your friends\, family\, coworkers—or take the plunge solo—and be part of something meaningful. Every dollar you raise helps provide year‑round sports training\, health and nutrition\, leadership development\, and inclusive community experiences for athletes with intellectual disabilities.Even if you’d rather stay dry\, you can still make a difference by donating\, volunteering\, or cheering on the brave plungers! \nEvent Details\n\n\nDate & Time: February 14\, 2026 at 11:00 a.m. \n\n\nLocation: Tuttle Creek State Park\, 5800 River Pond Road\, Manhattan\, KS 66502 \n\n\nPurpose: Raise funds to support Special Olympics Kansas athletes—giving them opportunities\, community\, and inclusion. \n\n\nImpact Example: A $50 donation helps provide five athlete meals at a Special Olympics event. \n\n\nHow to Get Involved\n\n\nRegister to plunge as an individual or form a team with friends\, family\, or coworkers. \n\n\nFundraise or donate—every contribution goes directly to athletes and their programs. \n\n\nVolunteer or attend as a supporter—help us make this event fun\, safe\, and unforgettable. \n\n\nJoin the spirit—you don’t have to take the plunge to be part of the impact. Encourage\, cheer\, and bring energy! \n\n\nWhy Your Participation Matters\nBy plunging\, donating\, or showing up\, you’re helping to: \n\n\nEmpower individuals with intellectual disabilities to live active\, confident\, and included lives. \n\n\nBuild stronger\, more inclusive communities where everyone belongs. \n\n\nFuel the “One Team” spirit—together we make waves of change. \n\n\nReady to Make a Splash?\nRegister your team or set up your fundraising page today. Gather your squad\, plan your costume (yes\, costumes are encouraged!)\, and get ready for a memorable day of fun\, courage\, and community.
URL:https://soks.org/event/2026-manhattan-polar-plunge/
LOCATION:Tuttle Creek State Park\, 5800 River Pond Rd A\, Manhattan\, 66502\, United States
CATEGORIES:Fundraising Events,LETR,North Central Region
ATTACH;FMTTYPE=image/png:https://soks.org/wp-content/uploads/2025/11/MANHATTAN.png
ORGANIZER;CN="Katelyn Andrist":MAILTO:andristk@sosk.org
END:VEVENT
BEGIN:VEVENT
DTSTART;TZID=America/Chicago:20260228T090000
DTEND;TZID=America/Chicago:20260228T140000
DTSTAMP:20260419T120243
CREATED:20251106T194143Z
LAST-MODIFIED:20251209T214527Z
UID:10003238-1772269200-1772287200@soks.org
SUMMARY:North Central Unified Bocce Tournament
DESCRIPTION:North Central Unified Bocce Tournament\nSaturday\, February 28\, 2026 | 9:00 AM – 2:00 PMTopeka West\, 2001 SW Fairlawn Road\, Topeka\, KS 66604 \nThe North Central Unified Bocce Tournament brings together athletes and partners from across the region for a day of fun\, competition\, and inclusion! This event is part of the Unified Sports program\, where athletes with and without intellectual disabilities compete together on the same team. \nThis tournament will also coincide with the Topeka Public Schools Cool School Plunge\, creating a full day of excitement and support for Special Olympics Kansas. Participants and volunteers will celebrate teamwork\, skill\, and sportsmanship while fostering friendships and a sense of community. \nVolunteer: Sign up on GivePulse
URL:https://soks.org/event/north-central-unified-bocce-tournament/
LOCATION:Topeka West High School\, 2001 SW Fairlawn Road\, Topeka\, 66604\, United States
CATEGORIES:North Central Region,Sporting Event,Sports,Unified,Volunteer
ATTACH;FMTTYPE=image/jpeg:https://soks.org/wp-content/uploads/2025/11/53535915965_29f999fd98_o-scaled.jpg
ORGANIZER;CN="Caroline Meyers":MAILTO:meyersc@soks.org
END:VEVENT
BEGIN:VEVENT
DTSTART;TZID=America/Chicago:20260228T090000
DTEND;TZID=America/Chicago:20260228T160000
DTSTAMP:20260419T120243
CREATED:20260115T170057Z
LAST-MODIFIED:20260115T170057Z
UID:10003278-1772269200-1772294400@soks.org
SUMMARY:North Central Regional Basketball and Cheerleading
DESCRIPTION:Join us for a high-energy day of competition at the 2026 North Central Regional Basketball and Cheer! \nThis regional tournament will bring together basketball teams and cheer squads from across north central Kansas for a full day of exciting games\, performances\, and community spirit. \n📅 Date: Saturday\, February 28\, 2026⏰ Time: 9:00 a.m. – 4:00 p.m.📍 Location: Anthony Recreation Center2415 Browning Ave\, Manhattan\, KS 66502 \nAthletes will take the court and the floor to showcase their skills in basketball and cheerleading\, demonstrating teamwork\, determination\, and the joy of competition. Spectators are encouraged to come out and support the athletes as they represent their communities. \nInterested in volunteering? Sign up here:🔗 https://www.givepulse.com/event/723113 \nCome celebrate inclusion\, sportsmanship\, and the power of sport at this regional event!
URL:https://soks.org/event/north-central-regional-basketball-and-cheerleading-2/
LOCATION:Anthony Recreation Center\, 2415 Browning Ave\, Manhattan\, KS\, 66502\, United States
CATEGORIES:North Central Region,Sporting Event,Sports,Volunteer
ATTACH;FMTTYPE=image/jpeg:https://soks.org/wp-content/uploads/2024/11/Basketball3-scaled.jpg
ORGANIZER;CN="Krystin Guggisberg":MAILTO:guggisbergk@soks.org
END:VEVENT
BEGIN:VEVENT
DTSTART;TZID=America/Chicago:20260228T100000
DTEND;TZID=America/Chicago:20260228T140000
DTSTAMP:20260419T120243
CREATED:20251110T184934Z
LAST-MODIFIED:20260107T170544Z
UID:10003252-1772272800-1772287200@soks.org
SUMMARY:2026 Topeka Polar Plunge
DESCRIPTION:2026 Topeka Polar Plunge\nFebruary 28\, 2026 | 10 AMLocation: Topeka West High School \nWhy Plunge?\nDive into the fun and chill of winter for a great cause! The 2026 Topeka Polar Plunge is a powerful way to support the athletes of Special Olympics Kansas — providing sports training\, health programs\, leadership opportunities and inclusive community experiences for individuals with intellectual disabilities. Whether you jump into the water or stand on the sidelines\, your participation matters. \n\n\nPurpose: Raise funds to support Special Olympics Kansas athletes throughout the year. \n\n\nWhat your support does: A donation helps provide meals\, training and inclusive experiences for athletes. \n\n\nHow to Get Involved\n\n\nRegister to plunge as an individual or build a team with friends\, family or coworkers. \n\n\nFundraise or donate — every dollar makes a difference. \n\n\nVolunteer or attend as a supporter — you can contribute even without jumping in the water. \n\n\nWhy Your Participation Matters\nBy plunging\, fundraising or volunteering you’re helping to: \n\n\nEmpower individuals with intellectual disabilities to feel confident\, active and included. \n\n\nCreate inclusive communities where every person is valued. \n\n\nKeep the “One Team” spirit alive—because together we make more impact. \n\n\nReady to Make a Splash?\nGather your squad\, set a fundraising goal\, plan your costume\, and register today. Let’s turn the cold waters into a warm celebration of unity\, courage and inclusion! 
URL:https://soks.org/event/2026-topeka-polar-plunge/
LOCATION:Topeka West High School\, 2001 SW Fairlawn Road\, Topeka\, 66604\, United States
CATEGORIES:Fundraising Events,LETR,North Central Region
ATTACH;FMTTYPE=image/png:https://soks.org/wp-content/uploads/2025/11/TOPEKA.png
ORGANIZER;CN="Katelyn Andrist":MAILTO:andristk@sosk.org
END:VEVENT
END:VCALENDAR