BEGIN:VCALENDAR
VERSION:2.0
PRODID:-//Special Olympics Kansas - ECPv6.15.20//NONSGML v1.0//EN
CALSCALE:GREGORIAN
METHOD:PUBLISH
X-WR-CALNAME:Special Olympics Kansas
X-ORIGINAL-URL:https://soks.org
X-WR-CALDESC:Events for Special Olympics Kansas
REFRESH-INTERVAL;VALUE=DURATION:PT1H
X-Robots-Tag:noindex
X-PUBLISHED-TTL:PT1H
BEGIN:VTIMEZONE
TZID:America/Chicago
BEGIN:DAYLIGHT
TZOFFSETFROM:-0600
TZOFFSETTO:-0500
TZNAME:CDT
DTSTART:20240310T080000
END:DAYLIGHT
BEGIN:STANDARD
TZOFFSETFROM:-0500
TZOFFSETTO:-0600
TZNAME:CST
DTSTART:20241103T070000
END:STANDARD
BEGIN:DAYLIGHT
TZOFFSETFROM:-0600
TZOFFSETTO:-0500
TZNAME:CDT
DTSTART:20250309T080000
END:DAYLIGHT
BEGIN:STANDARD
TZOFFSETFROM:-0500
TZOFFSETTO:-0600
TZNAME:CST
DTSTART:20251102T070000
END:STANDARD
BEGIN:DAYLIGHT
TZOFFSETFROM:-0600
TZOFFSETTO:-0500
TZNAME:CDT
DTSTART:20260308T080000
END:DAYLIGHT
BEGIN:STANDARD
TZOFFSETFROM:-0500
TZOFFSETTO:-0600
TZNAME:CST
DTSTART:20261101T070000
END:STANDARD
END:VTIMEZONE
BEGIN:VEVENT
DTSTART;TZID=America/Chicago:20250719T090000
DTEND;TZID=America/Chicago:20250719T120000
DTSTAMP:20260420T021702
CREATED:20250422T165313Z
LAST-MODIFIED:20250422T165313Z
UID:10003170-1752915600-1752926400@soks.org
SUMMARY:North Central Regional Swimming
DESCRIPTION:North Central Regional Swimming CompetitionDate: Saturday\, July 19\, 2025Time: 9:00 AM – 12:00 PMLocation: Hummer Sports Park Natatorium530 SW Tuffy Kellogg Dr #03/02\, Topeka\, KS 66606 \nJoin us in Topeka as athletes from across the region dive into competition at the North Central Regional Swimming Competition! This event brings together Special Olympics Kansas athletes from the North Central area for a morning of excitement\, competition\, and camaraderie in the pool. \nCheer on these incredible swimmers as they showcase their skills\, determination\, and sportsmanship. Whether you’re a supporter\, volunteer\, or family member\, this is a wonderful opportunity to witness the power of sport and inclusion in action. \nFor more information\, contact Krystin Guggisberg at guggisbergk@soks.org.
URL:https://soks.org/event/north-central-regional-swimming-4/
LOCATION:Hummer Sports Park\, 2751 SW East Circle Dr S # 1\, Topeka\, KS\, 66606\, United States
CATEGORIES:North Central Region,Sporting Event,Sports
ATTACH;FMTTYPE=image/jpeg:https://soks.org/wp-content/uploads/2024/12/Swimming-scaled.jpg
ORGANIZER;CN="Krystin Guggisberg":MAILTO:guggisbergk@soks.org
END:VEVENT
END:VCALENDAR