BEGIN:VCALENDAR
VERSION:2.0
PRODID:-//Special Olympics Kansas - ECPv6.15.20//NONSGML v1.0//EN
CALSCALE:GREGORIAN
METHOD:PUBLISH
X-ORIGINAL-URL:https://soks.org
X-WR-CALDESC:Events for Special Olympics Kansas
REFRESH-INTERVAL;VALUE=DURATION:PT1H
X-Robots-Tag:noindex
X-PUBLISHED-TTL:PT1H
BEGIN:VTIMEZONE
TZID:America/Chicago
BEGIN:DAYLIGHT
TZOFFSETFROM:-0600
TZOFFSETTO:-0500
TZNAME:CDT
DTSTART:20240310T080000
END:DAYLIGHT
BEGIN:STANDARD
TZOFFSETFROM:-0500
TZOFFSETTO:-0600
TZNAME:CST
DTSTART:20241103T070000
END:STANDARD
BEGIN:DAYLIGHT
TZOFFSETFROM:-0600
TZOFFSETTO:-0500
TZNAME:CDT
DTSTART:20250309T080000
END:DAYLIGHT
BEGIN:STANDARD
TZOFFSETFROM:-0500
TZOFFSETTO:-0600
TZNAME:CST
DTSTART:20251102T070000
END:STANDARD
BEGIN:DAYLIGHT
TZOFFSETFROM:-0600
TZOFFSETTO:-0500
TZNAME:CDT
DTSTART:20260308T080000
END:DAYLIGHT
BEGIN:STANDARD
TZOFFSETFROM:-0500
TZOFFSETTO:-0600
TZNAME:CST
DTSTART:20261101T070000
END:STANDARD
END:VTIMEZONE
BEGIN:VEVENT
DTSTART;TZID=America/Chicago:20250809T090000
DTEND;TZID=America/Chicago:20250809T170000
DTSTAMP:20260420T005730
CREATED:20250306T181748Z
LAST-MODIFIED:20250724T152056Z
UID:10003148-1754730000-1754758800@soks.org
SUMMARY:Manhattan Golf Scramble
DESCRIPTION:Join Us for the Manhattan Golf Scramble!  \nGrab your clubs and get ready for a day of fun and fundraising at the Manhattan Golf Scramble\, benefiting Special Olympics Kansas! \nDate: Saturday\, August 9\, 2025Location: Stagg Hill Golf Club (4441 Stagg Hill Road\, Manhattan\, KS 66502)Tee Time: 9:00 AM \nEvent Details: \n\n4-Person Scramble Format\nEntry Fee: $100 per golfer (includes tournament play\, lunch\, and beverages)\nContests & Prizes:\n\nLongest Drive (Male & Female)\nClosest to the Pin\nOther Hole Contests\nRaffle & Auction Items\n\n\nAwards & Lunch: Stick around after the tournament for an award presentation and lunch to celebrate the day!\n\nRegister Now! Sign up here \nEntry Fee: $100 per golfer (includes tournament play\, lunch\, and beverages). To sponsor\, reach out to Katelyn Andrist at andristk@soks.org. Online payments can be done here: https://checkout.square.site/merchant/6BT4XGF5PT694/checkout/UEXRXMREUF4GJRC4MXPMFG2Y \nYour support helps provide opportunities for Special Olympics Kansas athletes. Our goal is 50 people for this first-ever tournament. Help us reach our goal by registering a team or sharing with someone you know that golfs!
URL:https://soks.org/event/manhattan-golf-scramble/
LOCATION:Stagg Hill Golf Club\, 4441 Stagg Hill Road\, Manhattan\, 66502\, United States
CATEGORIES:Fundraising Events,LETR,North Central Region,Special
ATTACH;FMTTYPE=image/jpeg:https://soks.org/wp-content/uploads/2024/04/53204787790_3678d93704_o-scaled-e1712173090512.jpg
ORGANIZER;CN="Katelyn Andrist":MAILTO:andristk@sosk.org
END:VEVENT
END:VCALENDAR