BEGIN:VCALENDAR
VERSION:2.0
PRODID:-//Special Olympics Kansas - ECPv6.15.20//NONSGML v1.0//EN
CALSCALE:GREGORIAN
METHOD:PUBLISH
X-ORIGINAL-URL:https://soks.org
X-WR-CALDESC:Events for Special Olympics Kansas
REFRESH-INTERVAL;VALUE=DURATION:PT1H
X-Robots-Tag:noindex
X-PUBLISHED-TTL:PT1H
BEGIN:VTIMEZONE
TZID:America/Chicago
BEGIN:DAYLIGHT
TZOFFSETFROM:-0600
TZOFFSETTO:-0500
TZNAME:CDT
DTSTART:20240310T080000
END:DAYLIGHT
BEGIN:STANDARD
TZOFFSETFROM:-0500
TZOFFSETTO:-0600
TZNAME:CST
DTSTART:20241103T070000
END:STANDARD
BEGIN:DAYLIGHT
TZOFFSETFROM:-0600
TZOFFSETTO:-0500
TZNAME:CDT
DTSTART:20250309T080000
END:DAYLIGHT
BEGIN:STANDARD
TZOFFSETFROM:-0500
TZOFFSETTO:-0600
TZNAME:CST
DTSTART:20251102T070000
END:STANDARD
BEGIN:DAYLIGHT
TZOFFSETFROM:-0600
TZOFFSETTO:-0500
TZNAME:CDT
DTSTART:20260308T080000
END:DAYLIGHT
BEGIN:STANDARD
TZOFFSETFROM:-0500
TZOFFSETTO:-0600
TZNAME:CST
DTSTART:20261101T070000
END:STANDARD
END:VTIMEZONE
BEGIN:VEVENT
DTSTART;TZID=America/Chicago:20250903T080000
DTEND;TZID=America/Chicago:20250903T170000
DTSTAMP:20260419T232411
CREATED:20250903T195832Z
LAST-MODIFIED:20250903T195832Z
UID:10003222-1756886400-1756918800@soks.org
SUMMARY:Cover the Cruiser Battle
DESCRIPTION:Cover the Cruiser Battle\nDate: Saturday\, Sept. 13\, 2025Time: 9 a.m. – 1 p.m.Location: 900 N Washington (Parking lot on the corner of 9th and Washington)\, Junction City\, KS \nJoin us for a friendly competition with a big impact at the Cover the Cruiser Battle\, hosted by the Kansas Law Enforcement Torch Run (LETR) to benefit Special Olympics Kansas! \nThe Junction City Police Department and Geary County Sheriff’s Office are going head-to-head to see who can sell more icons and “cover” their cruiser first. Donors will get to choose which agency they support\, making this battle one you won’t want to miss. \nEvery icon purchased helps raise funds to support year-round sports\, health\, and leadership programs for Special Olympics Kansas athletes. Whether you back the JCPD or the GCSO\, your donation helps drive inclusion and opportunity in our community. \nCome out\, show your support\, and help us see which cruiser will be covered first! You can participate without attending! \nVote Team Geary County SO: https://checkout.square.site/merchant/6BT4XGF5PT694/checkout/O2G47GOSBZ5BX362A4LDS56P \nVote Team Junction City PD: https://checkout.square.site/merchant/6BT4XGF5PT694/checkout/3YVTOKANSQVTIUZVUZLEDPN6
URL:https://soks.org/event/cover-the-cruiser-battle/
LOCATION:900 N Washington\, 900 N Washington\, Junction City\, 66441\, United States
CATEGORIES:Fundraising Events,LETR,North Central Region,Special
ORGANIZER;CN="Katelyn Andrist":MAILTO:andristk@sosk.org
END:VEVENT
END:VCALENDAR