BEGIN:VCALENDAR
VERSION:2.0
PRODID:-//Special Olympics Kansas - ECPv6.15.20//NONSGML v1.0//EN
CALSCALE:GREGORIAN
METHOD:PUBLISH
X-ORIGINAL-URL:https://soks.org
X-WR-CALDESC:Events for Special Olympics Kansas
REFRESH-INTERVAL;VALUE=DURATION:PT1H
X-Robots-Tag:noindex
X-PUBLISHED-TTL:PT1H
BEGIN:VTIMEZONE
TZID:America/Chicago
BEGIN:DAYLIGHT
TZOFFSETFROM:-0600
TZOFFSETTO:-0500
TZNAME:CDT
DTSTART:20240310T080000
END:DAYLIGHT
BEGIN:STANDARD
TZOFFSETFROM:-0500
TZOFFSETTO:-0600
TZNAME:CST
DTSTART:20241103T070000
END:STANDARD
BEGIN:DAYLIGHT
TZOFFSETFROM:-0600
TZOFFSETTO:-0500
TZNAME:CDT
DTSTART:20250309T080000
END:DAYLIGHT
BEGIN:STANDARD
TZOFFSETFROM:-0500
TZOFFSETTO:-0600
TZNAME:CST
DTSTART:20251102T070000
END:STANDARD
BEGIN:DAYLIGHT
TZOFFSETFROM:-0600
TZOFFSETTO:-0500
TZNAME:CDT
DTSTART:20260308T080000
END:DAYLIGHT
BEGIN:STANDARD
TZOFFSETFROM:-0500
TZOFFSETTO:-0600
TZNAME:CST
DTSTART:20261101T070000
END:STANDARD
END:VTIMEZONE
BEGIN:VEVENT
DTSTART;TZID=America/Chicago:20251012T120000
DTEND;TZID=America/Chicago:20251012T150000
DTSTAMP:20260419T220156
CREATED:20250910T202728Z
LAST-MODIFIED:20250923T185001Z
UID:10003223-1760270400-1760281200@soks.org
SUMMARY:Battle of the Badges Kickball Tournament
DESCRIPTION:Battle of the Badges – Kickball Tournament\nSunday\, Oct. 12\, 2025Gates open at 12:00 PM | Competition starts at 1:00 PMHayden High School Gymnasium (401 SW Gage Blvd\, Topeka\, KS 66606) \nGet ready for an action-packed afternoon of fun\, community\, and friendly competition at the Battle of the Badges Kickball Tournament\, hosted by the Kansas Law Enforcement Torch Run (LETR) to benefit Special Olympics Kansas! \nLocal first responders will go head-to-head on the kickball court to see which team will claim bragging rights in this year’s Battle of the Badges. Fans can cheer on their favorite team while enjoying an afternoon of high-energy fun\, all for a great cause. \nThe event will also feature a silent auction with exciting prizes up for grabs\, giving you even more ways to support Special Olympics Kansas athletes. \nQuestions? Contact Dan Wilson at dwilson@topeka.org \nCome out\, show your support\, and help us celebrate inclusion through sports at this unforgettable community event
URL:https://soks.org/event/battle-of-the-badges-kickball-tournament/
LOCATION:Hayden High School\, 401 SW Gage Blvd\, Topeka\, KS\, 66606\, United States
CATEGORIES:Fundraising Events,LETR,North Central Region,Special
ATTACH;FMTTYPE=image/jpeg:https://soks.org/wp-content/uploads/2025/09/battle-of-the-badges-2025.jpg
ORGANIZER;CN="Katelyn Andrist":MAILTO:andristk@sosk.org
END:VEVENT
END:VCALENDAR