BEGIN:VCALENDAR
VERSION:2.0
PRODID:-//Special Olympics Kansas - ECPv6.15.20//NONSGML v1.0//EN
CALSCALE:GREGORIAN
METHOD:PUBLISH
X-ORIGINAL-URL:https://soks.org
X-WR-CALDESC:Events for Special Olympics Kansas
REFRESH-INTERVAL;VALUE=DURATION:PT1H
X-Robots-Tag:noindex
X-PUBLISHED-TTL:PT1H
BEGIN:VTIMEZONE
TZID:America/Chicago
BEGIN:DAYLIGHT
TZOFFSETFROM:-0600
TZOFFSETTO:-0500
TZNAME:CDT
DTSTART:20240310T080000
END:DAYLIGHT
BEGIN:STANDARD
TZOFFSETFROM:-0500
TZOFFSETTO:-0600
TZNAME:CST
DTSTART:20241103T070000
END:STANDARD
BEGIN:DAYLIGHT
TZOFFSETFROM:-0600
TZOFFSETTO:-0500
TZNAME:CDT
DTSTART:20250309T080000
END:DAYLIGHT
BEGIN:STANDARD
TZOFFSETFROM:-0500
TZOFFSETTO:-0600
TZNAME:CST
DTSTART:20251102T070000
END:STANDARD
BEGIN:DAYLIGHT
TZOFFSETFROM:-0600
TZOFFSETTO:-0500
TZNAME:CDT
DTSTART:20260308T080000
END:DAYLIGHT
BEGIN:STANDARD
TZOFFSETFROM:-0500
TZOFFSETTO:-0600
TZNAME:CST
DTSTART:20261101T070000
END:STANDARD
END:VTIMEZONE
BEGIN:VEVENT
DTSTART;TZID=America/Chicago:20251118T130000
DTEND;TZID=America/Chicago:20251118T160000
DTSTAMP:20260419T203740
CREATED:20250815T155845Z
LAST-MODIFIED:20250815T155845Z
UID:10003218-1763470800-1763481600@soks.org
SUMMARY:KSHSAA State Unified Bowling
DESCRIPTION:KSHSAA State Unified BowlingDate: Tuesday\, November 18\, 2025Time: 1:00 PM – 4:00 PMLocation: West Ridge Lanes (1935 SW Westport Dr\, Topeka\, KS 66604) \nThe KSHSAA State Unified Bowling competition brings together high school athletes with and without intellectual disabilities to compete side by side in a spirited and inclusive environment. Teams from across Kansas will showcase their skills and sportsmanship as they aim for state titles in Unified Bowling. \nThis event is a celebration of teamwork\, inclusion\, and the power of sports to bring communities together. Spectators are welcome to cheer on the athletes as they compete for state honors.
URL:https://soks.org/event/kshsaa-state-unified-bowling/
LOCATION:West Ridge Lanes Family Fun\, 1935 SW Westport Dr\, Topeka\, 66604\, United States
CATEGORIES:North Central Region,Sporting Event,Sports,State,Unified
ATTACH;FMTTYPE=image/jpeg:https://soks.org/wp-content/uploads/2022/07/Bowling-Photo.jpg
END:VEVENT
END:VCALENDAR