BEGIN:VCALENDAR
VERSION:2.0
PRODID:-//Special Olympics Kansas - ECPv6.15.20//NONSGML v1.0//EN
CALSCALE:GREGORIAN
METHOD:PUBLISH
X-WR-CALNAME:Special Olympics Kansas
X-ORIGINAL-URL:https://soks.org
X-WR-CALDESC:Events for Special Olympics Kansas
REFRESH-INTERVAL;VALUE=DURATION:PT1H
X-Robots-Tag:noindex
X-PUBLISHED-TTL:PT1H
BEGIN:VTIMEZONE
TZID:America/Chicago
BEGIN:DAYLIGHT
TZOFFSETFROM:-0600
TZOFFSETTO:-0500
TZNAME:CDT
DTSTART:20250309T080000
END:DAYLIGHT
BEGIN:STANDARD
TZOFFSETFROM:-0500
TZOFFSETTO:-0600
TZNAME:CST
DTSTART:20251102T070000
END:STANDARD
BEGIN:DAYLIGHT
TZOFFSETFROM:-0600
TZOFFSETTO:-0500
TZNAME:CDT
DTSTART:20260308T080000
END:DAYLIGHT
BEGIN:STANDARD
TZOFFSETFROM:-0500
TZOFFSETTO:-0600
TZNAME:CST
DTSTART:20261101T070000
END:STANDARD
BEGIN:DAYLIGHT
TZOFFSETFROM:-0600
TZOFFSETTO:-0500
TZNAME:CDT
DTSTART:20270314T080000
END:DAYLIGHT
BEGIN:STANDARD
TZOFFSETFROM:-0500
TZOFFSETTO:-0600
TZNAME:CST
DTSTART:20271107T070000
END:STANDARD
END:VTIMEZONE
BEGIN:VEVENT
DTSTART;TZID=America/Chicago:20260214T110000
DTEND;TZID=America/Chicago:20260214T140000
DTSTAMP:20260419T133837
CREATED:20251110T181803Z
LAST-MODIFIED:20251110T181816Z
UID:10003249-1771066800-1771077600@soks.org
SUMMARY:2026 Manhattan Polar Plunge
DESCRIPTION:2026 Manhattan Polar Plunge\nFebruary 14\, 2026 • 11:00 a.m.Tuttle Creek State Park — 5800 River Pond Road\, Manhattan\, KS 66502 \nWhy Plunge?\nJoin the coolest pool party of the year in support of **Special Olympics Kansas! Gather your friends\, family\, coworkers—or take the plunge solo—and be part of something meaningful. Every dollar you raise helps provide year‑round sports training\, health and nutrition\, leadership development\, and inclusive community experiences for athletes with intellectual disabilities.Even if you’d rather stay dry\, you can still make a difference by donating\, volunteering\, or cheering on the brave plungers! \nEvent Details\n\n\nDate & Time: February 14\, 2026 at 11:00 a.m. \n\n\nLocation: Tuttle Creek State Park\, 5800 River Pond Road\, Manhattan\, KS 66502 \n\n\nPurpose: Raise funds to support Special Olympics Kansas athletes—giving them opportunities\, community\, and inclusion. \n\n\nImpact Example: A $50 donation helps provide five athlete meals at a Special Olympics event. \n\n\nHow to Get Involved\n\n\nRegister to plunge as an individual or form a team with friends\, family\, or coworkers. \n\n\nFundraise or donate—every contribution goes directly to athletes and their programs. \n\n\nVolunteer or attend as a supporter—help us make this event fun\, safe\, and unforgettable. \n\n\nJoin the spirit—you don’t have to take the plunge to be part of the impact. Encourage\, cheer\, and bring energy! \n\n\nWhy Your Participation Matters\nBy plunging\, donating\, or showing up\, you’re helping to: \n\n\nEmpower individuals with intellectual disabilities to live active\, confident\, and included lives. \n\n\nBuild stronger\, more inclusive communities where everyone belongs. \n\n\nFuel the “One Team” spirit—together we make waves of change. \n\n\nReady to Make a Splash?\nRegister your team or set up your fundraising page today. Gather your squad\, plan your costume (yes\, costumes are encouraged!)\, and get ready for a memorable day of fun\, courage\, and community.
URL:https://soks.org/event/2026-manhattan-polar-plunge/
LOCATION:Tuttle Creek State Park\, 5800 River Pond Rd A\, Manhattan\, 66502\, United States
CATEGORIES:Fundraising Events,LETR,North Central Region
ATTACH;FMTTYPE=image/png:https://soks.org/wp-content/uploads/2025/11/MANHATTAN.png
ORGANIZER;CN="Katelyn Andrist":MAILTO:andristk@sosk.org
END:VEVENT
END:VCALENDAR