BEGIN:VCALENDAR
VERSION:2.0
PRODID:-//Special Olympics Kansas - ECPv6.15.20//NONSGML v1.0//EN
CALSCALE:GREGORIAN
METHOD:PUBLISH
X-ORIGINAL-URL:https://soks.org
X-WR-CALDESC:Events for Special Olympics Kansas
REFRESH-INTERVAL;VALUE=DURATION:PT1H
X-Robots-Tag:noindex
X-PUBLISHED-TTL:PT1H
BEGIN:VTIMEZONE
TZID:America/Chicago
BEGIN:DAYLIGHT
TZOFFSETFROM:-0600
TZOFFSETTO:-0500
TZNAME:CDT
DTSTART:20250309T080000
END:DAYLIGHT
BEGIN:STANDARD
TZOFFSETFROM:-0500
TZOFFSETTO:-0600
TZNAME:CST
DTSTART:20251102T070000
END:STANDARD
BEGIN:DAYLIGHT
TZOFFSETFROM:-0600
TZOFFSETTO:-0500
TZNAME:CDT
DTSTART:20260308T080000
END:DAYLIGHT
BEGIN:STANDARD
TZOFFSETFROM:-0500
TZOFFSETTO:-0600
TZNAME:CST
DTSTART:20261101T070000
END:STANDARD
BEGIN:DAYLIGHT
TZOFFSETFROM:-0600
TZOFFSETTO:-0500
TZNAME:CDT
DTSTART:20270314T080000
END:DAYLIGHT
BEGIN:STANDARD
TZOFFSETFROM:-0500
TZOFFSETTO:-0600
TZNAME:CST
DTSTART:20271107T070000
END:STANDARD
END:VTIMEZONE
BEGIN:VEVENT
DTSTART;TZID=America/Chicago:20260604T113000
DTEND;TZID=America/Chicago:20260604T140000
DTSTAMP:20260419T134228
CREATED:20260413T205638Z
LAST-MODIFIED:20260413T205638Z
UID:10003309-1780572600-1780581600@soks.org
SUMMARY:Riley County Torch Run
DESCRIPTION:Riley County Torch RunJune 4\, 2026 | 11:30 AM – 2:00 PM \nJoin us for the Riley County Torch Run as law enforcement officers and community members come together to support Special Olympics Kansas through the Law Enforcement Torch Run (LETR). \nThe day will begin with the torch pickup in Manhattan before making its way to the Ogden Community Center (220 Willow St)\, where the Torch Run team is expected to arrive around noon. Following arrival\, participants will gather for team photos at 12:30 PM in front of the RCPD food truck before continuing the run. \nAt approximately 1:00 PM\, runners will carry the Flame of Hope to the Ft. Riley gate for a special torch handoff with Military Police. After the run\, participants will return to the Ogden Community Center to cool off and celebrate with popsicles. \nThis meaningful event highlights the strong partnership between law enforcement\, military personnel\, and Special Olympics Kansas\, all working together to champion inclusion and opportunity for athletes across the state. \nCome out to cheer on the runners\, support the cause\, and be part of this inspiring community tradition!
URL:https://soks.org/event/riley-county-torch-run/
CATEGORIES:Fundraising Events,LETR,North Central Region
ATTACH;FMTTYPE=image/jpeg:https://soks.org/wp-content/uploads/2025/04/53761658106_d18d7495d6_o-scaled.jpg
ORGANIZER;CN="Katelyn Andrist":MAILTO:andristk@sosk.org
END:VEVENT
END:VCALENDAR