BEGIN:VCALENDAR
VERSION:2.0
PRODID:-//Special Olympics Kansas - ECPv6.15.20//NONSGML v1.0//EN
CALSCALE:GREGORIAN
METHOD:PUBLISH
X-ORIGINAL-URL:https://soks.org
X-WR-CALDESC:Events for Special Olympics Kansas
REFRESH-INTERVAL;VALUE=DURATION:PT1H
X-Robots-Tag:noindex
X-PUBLISHED-TTL:PT1H
BEGIN:VTIMEZONE
TZID:America/Chicago
BEGIN:DAYLIGHT
TZOFFSETFROM:-0600
TZOFFSETTO:-0500
TZNAME:CDT
DTSTART:20250309T080000
END:DAYLIGHT
BEGIN:STANDARD
TZOFFSETFROM:-0500
TZOFFSETTO:-0600
TZNAME:CST
DTSTART:20251102T070000
END:STANDARD
BEGIN:DAYLIGHT
TZOFFSETFROM:-0600
TZOFFSETTO:-0500
TZNAME:CDT
DTSTART:20260308T080000
END:DAYLIGHT
BEGIN:STANDARD
TZOFFSETFROM:-0500
TZOFFSETTO:-0600
TZNAME:CST
DTSTART:20261101T070000
END:STANDARD
BEGIN:DAYLIGHT
TZOFFSETFROM:-0600
TZOFFSETTO:-0500
TZNAME:CDT
DTSTART:20270314T080000
END:DAYLIGHT
BEGIN:STANDARD
TZOFFSETFROM:-0500
TZOFFSETTO:-0600
TZNAME:CST
DTSTART:20271107T070000
END:STANDARD
END:VTIMEZONE
BEGIN:VEVENT
DTSTART;TZID=America/Chicago:20260725T090000
DTEND;TZID=America/Chicago:20260725T120000
DTSTAMP:20260419T195058
CREATED:20260309T221811Z
LAST-MODIFIED:20260309T221811Z
UID:10003299-1784970000-1784980800@soks.org
SUMMARY:North Central Regional Swimming
DESCRIPTION:Join us for the North Central Regional Swimming Competition\, where Special Olympics Kansas athletes will dive into an exciting day of competition\, determination\, and achievement in the pool. \nThe event will take place on July 25\, 2026\, from 9:00 a.m. to 12:00 p.m. at Hummer Sports Park Natatorium. \nAthletes from across the North Central region will compete in a variety of swimming events\, showcasing the skills they have developed throughout the season. Regional competitions provide athletes the opportunity to challenge themselves\, celebrate their progress\, and connect with fellow competitors who share a passion for sport. \nFamily members\, friends\, and community supporters are encouraged to attend and cheer on the athletes as they demonstrate courage\, perseverance\, and sportsmanship in the water. \nCome support these incredible athletes and enjoy a morning of inspiring competition!
URL:https://soks.org/event/north-central-regional-swimming-5/
LOCATION:TPS 501/Hummer Sports Park Natatorium\, 530 SW Tuffy Kellogg Dr\, Topeka\, KS\, 66606\, United States
CATEGORIES:North Central Region,Sporting Event,Sports,Volunteer
ATTACH;FMTTYPE=image/jpeg:https://soks.org/wp-content/uploads/2024/12/Swimming-scaled.jpg
ORGANIZER;CN="Krystin Guggisberg":MAILTO:guggisbergk@soks.org
END:VEVENT
END:VCALENDAR