BEGIN:VCALENDAR
VERSION:2.0
PRODID:-//Special Olympics Kansas - ECPv6.15.20//NONSGML v1.0//EN
CALSCALE:GREGORIAN
METHOD:PUBLISH
X-ORIGINAL-URL:https://soks.org
X-WR-CALDESC:Events for Special Olympics Kansas
REFRESH-INTERVAL;VALUE=DURATION:PT1H
X-Robots-Tag:noindex
X-PUBLISHED-TTL:PT1H
BEGIN:VTIMEZONE
TZID:America/Chicago
BEGIN:DAYLIGHT
TZOFFSETFROM:-0600
TZOFFSETTO:-0500
TZNAME:CDT
DTSTART:20250309T080000
END:DAYLIGHT
BEGIN:STANDARD
TZOFFSETFROM:-0500
TZOFFSETTO:-0600
TZNAME:CST
DTSTART:20251102T070000
END:STANDARD
BEGIN:DAYLIGHT
TZOFFSETFROM:-0600
TZOFFSETTO:-0500
TZNAME:CDT
DTSTART:20260308T080000
END:DAYLIGHT
BEGIN:STANDARD
TZOFFSETFROM:-0500
TZOFFSETTO:-0600
TZNAME:CST
DTSTART:20261101T070000
END:STANDARD
BEGIN:DAYLIGHT
TZOFFSETFROM:-0600
TZOFFSETTO:-0500
TZNAME:CDT
DTSTART:20270314T080000
END:DAYLIGHT
BEGIN:STANDARD
TZOFFSETFROM:-0500
TZOFFSETTO:-0600
TZNAME:CST
DTSTART:20271107T070000
END:STANDARD
END:VTIMEZONE
BEGIN:VEVENT
DTSTART;TZID=America/Chicago:20260425T090000
DTEND;TZID=America/Chicago:20260425T150000
DTSTAMP:20260419T073432
CREATED:20260115T171059Z
LAST-MODIFIED:20260115T171059Z
UID:10003281-1777107600-1777129200@soks.org
SUMMARY:North Central Regional Track and Field
DESCRIPTION:Join us for a day of speed\, strength\, and sportsmanship at the 2026 North Central Regional Track Meet! \nThis regional competition brings together athletes from across the North Central region to compete in a variety of track and field events\, showcasing determination\, teamwork\, and the spirit of Special Olympics. \n📅 Date: Saturday\, April 25\, 2026⏰ Time: 9:00 a.m. – 3:00 p.m.📍 Location: Shawnee Heights High School4201 SE Shawnee Heights Rd\, Tecumseh\, KS 66542 \nAthletes will compete in running\, jumping\, and throwing events throughout the day. Families\, friends\, and community supporters are encouraged to come cheer on the athletes as they represent their local programs. \nCome celebrate the power of sport and inclusion at this exciting regional event!
URL:https://soks.org/event/north-central-regional-track-and-field/
LOCATION:Shawnee Heights High School\, 4201 SE Shawnee Heights Rd\, Tecumseh\, KS\, 66542\, United States
CATEGORIES:North Central Region,Sporting Event,Sports
ATTACH;FMTTYPE=image/jpeg:https://soks.org/wp-content/uploads/2024/11/Track-scaled.jpg
ORGANIZER;CN="Krystin Guggisberg":MAILTO:guggisbergk@soks.org
END:VEVENT
BEGIN:VEVENT
DTSTART;TZID=America/Chicago:20260502T090000
DTEND;TZID=America/Chicago:20260502T130000
DTSTAMP:20260419T073432
CREATED:20260115T171640Z
LAST-MODIFIED:20260115T171640Z
UID:10003284-1777712400-1777726800@soks.org
SUMMARY:Unified MC Metro & North Central Track and Field
DESCRIPTION:Join us for an exciting day of competition at the 2026 Unified Track and Field Meet! \nThis event marks the 2nd annual Unified Track and Field meet for teams from the Metro and North Central areas. Athletes with and without intellectual disabilities will compete together in a variety of track and field events that highlight teamwork\, inclusion\, and sportsmanship. \n📅 Date: Saturday\, May 2\, 2026⏰ Time: 9:00 a.m. – 1:00 p.m.📍 Location: Free State High School4700 Overland Drive\, Lawrence\, KS 66049 \nAthletes will take part in running\, jumping\, and throwing events throughout the morning\, building skills\, confidence\, and friendships along the way. \nInterested in volunteering? Sign up here:🔗 https://givepul.se/70qt8q \nCome cheer on the athletes and be part of a day that celebrates inclusion through sport!
URL:https://soks.org/event/unified-mc-metro-north-central-track-and-field/
LOCATION:Free State High School\, 4700 Overland Dr 66049\, Lawrence\, 66049\, United States
CATEGORIES:Metro Region,North Central Region,Sporting Event,Sports,Unified,Volunteer
ATTACH;FMTTYPE=image/jpeg:https://soks.org/wp-content/uploads/2024/11/Track-scaled.jpg
ORGANIZER;CN="Caroline Meyers":MAILTO:meyersc@soks.org
END:VEVENT
BEGIN:VEVENT
DTSTART;TZID=America/Chicago:20260508T110000
DTEND;TZID=America/Chicago:20260508T130000
DTSTAMP:20260419T073432
CREATED:20260413T204710Z
LAST-MODIFIED:20260413T204710Z
UID:10003307-1778238000-1778245200@soks.org
SUMMARY:Saline County Torch Run
DESCRIPTION:Saline County Torch RunMay 8\, 2026 | 11:00 AM – 1:00 PM \nJoin us in Salina for the Saline County Torch Run\, a powerful community event supporting Special Olympics Kansas athletes through the Law Enforcement Torch Run (LETR). \nThe event will begin at the Salina Police Department (255 N 10th St) with a special moment as a trumpet performance of the National Anthem at 10:45 AM. Runners will then take off at 11:00 AM\, carrying the Flame of Hope through the community and finishing at Jerry Ivey Park. \nThis inspiring run brings together law enforcement officers\, athletes\, and community members to raise awareness and support for individuals with intellectual disabilities. Every run taken helps champion inclusion and opportunity through sport. \nWhether you’re running\, cheering\, or supporting along the route\, we invite you to be part of this meaningful tradition and help us continue to carry the Flame of Hope across Kansas.
URL:https://soks.org/event/saline-county-torch-run/
CATEGORIES:Fundraising Events,LETR,North Central Region
ATTACH;FMTTYPE=image/jpeg:https://soks.org/wp-content/uploads/2025/04/53761658106_d18d7495d6_o-scaled.jpg
ORGANIZER;CN="Jake LaMunyon":MAILTO:lamunyonj@soks.org
END:VEVENT
BEGIN:VEVENT
DTSTART;TZID=America/Chicago:20260527T100000
DTEND;TZID=America/Chicago:20260527T120000
DTSTAMP:20260419T073432
CREATED:20260324T193956Z
LAST-MODIFIED:20260331T184457Z
UID:10003302-1779876000-1779883200@soks.org
SUMMARY:2026 LETR Torch Run Topeka
DESCRIPTION:Join us for the Topeka Torch Run 2026\, a powerful and inspiring event that brings together law enforcement and the community to support Special Olympics Kansas athletes. \nThe event will take place on May 27\, 2026\, from 10:00 a.m. to 12:00 p.m.\, beginning and ending at the Law Enforcement Center. \nThe morning will kick off with a welcome and opening remarks at 10:00 a.m.\, followed by the Torch Run stepping off at approximately 10:15 a.m. Participants will carry the Flame of Hope\, symbolizing courage\, inclusion\, and opportunity for athletes across Kansas. \nAfter the run\, participants are invited to stay and enjoy food and fellowship\, celebrating the impact of the Law Enforcement Torch Run (LETR) and the continued support for Special Olympics Kansas. \nWhether you run\, walk\, or cheer from the sidelines\, the Topeka Torch Run is a meaningful way to show your support and be part of a movement that changes lives through sport. Register here.
URL:https://soks.org/event/2026-letr-torch-run-topeka/
LOCATION:Topeka Law Enforcement Center\, 320 S Kansas Ave\, Topeka\, 66603\, United States
CATEGORIES:Fundraising Events,LETR,North Central Region
ATTACH;FMTTYPE=image/jpeg:https://soks.org/wp-content/uploads/2025/04/53761658106_d18d7495d6_o-scaled.jpg
ORGANIZER;CN="Katelyn Andrist":MAILTO:andristk@sosk.org
END:VEVENT
BEGIN:VEVENT
DTSTART;TZID=America/Chicago:20260604T113000
DTEND;TZID=America/Chicago:20260604T140000
DTSTAMP:20260419T073432
CREATED:20260413T205638Z
LAST-MODIFIED:20260413T205638Z
UID:10003309-1780572600-1780581600@soks.org
SUMMARY:Riley County Torch Run
DESCRIPTION:Riley County Torch RunJune 4\, 2026 | 11:30 AM – 2:00 PM \nJoin us for the Riley County Torch Run as law enforcement officers and community members come together to support Special Olympics Kansas through the Law Enforcement Torch Run (LETR). \nThe day will begin with the torch pickup in Manhattan before making its way to the Ogden Community Center (220 Willow St)\, where the Torch Run team is expected to arrive around noon. Following arrival\, participants will gather for team photos at 12:30 PM in front of the RCPD food truck before continuing the run. \nAt approximately 1:00 PM\, runners will carry the Flame of Hope to the Ft. Riley gate for a special torch handoff with Military Police. After the run\, participants will return to the Ogden Community Center to cool off and celebrate with popsicles. \nThis meaningful event highlights the strong partnership between law enforcement\, military personnel\, and Special Olympics Kansas\, all working together to champion inclusion and opportunity for athletes across the state. \nCome out to cheer on the runners\, support the cause\, and be part of this inspiring community tradition!
URL:https://soks.org/event/riley-county-torch-run/
CATEGORIES:Fundraising Events,LETR,North Central Region
ATTACH;FMTTYPE=image/jpeg:https://soks.org/wp-content/uploads/2025/04/53761658106_d18d7495d6_o-scaled.jpg
ORGANIZER;CN="Katelyn Andrist":MAILTO:andristk@sosk.org
END:VEVENT
BEGIN:VEVENT
DTSTART;TZID=America/Chicago:20260718T090000
DTEND;TZID=America/Chicago:20260718T140000
DTSTAMP:20260419T073432
CREATED:20260309T221528Z
LAST-MODIFIED:20260309T221528Z
UID:10003298-1784365200-1784383200@soks.org
SUMMARY:North Central Regional Bowling
DESCRIPTION:Join us for the North Central Regional Bowling Competition\, where Special Olympics Kansas athletes from across the region will come together for a day of exciting competition\, sportsmanship\, and fun on the lanes! \nThe event will take place on July 18\, 2026\, from 9:00 a.m. to 2:00 p.m. at West Ridge Lanes. \nAthletes from the North Central region will compete in bowling events as they demonstrate their skills\, determination\, and love for the sport. Regional competitions play an important role in the Special Olympics Kansas season\, giving athletes the opportunity to showcase their hard work\, connect with fellow competitors\, and celebrate the spirit of inclusion through sports. \nSpectators are encouraged to come cheer on the athletes and enjoy a great day of competition. Whether you’re a longtime supporter or attending for the first time\, the North Central Regional Bowling Competition is sure to be a fun and inspiring event!
URL:https://soks.org/event/north-central-regional-bowling-6/
LOCATION:West Ridge Lanes Family Fun\, 1935 SW Westport Dr\, Topeka\, 66604\, United States
CATEGORIES:North Central Region,Sporting Event,Sports,Volunteer
ATTACH;FMTTYPE=image/jpeg:https://soks.org/wp-content/uploads/2022/09/Bowling-Photo.jpg
ORGANIZER;CN="Krystin Guggisberg":MAILTO:guggisbergk@soks.org
END:VEVENT
BEGIN:VEVENT
DTSTART;TZID=America/Chicago:20260725T090000
DTEND;TZID=America/Chicago:20260725T120000
DTSTAMP:20260419T073432
CREATED:20260309T221811Z
LAST-MODIFIED:20260309T221811Z
UID:10003299-1784970000-1784980800@soks.org
SUMMARY:North Central Regional Swimming
DESCRIPTION:Join us for the North Central Regional Swimming Competition\, where Special Olympics Kansas athletes will dive into an exciting day of competition\, determination\, and achievement in the pool. \nThe event will take place on July 25\, 2026\, from 9:00 a.m. to 12:00 p.m. at Hummer Sports Park Natatorium. \nAthletes from across the North Central region will compete in a variety of swimming events\, showcasing the skills they have developed throughout the season. Regional competitions provide athletes the opportunity to challenge themselves\, celebrate their progress\, and connect with fellow competitors who share a passion for sport. \nFamily members\, friends\, and community supporters are encouraged to attend and cheer on the athletes as they demonstrate courage\, perseverance\, and sportsmanship in the water. \nCome support these incredible athletes and enjoy a morning of inspiring competition!
URL:https://soks.org/event/north-central-regional-swimming-5/
LOCATION:TPS 501/Hummer Sports Park Natatorium\, 530 SW Tuffy Kellogg Dr\, Topeka\, KS\, 66606\, United States
CATEGORIES:North Central Region,Sporting Event,Sports,Volunteer
ATTACH;FMTTYPE=image/jpeg:https://soks.org/wp-content/uploads/2024/12/Swimming-scaled.jpg
ORGANIZER;CN="Krystin Guggisberg":MAILTO:guggisbergk@soks.org
END:VEVENT
BEGIN:VEVENT
DTSTART;TZID=America/Chicago:20260801T090000
DTEND;TZID=America/Chicago:20260801T150000
DTSTAMP:20260419T073432
CREATED:20251211T162135Z
LAST-MODIFIED:20260415T203846Z
UID:10003269-1785574800-1785596400@soks.org
SUMMARY:2026 Manhattan Golf Tournament
DESCRIPTION:Manhattan Golf TournamentAugust 1\, 2026 | 9:00 AM – 2:00 PMStagg Hill Golf Club | Manhattan\, KS \nJoin us on the course for the Manhattan Golf Tournament\, a fun and impactful day supporting Special Olympics Kansas athletes through the Law Enforcement Torch Run (LETR). \nThis 4-person scramble is open to golfers of all skill levels\, making it the perfect opportunity to enjoy a round of golf while giving back to a great cause. For $100 per golfer\, participants will enjoy a full day of play\, including lunch and beverages. \nThe tournament will also feature exciting on-course contests like Longest Drive and Closest to the Pin\, along with raffles\, prizes\, and an awards lunch following play. \nAll proceeds from the event go directly toward supporting Special Olympics Kansas athletes—helping provide opportunities to train\, compete\, and succeed both on and off the field. \nGather your team\, hit the greens\, and make a difference! \nRegister here
URL:https://soks.org/event/2026-manhattan-golf-tournament/
LOCATION:Stagg Hill Golf Club\, 4441 Stagg Hill Road\, Manhattan\, 66502\, United States
CATEGORIES:Fundraising Events,North Central Region
ATTACH;FMTTYPE=image/jpeg:https://soks.org/wp-content/uploads/2025/05/54007776768_3b21c409c6_o-scaled.jpg
ORGANIZER;CN="Katelyn Andrist":MAILTO:andristk@sosk.org
END:VEVENT
BEGIN:VEVENT
DTSTART;TZID=America/Chicago:20260808T100000
DTEND;TZID=America/Chicago:20260808T150000
DTSTAMP:20260419T073432
CREATED:20251211T163755Z
LAST-MODIFIED:20251211T163755Z
UID:10003270-1786183200-1786201200@soks.org
SUMMARY:2026 State Swimming
DESCRIPTION:State Swimming – August 8\, 2026 \nThe 2026 State Swimming Competition will bring together athletes from across Kansas for a full day of excitement\, determination\, and achievement in the pool. Hosted at the Hummer Sports Park Natatorium in Topeka\, this event showcases the hard work athletes have put in throughout the season as they compete in a variety of swimming events. \nParticipants of all levels will have the opportunity to demonstrate their skills\, celebrate personal progress\, and enjoy the supportive\, inclusive environment that Special Olympics Kansas is known for. Families\, friends\, and fans are encouraged to attend and cheer on the athletes as they go for their personal bests. \nJoin us for an inspiring day of sportsmanship\, teamwork\, and statewide pride! \nEvent Details:📅 Date: August 8\, 2026🕙 Time: 10:00 AM – 3:00 PM📍 Location: Hummer Sports Park Natatorium530 SW Tuffy Kellogg Dr #03/02\, Topeka\, KS 66606 \nMore information\, including schedules and volunteer opportunities\, will be shared as the event approaches.
URL:https://soks.org/event/2026-state-swimming/
LOCATION:TPS 501/Hummer Sports Park Natatorium\, 530 SW Tuffy Kellogg Dr\, Topeka\, KS\, 66606\, United States
CATEGORIES:North Central Region,Sporting Event,Sports,State,Volunteer
ATTACH;FMTTYPE=image/jpeg:https://soks.org/wp-content/uploads/2024/12/Swimming-scaled.jpg
ORGANIZER;CN="Brent Kaiser":MAILTO:kaiserb@soks.org
END:VEVENT
END:VCALENDAR