BEGIN:VCALENDAR
VERSION:2.0
PRODID:-//Special Olympics Kansas - ECPv6.15.20//NONSGML v1.0//EN
CALSCALE:GREGORIAN
METHOD:PUBLISH
X-ORIGINAL-URL:https://soks.org
X-WR-CALDESC:Events for Special Olympics Kansas
REFRESH-INTERVAL;VALUE=DURATION:PT1H
X-Robots-Tag:noindex
X-PUBLISHED-TTL:PT1H
BEGIN:VTIMEZONE
TZID:America/Chicago
BEGIN:DAYLIGHT
TZOFFSETFROM:-0600
TZOFFSETTO:-0500
TZNAME:CDT
DTSTART:20250309T080000
END:DAYLIGHT
BEGIN:STANDARD
TZOFFSETFROM:-0500
TZOFFSETTO:-0600
TZNAME:CST
DTSTART:20251102T070000
END:STANDARD
BEGIN:DAYLIGHT
TZOFFSETFROM:-0600
TZOFFSETTO:-0500
TZNAME:CDT
DTSTART:20260308T080000
END:DAYLIGHT
BEGIN:STANDARD
TZOFFSETFROM:-0500
TZOFFSETTO:-0600
TZNAME:CST
DTSTART:20261101T070000
END:STANDARD
BEGIN:DAYLIGHT
TZOFFSETFROM:-0600
TZOFFSETTO:-0500
TZNAME:CDT
DTSTART:20270314T080000
END:DAYLIGHT
BEGIN:STANDARD
TZOFFSETFROM:-0500
TZOFFSETTO:-0600
TZNAME:CST
DTSTART:20271107T070000
END:STANDARD
END:VTIMEZONE
BEGIN:VEVENT
DTSTART;TZID=America/Chicago:20260425T090000
DTEND;TZID=America/Chicago:20260425T150000
DTSTAMP:20260419T091902
CREATED:20260115T171059Z
LAST-MODIFIED:20260115T171059Z
UID:10003281-1777107600-1777129200@soks.org
SUMMARY:North Central Regional Track and Field
DESCRIPTION:Join us for a day of speed\, strength\, and sportsmanship at the 2026 North Central Regional Track Meet! \nThis regional competition brings together athletes from across the North Central region to compete in a variety of track and field events\, showcasing determination\, teamwork\, and the spirit of Special Olympics. \n📅 Date: Saturday\, April 25\, 2026⏰ Time: 9:00 a.m. – 3:00 p.m.📍 Location: Shawnee Heights High School4201 SE Shawnee Heights Rd\, Tecumseh\, KS 66542 \nAthletes will compete in running\, jumping\, and throwing events throughout the day. Families\, friends\, and community supporters are encouraged to come cheer on the athletes as they represent their local programs. \nCome celebrate the power of sport and inclusion at this exciting regional event!
URL:https://soks.org/event/north-central-regional-track-and-field/
LOCATION:Shawnee Heights High School\, 4201 SE Shawnee Heights Rd\, Tecumseh\, KS\, 66542\, United States
CATEGORIES:North Central Region,Sporting Event,Sports
ATTACH;FMTTYPE=image/jpeg:https://soks.org/wp-content/uploads/2024/11/Track-scaled.jpg
ORGANIZER;CN="Krystin Guggisberg":MAILTO:guggisbergk@soks.org
END:VEVENT
END:VCALENDAR