BEGIN:VCALENDAR
VERSION:2.0
PRODID:-//Special Olympics Kansas - ECPv6.15.20//NONSGML v1.0//EN
CALSCALE:GREGORIAN
METHOD:PUBLISH
X-ORIGINAL-URL:https://soks.org
X-WR-CALDESC:Events for Special Olympics Kansas
REFRESH-INTERVAL;VALUE=DURATION:PT1H
X-Robots-Tag:noindex
X-PUBLISHED-TTL:PT1H
BEGIN:VTIMEZONE
TZID:America/Chicago
BEGIN:DAYLIGHT
TZOFFSETFROM:-0600
TZOFFSETTO:-0500
TZNAME:CDT
DTSTART:20210314T080000
END:DAYLIGHT
BEGIN:STANDARD
TZOFFSETFROM:-0500
TZOFFSETTO:-0600
TZNAME:CST
DTSTART:20211107T070000
END:STANDARD
BEGIN:DAYLIGHT
TZOFFSETFROM:-0600
TZOFFSETTO:-0500
TZNAME:CDT
DTSTART:20220313T080000
END:DAYLIGHT
BEGIN:STANDARD
TZOFFSETFROM:-0500
TZOFFSETTO:-0600
TZNAME:CST
DTSTART:20221106T070000
END:STANDARD
BEGIN:DAYLIGHT
TZOFFSETFROM:-0600
TZOFFSETTO:-0500
TZNAME:CDT
DTSTART:20230312T080000
END:DAYLIGHT
BEGIN:STANDARD
TZOFFSETFROM:-0500
TZOFFSETTO:-0600
TZNAME:CST
DTSTART:20231105T070000
END:STANDARD
BEGIN:DAYLIGHT
TZOFFSETFROM:-0600
TZOFFSETTO:-0500
TZNAME:CDT
DTSTART:20240310T080000
END:DAYLIGHT
BEGIN:STANDARD
TZOFFSETFROM:-0500
TZOFFSETTO:-0600
TZNAME:CST
DTSTART:20241103T070000
END:STANDARD
BEGIN:DAYLIGHT
TZOFFSETFROM:-0600
TZOFFSETTO:-0500
TZNAME:CDT
DTSTART:20250309T080000
END:DAYLIGHT
BEGIN:STANDARD
TZOFFSETFROM:-0500
TZOFFSETTO:-0600
TZNAME:CST
DTSTART:20251102T070000
END:STANDARD
END:VTIMEZONE
BEGIN:VEVENT
DTSTART;TZID=America/Chicago:20240409T160000
DTEND;TZID=America/Chicago:20240409T210000
DTSTAMP:20260419T162414
CREATED:20240326T160629Z
LAST-MODIFIED:20240326T160629Z
UID:10003009-1712678400-1712696400@soks.org
SUMMARY:Applebee's Tip-A-Cop
DESCRIPTION:Join us at ALL Applebee’s locations in Kansas for our Tip-A-Cop! Law enforcement officers will be serving up your favorite dishes\, and 10% of your bill plus any extra donations will go directly to supporting Special Olympics Kansas programming for our athletes!
URL:https://soks.org/event/applebees-tip-a-cop-2/
CATEGORIES:Fundraising Events,LETR,Metro Region,North Central Region,South Central Region,Southeast Region,Special,West Region
ATTACH;FMTTYPE=image/png:https://soks.org/wp-content/uploads/2024/03/Applebees-Tip-a-Cop-2024-Flyer.png
ORGANIZER;CN="Jake LaMunyon":MAILTO:lamunyonj@soks.org
END:VEVENT
BEGIN:VEVENT
DTSTART;VALUE=DATE:20240315
DTEND;VALUE=DATE:20240317
DTSTAMP:20260419T162414
CREATED:20231031T182740Z
LAST-MODIFIED:20240313T190510Z
UID:10002952-1710460800-1710633599@soks.org
SUMMARY:State Basketball and Cheerleading (Manhattan)
DESCRIPTION:Click to view the Event Schedule \nClick to view the Manhattan BB Bracket \nVolunteer \nMore information
URL:https://soks.org/event/state-basketball-and-cheerleading-manhattan/
LOCATION:Anthony Recreation Center\, 2415 Browning Ave\, Manhattan\, KS\, 66502\, United States
CATEGORIES:North Central Region,Sporting Event,Sports,State,Volunteer
ATTACH;FMTTYPE=image/jpeg:https://soks.org/wp-content/uploads/2022/09/State-Basketball-min.jpg
ORGANIZER;CN="Tim Rehder":MAILTO:rehdert@soks.org
END:VEVENT
BEGIN:VEVENT
DTSTART;TZID=America/Chicago:20240224T090000
DTEND;TZID=America/Chicago:20240224T160000
DTSTAMP:20260419T162414
CREATED:20240124T182312Z
LAST-MODIFIED:20240124T182821Z
UID:10002990-1708765200-1708790400@soks.org
SUMMARY:North Central Regional Basketball & Cheerleading
DESCRIPTION:Regional basketball competition. Open to all North Central local programs and athletes. \nVolunteer here.
URL:https://soks.org/event/north-central-regional-basketball-cheerleading/
LOCATION:Junction City High School\, 1100 Blue Jay Wy\, Junction City\, KS\, 66441\, United States
CATEGORIES:North Central Region,Regional,Sporting Event,Sports,Volunteer
ATTACH;FMTTYPE=image/jpeg:https://soks.org/wp-content/uploads/2022/09/State-Basketball-min.jpg
ORGANIZER;CN="Krystin Guggisberg":MAILTO:guggisbergk@soks.org
END:VEVENT
BEGIN:VEVENT
DTSTART;TZID=America/Chicago:20240217T090000
DTEND;TZID=America/Chicago:20240217T130000
DTSTAMP:20260419T162414
CREATED:20231012T192445Z
LAST-MODIFIED:20231129T165751Z
UID:10002948-1708160400-1708174800@soks.org
SUMMARY:Topeka Polar Plunge
DESCRIPTION:9 a.m. – Registration\n10 a.m. – Cornhole\, Tailgate\, and Silent Auction\n11:45 a.m. – Costume Contest & Awards\n12 p.m. – Polar Plunge \nLake Shawnee Swim Beach\n3300 SE Croco Road\nTopeka\, KS 66605 \nRegister here.
URL:https://soks.org/event/topeka-polar-plunge-4/
LOCATION:Lake Shawnee\, KS\, United States
CATEGORIES:Fundraising Events,LETR,North Central Region,Special
ATTACH;FMTTYPE=image/jpeg:https://soks.org/wp-content/uploads/2022/06/52793341273_77608f0ffa_o-scaled.jpg
ORGANIZER;CN="Jake LaMunyon":MAILTO:lamunyonj@soks.org
END:VEVENT
BEGIN:VEVENT
DTSTART;TZID=America/Chicago:20240210T100000
DTEND;TZID=America/Chicago:20240210T130000
DTSTAMP:20260419T162414
CREATED:20231012T192054Z
LAST-MODIFIED:20240103T202643Z
UID:10002946-1707559200-1707570000@soks.org
SUMMARY:Manhattan Polar Plunge
DESCRIPTION:Tentative Schedule: \n10:00 a.m. – Registration \n11:30 a.m. – Costume Contest \n12:00 p.m. – Polar Plunge! \nRegister here.
URL:https://soks.org/event/manhattan-polar-plunge-4/
LOCATION:Tuttle Creek State Park\, 5800 River Pond Rd A\, Manhattan\, 66502\, United States
CATEGORIES:Fundraising Events,LETR,North Central Region,Special
ATTACH;FMTTYPE=image/jpeg:https://soks.org/wp-content/uploads/2022/06/52793341273_77608f0ffa_o-scaled.jpg
ORGANIZER;CN="Jake LaMunyon":MAILTO:lamunyonj@soks.org
END:VEVENT
BEGIN:VEVENT
DTSTART;TZID=America/Chicago:20231206T170000
DTEND;TZID=America/Chicago:20231206T210000
DTSTAMP:20260419T162414
CREATED:20231130T173623Z
LAST-MODIFIED:20231130T173623Z
UID:10002974-1701882000-1701896400@soks.org
SUMMARY:Texas Roadhouse Tip-a-Cop
DESCRIPTION:Manhattan
URL:https://soks.org/event/texas-roadhouse-tip-a-cop-2/
LOCATION:Manhattan Texas Roadhouse\, 200 Manhattan Town Center\, Manhattan\, KS\, 66502\, United States
CATEGORIES:Fundraising Events,LETR,North Central Region
ORGANIZER;CN="Jake LaMunyon":MAILTO:lamunyonj@soks.org
END:VEVENT
BEGIN:VEVENT
DTSTART;TZID=America/Chicago:20231206T160000
DTEND;TZID=America/Chicago:20231206T200000
DTSTAMP:20260419T162414
CREATED:20231130T173744Z
LAST-MODIFIED:20231130T173744Z
UID:10002975-1701878400-1701892800@soks.org
SUMMARY:Red Robin Tip-a-Cop
DESCRIPTION:Topeka
URL:https://soks.org/event/red-robin-tip-a-cop/
LOCATION:Red Robin – Topeka\, 6230 SW 6th Street\, Topeka\, KS\, 66615\, United States
CATEGORIES:Fundraising Events,LETR,North Central Region
ATTACH;FMTTYPE=image/png:https://soks.org/wp-content/uploads/2023/11/23-Red-Robin-Topeka-Shawnee-County-1-1.png
ORGANIZER;CN="Jake LaMunyon":MAILTO:lamunyonj@soks.org
END:VEVENT
BEGIN:VEVENT
DTSTART;TZID=America/Chicago:20231111T090000
DTEND;TZID=America/Chicago:20231111T120000
DTSTAMP:20260419T162414
CREATED:20231031T184302Z
LAST-MODIFIED:20231031T184302Z
UID:10002957-1699693200-1699704000@soks.org
SUMMARY:Healthy Hearing Healthy Athletes Screening
DESCRIPTION:The Healthy Hearing discipline of Healthy Athletes provides comprehensive hearing screenings and follow-up recommendations. The main goals of this program are to inform athletes\, parents\, coaches or caregivers about the detection of possible ear and hearing problems\, recommend follow-up as needed\, and to promote the necessity of regular ear and hearing screenings.
URL:https://soks.org/event/healthy-hearing-healthy-athletes-screening-2/
LOCATION:Hummer Sports Park\, 2751 SW East Circle Dr S # 1\, Topeka\, KS\, 66606\, United States
CATEGORIES:Health & Fitness,North Central Region,Volunteer
ATTACH;FMTTYPE=image/jpeg:https://soks.org/wp-content/uploads/2022/10/Healthy-Hearing-SOKS.jpg
ORGANIZER;CN="Erin McDaniel":MAILTO:mcdaniele@soks.org
END:VEVENT
BEGIN:VEVENT
DTSTART;TZID=America/Chicago:20231102T160000
DTEND;TZID=America/Chicago:20231102T210000
DTSTAMP:20260419T162414
CREATED:20231019T164631Z
LAST-MODIFIED:20231026T164624Z
UID:10002950-1698940800-1698958800@soks.org
SUMMARY:Applebee's Tip-A-Cop
DESCRIPTION:Our Tip-A-Cop fundraiser with Applebee’s is on November 2nd from 4PM-9PM at 25 Applebees’s locations in Kansas! Special Olympics Kansas will receive 10% of the proceeds. Locations in Topeka\, Manhattan\, and Emporia are not participating.\nClick here to find a location near you.
URL:https://soks.org/event/applebees-tip-a-cop/
LOCATION:Applebee’s
CATEGORIES:Fundraising Events,LETR,Metro Region,North Central Region,South Central Region,Southeast Region,Special,West Region
ATTACH;FMTTYPE=image/png:https://soks.org/wp-content/uploads/2023/10/10-of-proceeds-go-to-Special-Olympics-Kansas.png
ORGANIZER;CN="Jake LaMunyon":MAILTO:lamunyonj@soks.org
END:VEVENT
BEGIN:VEVENT
DTSTART;TZID=America/Chicago:20231021T090000
DTEND;TZID=America/Chicago:20231021T120000
DTSTAMP:20260419T162414
CREATED:20230810T004740Z
LAST-MODIFIED:20230928T163512Z
UID:10002920-1697878800-1697889600@soks.org
SUMMARY:North Central Regional Swimming
DESCRIPTION:For more information\, contact Krystin Guggisberg at guggisbergk@soks.org. \nVolunteer
URL:https://soks.org/event/north-central-regional-swimming-3/
LOCATION:TPS 501/Hummer Sports Park Natatorium\, 530 SW Tuffy Kellogg Dr\, Topeka\, KS\, 66606\, United States
CATEGORIES:North Central Region,Regional,Sports,Volunteer
ATTACH;FMTTYPE=image/jpeg:https://soks.org/wp-content/uploads/2022/09/Swimming.jpg
ORGANIZER;CN="Krystin Guggisberg":MAILTO:guggisbergk@soks.org
END:VEVENT
BEGIN:VEVENT
DTSTART;TZID=America/Chicago:20231014T080000
DTEND;TZID=America/Chicago:20231014T120000
DTSTAMP:20260419T162414
CREATED:20230216T203829Z
LAST-MODIFIED:20230928T163207Z
UID:10002874-1697270400-1697284800@soks.org
SUMMARY:North Central Regional Volleyball
DESCRIPTION:Volunteer
URL:https://soks.org/event/north-central-regional-volleyball-4/
LOCATION:Anthony Recreation Center\, 2415 Browning Ave\, Manhattan\, KS\, 66502\, United States
CATEGORIES:North Central Region,Regional,Sporting Event,Sports,Volunteer
ATTACH;FMTTYPE=image/jpeg:https://soks.org/wp-content/uploads/2022/09/Volleyball.jpg
ORGANIZER;CN="Krystin Guggisberg":MAILTO:guggisbergk@soks.org
END:VEVENT
BEGIN:VEVENT
DTSTART;TZID=America/Chicago:20230917T120000
DTEND;TZID=America/Chicago:20230917T160000
DTSTAMP:20260419T162414
CREATED:20230807T213201Z
LAST-MODIFIED:20230808T141216Z
UID:10002919-1694952000-1694966400@soks.org
SUMMARY:North Central Regional Golf
DESCRIPTION:
URL:https://soks.org/event/north-central-regional-golf/
LOCATION:TopCITY Golf at GreatLIFE North\, 350 NE US Hwy 24\, Topeka\, KS\, 66608\, United States
CATEGORIES:North Central Region,Regional,Sports
ATTACH;FMTTYPE=image/jpeg:https://soks.org/wp-content/uploads/2023/07/Golf-768x432-1.jpg
ORGANIZER;CN="Krystin Guggisberg":MAILTO:guggisbergk@soks.org
END:VEVENT
BEGIN:VEVENT
DTSTART;TZID=America/Chicago:20230910T153000
DTEND;TZID=America/Chicago:20230910T163000
DTSTAMP:20260419T162414
CREATED:20230906T195125Z
LAST-MODIFIED:20230906T195125Z
UID:10002933-1694359800-1694363400@soks.org
SUMMARY:Young Athletes - Manhattan
DESCRIPTION:
URL:https://soks.org/event/young-athletes-manhattan/
LOCATION:CrossFit 785\, 511 Richards Dr\, Manhattan\, 66502\, United States
CATEGORIES:Health & Fitness,North Central Region
ATTACH;FMTTYPE=image/jpeg:https://soks.org/wp-content/uploads/2022/09/Young-Athletes-5.jpg
ORGANIZER;CN="Erin McDaniel":MAILTO:mcdaniele@soks.org
END:VEVENT
BEGIN:VEVENT
DTSTART;TZID=America/Chicago:20230726T170000
DTEND;TZID=America/Chicago:20230726T210000
DTSTAMP:20260419T162414
CREATED:20230713T155312Z
LAST-MODIFIED:20230713T155622Z
UID:10002908-1690390800-1690405200@soks.org
SUMMARY:Custard With Cops
DESCRIPTION:15% of all sales at all of the below locations goes to Special Olympics Kansas and Law Enforcement Torch Run! \nFreddy’s Topeka\n1050 SW Wanamaker Rd\nTopeka\, KS 66614 \nFreddy’s Topeka-Gage\n2135 SW Gage Blvd\nTopeka\, KS 66604 \nFreddy’s Manhattan\n229 McCall Rd\nManhattan\, KS 66502 \nFreddy’s Lansing\n237 N Main ST\nLansing\, KS 66043 \nFreddy’s Hutchinson\n1501 E 17th St\nHutchinson\, KS 67501 \nFreddy’s Newton\n520 SE 14th St\nNewton\, KS 67114 \nFreddy’s McPherson\n202 Champlin St\nMcPherson\, KS 67460 \nFreddy’s Dodge City\n1800 W Wyatt Earp Blvd\nDodge City\, KS 67801
URL:https://soks.org/event/custard-with-cops/
LOCATION:Freddy’s Frozen Custard & Steakburgers\, KS\, United States
CATEGORIES:Fundraising Events,LETR,Metro Region,North Central Region,Regional,South Central Region,West Region
ATTACH;FMTTYPE=image/png:https://soks.org/wp-content/uploads/2023/07/Screenshot-2023-07-13-at-10.51.32-AM-e1689263555448.png
ORGANIZER;CN="Jake LaMunyon":MAILTO:lamunyonj@soks.org
END:VEVENT
BEGIN:VEVENT
DTSTART;TZID=America/Chicago:20230722T090000
DTEND;TZID=America/Chicago:20230722T150000
DTSTAMP:20260419T162414
CREATED:20230505T152508Z
LAST-MODIFIED:20230505T152508Z
UID:10002889-1690016400-1690038000@soks.org
SUMMARY:North Central Regional Bowling
DESCRIPTION:
URL:https://soks.org/event/north-central-regional-bowling-3/
LOCATION:West Ridge Lanes\, 1935 SW Westport Drive\, Topeka\, KS\, 66604\, United States
CATEGORIES:North Central Region,Sporting Event,Sports
ATTACH;FMTTYPE=image/jpeg:https://soks.org/wp-content/uploads/2023/05/67827643_10157823869269050_603717383562985472_n.jpg
ORGANIZER;CN="Krystin Guggisberg":MAILTO:guggisbergk@soks.org
END:VEVENT
BEGIN:VEVENT
DTSTART;TZID=America/Chicago:20230506T090000
DTEND;TZID=America/Chicago:20230506T150000
DTSTAMP:20260419T162414
CREATED:20230228T152943Z
LAST-MODIFIED:20230228T152943Z
UID:10002876-1683363600-1683385200@soks.org
SUMMARY:Jefferson West Invitational Track Meet
DESCRIPTION:
URL:https://soks.org/event/jefferson-west-invitational-track-meet/
LOCATION:Jefferson West High School\, 619 Condray St\, Meriden\, KS\, 66512\, United States
CATEGORIES:LETR,North Central Region,Regional,Sporting Event,Sports
ATTACH;FMTTYPE=image/png:https://soks.org/wp-content/uploads/2022/11/Facebook-Event-Covers-7.png
ORGANIZER;CN="Krystin Guggisberg":MAILTO:guggisbergk@soks.org
END:VEVENT
BEGIN:VEVENT
DTSTART;TZID=America/Chicago:20230429T090000
DTEND;TZID=America/Chicago:20230429T150000
DTSTAMP:20260419T162414
CREATED:20221110T175535Z
LAST-MODIFIED:20221110T175535Z
UID:10002841-1682758800-1682780400@soks.org
SUMMARY:North Central Regional Track
DESCRIPTION:
URL:https://soks.org/event/north-central-regional-track-3/
LOCATION:Shawnee Heights High School\, 4201 SE Shawnee Heights Rd\, Tecumseh\, KS\, 66542\, United States
CATEGORIES:North Central Region,Regional,Sporting Event,Sports
ATTACH;FMTTYPE=image/png:https://soks.org/wp-content/uploads/2022/11/Facebook-Event-Covers-7.png
ORGANIZER;CN="Krystin Guggisberg":MAILTO:guggisbergk@soks.org
END:VEVENT
BEGIN:VEVENT
DTSTART;TZID=America/Chicago:20230304T080000
DTEND;TZID=America/Chicago:20230304T130000
DTSTAMP:20260419T162414
CREATED:20221020T151751Z
LAST-MODIFIED:20221108T191335Z
UID:10002822-1677916800-1677934800@soks.org
SUMMARY:Topeka Polar Plunge
DESCRIPTION:Click Here for More Information
URL:https://soks.org/event/topeka-polar-plunge-3/
LOCATION:Lake Shawnee\, KS\, United States
CATEGORIES:Fundraising Events,North Central Region,Special
ATTACH;FMTTYPE=image/jpeg:https://soks.org/wp-content/uploads/2022/05/Polar-Plunge-1-min.jpg
END:VEVENT
BEGIN:VEVENT
DTSTART;TZID=America/Chicago:20230225T090000
DTEND;TZID=America/Chicago:20230225T160000
DTSTAMP:20260419T162414
CREATED:20230210T182631Z
LAST-MODIFIED:20230210T182631Z
UID:10002871-1677315600-1677340800@soks.org
SUMMARY:North Central Regional Basketball
DESCRIPTION:
URL:https://soks.org/event/north-central-regional-basketball/
LOCATION:Junction City High School\, 1100 Blue Jay Wy\, Junction City\, KS\, 66441\, United States
CATEGORIES:North Central Region,Regional,Sporting Event,Sports
ATTACH;FMTTYPE=image/jpeg:https://soks.org/wp-content/uploads/2022/09/Basketball.jpg
ORGANIZER;CN="Krystin Guggisberg":MAILTO:guggisbergk@soks.org
END:VEVENT
BEGIN:VEVENT
DTSTART;TZID=America/Chicago:20230225T090000
DTEND;TZID=America/Chicago:20230225T160000
DTSTAMP:20260419T162414
CREATED:20221010T172207Z
LAST-MODIFIED:20221026T181347Z
UID:10002808-1677315600-1677340800@soks.org
SUMMARY:North Central Regional Basketball and Cheerleading
DESCRIPTION:
URL:https://soks.org/event/nc-regional-basketball/
CATEGORIES:North Central Region,Regional,Sports
ATTACH;FMTTYPE=image/jpeg:https://soks.org/wp-content/uploads/2022/09/Basketball-pic-2.jpg
END:VEVENT
BEGIN:VEVENT
DTSTART;TZID=America/Chicago:20230212T090000
DTEND;TZID=America/Chicago:20230212T130000
DTSTAMP:20260419T162414
CREATED:20221020T152338Z
LAST-MODIFIED:20221201T195310Z
UID:10002824-1676192400-1676206800@soks.org
SUMMARY:Lawrence Polar Plunge
DESCRIPTION:Click Here for More Information
URL:https://soks.org/event/lawrence-polar-plunge-4/
LOCATION:HERE Apartments\, 1111 Indiana St\, Lawrence\, KS\, 66044\, United States
CATEGORIES:Fundraising Events,North Central Region,Special
ATTACH;FMTTYPE=image/jpeg:https://soks.org/wp-content/uploads/2022/05/Polar-Plunge-1-min.jpg
END:VEVENT
BEGIN:VEVENT
DTSTART;TZID=America/Chicago:20221112T093000
DTEND;TZID=America/Chicago:20221112T130000
DTSTAMP:20260419T162414
CREATED:20220331T212456Z
LAST-MODIFIED:20221104T193629Z
UID:10002784-1668245400-1668258000@soks.org
SUMMARY:Fall Indoor Classic - Swimming
DESCRIPTION:Fall Indoor Classic – Swimming will be held on Saturday\, November 12 at Hummer Park\, 2751 SW East Circle Dr S # 1\, Topeka\, KS 66606. \n  \nEvent Packet – Includes Schedules \n  \nTentative Schedule (Subject to Change) \n9:45am – Opening Ceremonies\n10:00am – Traditional Swimming starts in main pool\n10:15am – General Store opens\n10:30am – Low Motor Swimming starts in shallow pool\n11:30am – Lunch\nNoon – Low Motor ends\n1:00pm – Traditional ends \nFor more information\, contact Tim Rehder at rehdert@soks.org \nVolunteer >> https://www.signupgenius.com/go/30E0C49A9AB2DA3F49-202223
URL:https://soks.org/event/fall-indoor-classic-swimming/
LOCATION:Hummer Sports Park\, 2751 SW East Circle Dr S # 1\, Topeka\, KS\, 66606\, United States
CATEGORIES:Metro Region,North Central Region,Regional,South Central Region,Southeast Region,Sports,Volunteer,West Region
ATTACH;FMTTYPE=image/jpeg:https://soks.org/wp-content/uploads/2022/09/Swimming.jpg
END:VEVENT
BEGIN:VEVENT
DTSTART;TZID=America/Chicago:20221111T090000
DTEND;TZID=America/Chicago:20221111T160000
DTSTAMP:20260419T162414
CREATED:20220331T211529Z
LAST-MODIFIED:20221104T193758Z
UID:10002783-1668157200-1668182400@soks.org
SUMMARY:Fall Indoor Classic - Volleyball
DESCRIPTION:Fall Indoor Classic – Volleyball will be held on Friday\, November 11 in Johnson County at Okun Complex\, 20200 Johnson Dr\, Shawnee\, KS 66218. The competition will run from  9:00am – 4:00pm. \n  \nEvent Packet – Includes Schedules \n  \nFor more information\, contact Tim Rehder at rehdert@soks.org \n  \nTo Volunteer\nhttps://www.signupgenius.com/go/30e0c49a9ab2da3f49-202214
URL:https://soks.org/event/fall-indoor-classic-volleyball/
LOCATION:Okun Fieldhouse\, 20200 Johnson Dr\, Shawnee\, KS\, 66218\, United States
CATEGORIES:Metro Region,North Central Region,Regional,South Central Region,Southeast Region,Sports,Volunteer,West Region
ATTACH;FMTTYPE=image/jpeg:https://soks.org/wp-content/uploads/2022/09/Volleyball.jpg
END:VEVENT
BEGIN:VEVENT
DTSTART;TZID=America/Chicago:20221022T090000
DTEND;TZID=America/Chicago:20221022T120000
DTSTAMP:20260419T162414
CREATED:20221005T182135Z
LAST-MODIFIED:20221012T200712Z
UID:10002797-1666429200-1666440000@soks.org
SUMMARY:NC Regional Volleyball
DESCRIPTION:NC Regional Volleyball \n  \nTo Volunteer\nhttps://www.signupgenius.com/go/30e0c49a9ab2da3f49-202216
URL:https://soks.org/event/nc-regional-volleyball/
LOCATION:Anthony Recreation Center\, 2415 Browning Ave\, Manhattan\, KS\, 66502\, United States
CATEGORIES:North Central Region,Regional,Volunteer
ATTACH;FMTTYPE=image/jpeg:https://soks.org/wp-content/uploads/2022/09/Fall-Indoor-min.jpg
END:VEVENT
BEGIN:VEVENT
DTSTART;TZID=America/Chicago:20221015T090000
DTEND;TZID=America/Chicago:20221015T120000
DTSTAMP:20260419T162414
CREATED:20221005T175015Z
LAST-MODIFIED:20221012T200701Z
UID:10002793-1665824400-1665835200@soks.org
SUMMARY:NC Regional Swimming
DESCRIPTION:NC Regional Swimming \n  \nTo Volunteer\nhttps://www.signupgenius.com/go/30e0c49a9ab2da3f49-202217
URL:https://soks.org/event/nc-regional-swimming/
LOCATION:Hummer Sports Park\, 2751 SW East Circle Dr S # 1\, Topeka\, KS\, 66606\, United States
CATEGORIES:North Central Region,Regional,Volunteer
ATTACH;FMTTYPE=image/jpeg:https://soks.org/wp-content/uploads/2022/09/Swimming.jpg
END:VEVENT
BEGIN:VEVENT
DTSTART;TZID=America/Chicago:20221001T093000
DTEND;TZID=America/Chicago:20221002T160000
DTSTAMP:20260419T162414
CREATED:20220610T133618Z
LAST-MODIFIED:20220610T133618Z
UID:10002787-1664616600-1664726400@soks.org
SUMMARY:Fall Outdoor Classic
DESCRIPTION:The Fall Outdoor Classic  – The Softball Competition will be held on Saturday\, October 1 & 2 from 9:30am to 4:00pm at Two Rivers Youth Club (TRYC) – 1700 N Ridge\, Wichita\, KS. \nFor more information\, contact Tim Rehder at rehdert@ksso.org
URL:https://soks.org/event/fall-outdoor-classic/
LOCATION:United States
CATEGORIES:Metro Region,North Central Region,South Central Region,Southeast Region,Sports,West Region
END:VEVENT
BEGIN:VEVENT
DTSTART;TZID=America/Chicago:20221001T093000
DTEND;TZID=America/Chicago:20221002T160000
DTSTAMP:20260419T162414
CREATED:20220610T133618Z
LAST-MODIFIED:20220610T133618Z
UID:10002788-1664616600-1664726400@soks.org
SUMMARY:Fall Outdoor Classic
DESCRIPTION:The Fall Outdoor Classic  – The Softball Competition will be held on Saturday\, October 1 & 2 from 9:30am to 4:00pm at Two Rivers Youth Club (TRYC) – 1700 N Ridge\, Wichita\, KS. \nFor more information\, contact Tim Rehder at rehdert@ksso.org
URL:https://soks.org/event/fall-outdoor-classic-2/
LOCATION:United States
CATEGORIES:Metro Region,North Central Region,South Central Region,Southeast Region,Sports,West Region
END:VEVENT
BEGIN:VEVENT
DTSTART;TZID=America/Chicago:20220813T090000
DTEND;TZID=America/Chicago:20220813T130000
DTSTAMP:20260419T162414
CREATED:20220331T205929Z
LAST-MODIFIED:20220331T205929Z
UID:10002781-1660381200-1660395600@soks.org
SUMMARY:State Bowling Tournament
DESCRIPTION:The State Bowling Tournament  will be held on August 13 in Johnson County. The Bowling Competition will be held  Friday & Saturday at 2 locations: Park Lanes\, 7701 Renner Rd\, Shawnee\, KS 66217 and Olathe East Lanes Bowling Center\, 303 N Lindenwood Dr\, Olathe\, KS 66062.  The competition will be held from  9:00am – 1:00pm on Saturday\, August 13 \nFor more information\, contact Tim Rehder at rehdert@ksso.org
URL:https://soks.org/event/state-bowling-tournament-2/
LOCATION:United States
CATEGORIES:Metro Region,North Central Region,South Central Region,Southeast Region,West Region
END:VEVENT
BEGIN:VEVENT
DTSTART;TZID=America/Chicago:20220813T090000
DTEND;TZID=America/Chicago:20220813T130000
DTSTAMP:20260419T162414
CREATED:20220331T205929Z
LAST-MODIFIED:20220331T205929Z
UID:10002782-1660381200-1660395600@soks.org
SUMMARY:State Bowling Tournament
DESCRIPTION:The State Bowling Tournament  will be held on August 13 in Johnson County. The Bowling Competition will be held  Friday & Saturday at 2 locations: Park Lanes\, 7701 Renner Rd\, Shawnee\, KS 66217 and Olathe East Lanes Bowling Center\, 303 N Lindenwood Dr\, Olathe\, KS 66062.  The competition will be held from  9:00am – 1:00pm on Saturday\, August 13 \nFor more information\, contact Tim Rehder at rehdert@ksso.org
URL:https://soks.org/event/state-bowling-tournament-2-2/
LOCATION:United States
CATEGORIES:Metro Region,North Central Region,South Central Region,Southeast Region,West Region
END:VEVENT
BEGIN:VEVENT
DTSTART;TZID=America/Chicago:20220812T130000
DTEND;TZID=America/Chicago:20220812T170000
DTSTAMP:20260419T162414
CREATED:20220331T205742Z
LAST-MODIFIED:20220331T205742Z
UID:10002779-1660309200-1660323600@soks.org
SUMMARY:State Bowling Tournament
DESCRIPTION:The State Bowling Tournament  will be held on August 12  in Johnson County. The Bowling Competition will be held  Friday & Saturday at 2 locations: Park Lanes\, 7701 Renner Rd\, Shawnee\, KS 66217 and Olathe East Lanes Bowling Center\, 303 N Lindenwood Dr\, Olathe\, KS 66062.  The competition will be held from 1:00pm – 5:00pm on Friday\, August 12 \nFor more information\, contact Tim Rehder at rehdert@ksso.org
URL:https://soks.org/event/state-bowling-tournament/
LOCATION:United States
CATEGORIES:Metro Region,North Central Region,South Central Region,Southeast Region,Sports,West Region
END:VEVENT
END:VCALENDAR