BEGIN:VCALENDAR
VERSION:2.0
PRODID:-//Special Olympics Kansas - ECPv6.15.20//NONSGML v1.0//EN
CALSCALE:GREGORIAN
METHOD:PUBLISH
X-ORIGINAL-URL:https://soks.org
X-WR-CALDESC:Events for Special Olympics Kansas
REFRESH-INTERVAL;VALUE=DURATION:PT1H
X-Robots-Tag:noindex
X-PUBLISHED-TTL:PT1H
BEGIN:VTIMEZONE
TZID:America/Chicago
BEGIN:DAYLIGHT
TZOFFSETFROM:-0600
TZOFFSETTO:-0500
TZNAME:CDT
DTSTART:20190310T080000
END:DAYLIGHT
BEGIN:STANDARD
TZOFFSETFROM:-0500
TZOFFSETTO:-0600
TZNAME:CST
DTSTART:20191103T070000
END:STANDARD
BEGIN:DAYLIGHT
TZOFFSETFROM:-0600
TZOFFSETTO:-0500
TZNAME:CDT
DTSTART:20200308T080000
END:DAYLIGHT
BEGIN:STANDARD
TZOFFSETFROM:-0500
TZOFFSETTO:-0600
TZNAME:CST
DTSTART:20201101T070000
END:STANDARD
BEGIN:DAYLIGHT
TZOFFSETFROM:-0600
TZOFFSETTO:-0500
TZNAME:CDT
DTSTART:20210314T080000
END:DAYLIGHT
BEGIN:STANDARD
TZOFFSETFROM:-0500
TZOFFSETTO:-0600
TZNAME:CST
DTSTART:20211107T070000
END:STANDARD
BEGIN:DAYLIGHT
TZOFFSETFROM:-0600
TZOFFSETTO:-0500
TZNAME:CDT
DTSTART:20220313T080000
END:DAYLIGHT
BEGIN:STANDARD
TZOFFSETFROM:-0500
TZOFFSETTO:-0600
TZNAME:CST
DTSTART:20221106T070000
END:STANDARD
BEGIN:DAYLIGHT
TZOFFSETFROM:-0600
TZOFFSETTO:-0500
TZNAME:CDT
DTSTART:20230312T080000
END:DAYLIGHT
BEGIN:STANDARD
TZOFFSETFROM:-0500
TZOFFSETTO:-0600
TZNAME:CST
DTSTART:20231105T070000
END:STANDARD
END:VTIMEZONE
BEGIN:VTIMEZONE
TZID:UTC
BEGIN:STANDARD
TZOFFSETFROM:+0000
TZOFFSETTO:+0000
TZNAME:UTC
DTSTART:20190101T000000
END:STANDARD
END:VTIMEZONE
BEGIN:VEVENT
DTSTART;TZID=America/Chicago:20220423T090000
DTEND;TZID=America/Chicago:20220423T150000
DTSTAMP:20260419T205613
CREATED:20220223T180737Z
LAST-MODIFIED:20220223T180737Z
UID:10002746-1650704400-1650726000@soks.org
SUMMARY:North Central Regional Track & Field
DESCRIPTION:North Central Regional Track and Field will be held on Saturday\, April 23 at Shawnee Heights High School\, 4201 SE Shawnee Height Rd\, Tecumseh\, KS.  The meet will begin at 9:00am. \nFor more information\, contact Krystin Guggisberg at guggisbergk@ksso.org.
URL:https://soks.org/event/north-central-regional-track-field-2-3/
LOCATION:KS\, United States
CATEGORIES:North Central Region,Sports
END:VEVENT
BEGIN:VEVENT
DTSTART;TZID=America/Chicago:20220319T100000
DTEND;TZID=America/Chicago:20220319T170000
DTSTAMP:20260419T205613
CREATED:20211210T222615Z
LAST-MODIFIED:20211210T222615Z
UID:10002721-1647684000-1647709200@soks.org
SUMMARY:State Basketball & Cheerleading - Hays
DESCRIPTION:The State Basketball & Cheerleading Tournament – Hays will be held on  Saturday\, March 19 at Ft Hays State University.  The Basketball competition will run from 10:00am to 5:00pm on Saturday. \n10am – Opening Ceremonies – FHSU – Gross Memorial Coliseum (GMC)\n10:30am – Cheerleading – FHSU Room 122\n10:30am – Skills – FHSU – GMC\n11:00am – Lunch – FHSU – GMC\n11:00am – 1st basketball games at FHSU and Hays Recreation Center (HRC)\n2:00pm – Last Games FHSU & HRC\n\nCheerleading and skills awards will be given right after the competition is completed.\n\nBasketball team awards will be given after the team finishes their 2nd game at the facility (FHSU or HRC) where the team’s 2nd game is played.\nFor more information\, contact Tim Rehder at rehdert@ksso.org
URL:https://soks.org/event/state-basketball-cheerleading-hays/
LOCATION:KS\, United States
CATEGORIES:Metro Region,North Central Region,South Central Region,Southeast Region,Sports,West Region
END:VEVENT
BEGIN:VEVENT
DTSTART;TZID=America/Chicago:20220319T100000
DTEND;TZID=America/Chicago:20220319T170000
DTSTAMP:20260419T205613
CREATED:20211210T222615Z
LAST-MODIFIED:20211210T222615Z
UID:10002722-1647684000-1647709200@soks.org
SUMMARY:State Basketball & Cheerleading - Hays
DESCRIPTION:The State Basketball & Cheerleading Tournament – Hays will be held on  Saturday\, March 19 at Ft Hays State University.  The Basketball competition will run from 10:00am to 5:00pm on Saturday. \n10am – Opening Ceremonies – FHSU – Gross Memorial Coliseum (GMC)\n10:30am – Cheerleading – FHSU Room 122\n10:30am – Skills – FHSU – GMC\n11:00am – Lunch – FHSU – GMC\n11:00am – 1st basketball games at FHSU and Hays Recreation Center (HRC)\n2:00pm – Last Games FHSU & HRC\n\nCheerleading and skills awards will be given right after the competition is completed.\n\nBasketball team awards will be given after the team finishes their 2nd game at the facility (FHSU or HRC) where the team’s 2nd game is played.\nFor more information\, contact Tim Rehder at rehdert@ksso.org
URL:https://soks.org/event/state-basketball-cheerleading-hays-2/
LOCATION:KS\, United States
CATEGORIES:Metro Region,North Central Region,South Central Region,Southeast Region,Sports,West Region
END:VEVENT
BEGIN:VEVENT
DTSTART;TZID=America/Chicago:20220312T090000
DTEND;TZID=America/Chicago:20220312T170000
DTSTAMP:20260419T205613
CREATED:20211210T222048Z
LAST-MODIFIED:20211210T222048Z
UID:10002719-1647075600-1647104400@soks.org
SUMMARY:State Basketball & Cheerleading - Topeka
DESCRIPTION:The State Basketball & Cheerleading Tournament – Topeka will be held on  Saturday\, March 12 at Washburn Rural High School\, 5900 SW 61st St. and Washburn Rural Middle School\, 5620 SW 61st St\, Topeka\, KS. The Basketball competition will run from 9:00am to 5:00pm on Saturday. \nFor more information\, contact Tim Rehder at rehdert@ksso.org
URL:https://soks.org/event/state-basketballcheerleadingtopeka/
LOCATION:KS\, United States
CATEGORIES:Metro Region,North Central Region,South Central Region,Southeast Region,Sports,West Region
END:VEVENT
BEGIN:VEVENT
DTSTART;TZID=America/Chicago:20220312T090000
DTEND;TZID=America/Chicago:20220312T170000
DTSTAMP:20260419T205614
CREATED:20211210T222048Z
LAST-MODIFIED:20211210T222048Z
UID:10002720-1647075600-1647104400@soks.org
SUMMARY:State Basketball & Cheerleading - Topeka
DESCRIPTION:The State Basketball & Cheerleading Tournament – Topeka will be held on  Saturday\, March 12 at Washburn Rural High School\, 5900 SW 61st St. and Washburn Rural Middle School\, 5620 SW 61st St\, Topeka\, KS. The Basketball competition will run from 9:00am to 5:00pm on Saturday. \nFor more information\, contact Tim Rehder at rehdert@ksso.org
URL:https://soks.org/event/state-basketballcheerleadingtopeka-2/
LOCATION:KS\, United States
CATEGORIES:Metro Region,North Central Region,South Central Region,Southeast Region,Sports,West Region
END:VEVENT
BEGIN:VEVENT
DTSTART;TZID=America/Chicago:20211112T090000
DTEND;TZID=America/Chicago:20211112T160000
DTSTAMP:20260419T205614
CREATED:20210527T193549Z
LAST-MODIFIED:20210527T193549Z
UID:10002649-1636707600-1636732800@soks.org
SUMMARY:Fall Indoor Games (Volleyball & Swimming)
DESCRIPTION:The Fall Indoor Games (Volleyball) will be held on November 12.  Games will be played at  2 facilities\n\nOKUN Fieldhouse; 20200 Johnson Dr; Shawnee\, KS\nHOA Volleyball; 548 S Coy St; Kansas City\, Kansas \nFacilities are 20 miles apart.  Games will be scheduled so all games of a certain level will stay at a facility\, but if your organization has more than 1 team plan on games at both facilities.\n\n9am starts at both facilities\, last games scheduled at 4pm….if numbers allow start times will be pushed back.  I will have a better idea of this next week after regional registrations are turned in.\n\nPlay 3 games at a time at OKUN and 2 games at a time at HOA.  This will allow us to follow the 50 person guidelines per court……if rules change we will adjust.\n\nMask worn at all times unless the athletes are playing.  Playing means on the court; if an athlete is a sub on the bench masks are to be worn.  Coaches can coach w/out a mask on.\nClick here for more information\, or contact Tim Rehder at rehdert@ksso.org
URL:https://soks.org/event/fall-indoor-games-volleyball-swimming/
LOCATION:KS\, United States
CATEGORIES:Metro Region,North Central Region,South Central Region,Southeast Region,Sports,West Region
END:VEVENT
BEGIN:VEVENT
DTSTART;TZID=America/Chicago:20211112T090000
DTEND;TZID=America/Chicago:20211112T160000
DTSTAMP:20260419T205614
CREATED:20210527T193549Z
LAST-MODIFIED:20210527T193549Z
UID:10002650-1636707600-1636732800@soks.org
SUMMARY:Fall Indoor Games (Volleyball & Swimming)
DESCRIPTION:The Fall Indoor Games (Volleyball) will be held on November 12.  Games will be played at  2 facilities\n\nOKUN Fieldhouse; 20200 Johnson Dr; Shawnee\, KS\nHOA Volleyball; 548 S Coy St; Kansas City\, Kansas \nFacilities are 20 miles apart.  Games will be scheduled so all games of a certain level will stay at a facility\, but if your organization has more than 1 team plan on games at both facilities.\n\n9am starts at both facilities\, last games scheduled at 4pm….if numbers allow start times will be pushed back.  I will have a better idea of this next week after regional registrations are turned in.\n\nPlay 3 games at a time at OKUN and 2 games at a time at HOA.  This will allow us to follow the 50 person guidelines per court……if rules change we will adjust.\n\nMask worn at all times unless the athletes are playing.  Playing means on the court; if an athlete is a sub on the bench masks are to be worn.  Coaches can coach w/out a mask on.\nClick here for more information\, or contact Tim Rehder at rehdert@ksso.org
URL:https://soks.org/event/fall-indoor-games-volleyball-swimming-2/
LOCATION:KS\, United States
CATEGORIES:Metro Region,North Central Region,South Central Region,Southeast Region,Sports,West Region
END:VEVENT
BEGIN:VEVENT
DTSTART;TZID=America/Chicago:20211016T090000
DTEND;TZID=America/Chicago:20211016T120000
DTSTAMP:20260419T205614
CREATED:20210630T193056Z
LAST-MODIFIED:20210630T193056Z
UID:10002679-1634374800-1634385600@soks.org
SUMMARY:North Central Regional Volleyball Tournament
DESCRIPTION:The North Central Regional Volleyball competition will be held Saturday\, October 16 at the Anthony Recreation Center\, 2415 Browning Ave\, Manhattan\, KS  66502.   The competition will be from 9:00am to 12:00pm. \nClick here for more information contact\, Krystin Guggisberg at guggisbergk@ksso.org.
URL:https://soks.org/event/north-central-regional-volleyball-tournament/
LOCATION:KS\, United States
CATEGORIES:North Central Region,Sports
END:VEVENT
BEGIN:VEVENT
DTSTART;TZID=America/Chicago:20211016T090000
DTEND;TZID=America/Chicago:20211016T120000
DTSTAMP:20260419T205614
CREATED:20210630T193056Z
LAST-MODIFIED:20210630T193056Z
UID:10002680-1634374800-1634385600@soks.org
SUMMARY:North Central Regional Volleyball Tournament
DESCRIPTION:The North Central Regional Volleyball competition will be held Saturday\, October 16 at the Anthony Recreation Center\, 2415 Browning Ave\, Manhattan\, KS  66502.   The competition will be from 9:00am to 12:00pm. \nClick here for more information contact\, Krystin Guggisberg at guggisbergk@ksso.org.
URL:https://soks.org/event/north-central-regional-volleyball-tournament-2/
LOCATION:KS\, United States
CATEGORIES:North Central Region,Sports
END:VEVENT
BEGIN:VEVENT
DTSTART;TZID=America/Chicago:20211002T093000
DTEND;TZID=America/Chicago:20211002T160000
DTSTAMP:20260419T205614
CREATED:20210611T160218Z
LAST-MODIFIED:20210611T160218Z
UID:10002665-1633167000-1633190400@soks.org
SUMMARY:Fall Outdoor Games (Softball)
DESCRIPTION:The Fall Outdoor Games (Softball & Golf) will be held in Wichita\, KS in October \nSoftball Competition will be held on Saturday\, October 2 from 9:30am to 4:00pm at Two Rivers Youth Club (TRYC) – 1700 N Ridge\, Wichita\, KS. \, each team will play 2 games. \nGolf has moved to Thursday\, October 7 and Friday\, October 8 from 4:30pm to dusk at  Sierra Hills – 13420 E Pawnee\, Wichita\, KS; \nFor more information\, contact Tim Rehder at rehdert@ksso.org
URL:https://soks.org/event/fall-outdoor-games-softball/
LOCATION:KS\, United States
CATEGORIES:Metro Region,North Central Region,South Central Region,Southeast Region,Sports,West Region
END:VEVENT
BEGIN:VEVENT
DTSTART;TZID=America/Chicago:20211002T093000
DTEND;TZID=America/Chicago:20211002T160000
DTSTAMP:20260419T205614
CREATED:20210611T160218Z
LAST-MODIFIED:20210611T160218Z
UID:10002666-1633167000-1633190400@soks.org
SUMMARY:Fall Outdoor Games (Softball)
DESCRIPTION:The Fall Outdoor Games (Softball & Golf) will be held in Wichita\, KS in October \nSoftball Competition will be held on Saturday\, October 2 from 9:30am to 4:00pm at Two Rivers Youth Club (TRYC) – 1700 N Ridge\, Wichita\, KS. \, each team will play 2 games. \nGolf has moved to Thursday\, October 7 and Friday\, October 8 from 4:30pm to dusk at  Sierra Hills – 13420 E Pawnee\, Wichita\, KS; \nFor more information\, contact Tim Rehder at rehdert@ksso.org
URL:https://soks.org/event/fall-outdoor-games-softball-2/
LOCATION:KS\, United States
CATEGORIES:Metro Region,North Central Region,South Central Region,Southeast Region,Sports,West Region
END:VEVENT
BEGIN:VEVENT
DTSTART;TZID=America/Chicago:20210724T090000
DTEND;TZID=America/Chicago:20210724T150000
DTSTAMP:20260419T205614
CREATED:20210618T193944Z
LAST-MODIFIED:20210618T193944Z
UID:10002673-1627117200-1627138800@soks.org
SUMMARY:North Central Regional Bowling
DESCRIPTION:The North Central Regional Bowling Tournament will be held on Saturday\, July 24 at West Ridge Lanes & Family Fun Center\, 1935 SW Westport Dr\, Topeka\, KS.  The tournament will begin at 9:00am. \nFor more information\, contact Krystin Guggisburg at guggisburgk@ksso.org \nClick here for volunteer opportunities at the Bowling Tournament
URL:https://soks.org/event/north-central-regional-bowling-2-2/
LOCATION:KS\, United States
CATEGORIES:North Central Region,Sports
END:VEVENT
BEGIN:VEVENT
DTSTART;TZID=America/Chicago:20210724T090000
DTEND;TZID=America/Chicago:20210724T150000
DTSTAMP:20260419T205614
CREATED:20210618T193944Z
LAST-MODIFIED:20210618T193944Z
UID:10002674-1627117200-1627138800@soks.org
SUMMARY:North Central Regional Bowling
DESCRIPTION:The North Central Regional Bowling Tournament will be held on Saturday\, July 24 at West Ridge Lanes & Family Fun Center\, 1935 SW Westport Dr\, Topeka\, KS.  The tournament will begin at 9:00am. \nFor more information\, contact Krystin Guggisburg at guggisburgk@ksso.org \nClick here for volunteer opportunities at the Bowling Tournament
URL:https://soks.org/event/north-central-regional-bowling-2-3/
LOCATION:KS\, United States
CATEGORIES:North Central Region,Sports
END:VEVENT
BEGIN:VEVENT
DTSTART;TZID=America/Chicago:20210625T090000
DTEND;TZID=America/Chicago:20210625T170000
DTSTAMP:20260419T205614
CREATED:20210618T192250Z
LAST-MODIFIED:20210618T192250Z
UID:10002671-1624611600-1624640400@soks.org
SUMMARY:The Roadrunners 3rd Annual Golf Tournament
DESCRIPTION:The Roadrunners 3rd Annual Golf Tournament will be held Friday\, June 25 at Spring Creek Golf Course\, 1800 Spring Creek Drive\, Seneca\, KS  66538.   Registration will be at 9:00am with the Tournament beginning 9:30am start time. \nFor more information\, please contact Kara Thompson – 785-534-7098 or Brock\, Spring Creek\, 785-336-3568
URL:https://soks.org/event/the-roadrunners-3rd-annual-golf-tournament/
LOCATION:KS\, United States
CATEGORIES:North Central Region
END:VEVENT
BEGIN:VEVENT
DTSTART;TZID=America/Chicago:20210625T090000
DTEND;TZID=America/Chicago:20210625T170000
DTSTAMP:20260419T205614
CREATED:20210618T192250Z
LAST-MODIFIED:20210618T192250Z
UID:10002672-1624611600-1624640400@soks.org
SUMMARY:The Roadrunners 3rd Annual Golf Tournament
DESCRIPTION:The Roadrunners 3rd Annual Golf Tournament will be held Friday\, June 25 at Spring Creek Golf Course\, 1800 Spring Creek Drive\, Seneca\, KS  66538.   Registration will be at 9:00am with the Tournament beginning 9:30am start time. \nFor more information\, please contact Kara Thompson – 785-534-7098 or Brock\, Spring Creek\, 785-336-3568
URL:https://soks.org/event/the-roadrunners-3rd-annual-golf-tournament-2/
LOCATION:KS\, United States
CATEGORIES:North Central Region
END:VEVENT
BEGIN:VEVENT
DTSTART;TZID=America/Chicago:20210605T090000
DTEND;TZID=America/Chicago:20210605T143000
DTSTAMP:20260419T205614
CREATED:20210506T204825Z
LAST-MODIFIED:20210506T204825Z
UID:10002641-1622883600-1622903400@soks.org
SUMMARY:North Central Regional Track
DESCRIPTION:The North Central Regional Track  will be held on Saturday\, June 5 at Shawnee Heights High School\, 4201 SE Shawnee Heights Drive\, Tecumseh\, KS 66542.  The event will begin at 9:00. \nFor more information\, contact Krystin Guggisberg at guggisbergk@ksso.org.
URL:https://soks.org/event/north-central-regional-track/
LOCATION:KS\, United States
CATEGORIES:North Central Region,Sports
END:VEVENT
BEGIN:VEVENT
DTSTART;TZID=America/Chicago:20210605T090000
DTEND;TZID=America/Chicago:20210605T143000
DTSTAMP:20260419T205614
CREATED:20210506T204825Z
LAST-MODIFIED:20210506T204825Z
UID:10002642-1622883600-1622903400@soks.org
SUMMARY:North Central Regional Track
DESCRIPTION:The North Central Regional Track  will be held on Saturday\, June 5 at Shawnee Heights High School\, 4201 SE Shawnee Heights Drive\, Tecumseh\, KS 66542.  The event will begin at 9:00. \nFor more information\, contact Krystin Guggisberg at guggisbergk@ksso.org.
URL:https://soks.org/event/north-central-regional-track-2/
LOCATION:KS\, United States
CATEGORIES:North Central Region,Sports
END:VEVENT
BEGIN:VEVENT
DTSTART;TZID=America/Chicago:20210320T120000
DTEND;TZID=America/Chicago:20210320T170000
DTSTAMP:20260419T205614
CREATED:20210224T164717Z
LAST-MODIFIED:20210224T164717Z
UID:10002611-1616241600-1616259600@soks.org
SUMMARY:Virtual Basketball & Cheerleading Challenge
DESCRIPTION:The in-person 2021 State Basketball & Cheerleading Tournament has been cancelled due to concerns about COVID-19. We have transitioned to a Virtual Basketball & Cheerleading Challenge this year! Find out all of the details Click Here 
URL:https://soks.org/event/virtual-basketball-cheerleading-challenge/
LOCATION:KS
CATEGORIES:Metro Region,North Central Region,South Central Region,Southeast Region,Sports,West Region
END:VEVENT
BEGIN:VEVENT
DTSTART;TZID=America/Chicago:20210320T120000
DTEND;TZID=America/Chicago:20210320T170000
DTSTAMP:20260419T205614
CREATED:20210224T164717Z
LAST-MODIFIED:20210224T164717Z
UID:10002612-1616241600-1616259600@soks.org
SUMMARY:Virtual Basketball & Cheerleading Challenge
DESCRIPTION:The in-person 2021 State Basketball & Cheerleading Tournament has been cancelled due to concerns about COVID-19. We have transitioned to a Virtual Basketball & Cheerleading Challenge this year! Find out all of the details Click Here 
URL:https://soks.org/event/virtual-basketball-cheerleading-challenge-2/
LOCATION:KS
CATEGORIES:Metro Region,North Central Region,South Central Region,Southeast Region,Sports,West Region
END:VEVENT
BEGIN:VEVENT
DTSTART;TZID=America/Chicago:20210127T080000
DTEND;TZID=America/Chicago:20210129T170000
DTSTAMP:20260419T205614
CREATED:20200717T180110Z
LAST-MODIFIED:20200717T180110Z
UID:10002585-1611734400-1611939600@soks.org
SUMMARY:CANCELLED: John L Cassidy Heartland Winter Games
DESCRIPTION:The John L Cassidy Heartland Winter Games will be held in Weston\, MO\, St Joseph\, Mo and Atchison\, KS. Competitions will be held in Alpine Skiing\, Snowshoeing\, Cross Country\, Figure Skating and Speed Skating. Opening Ceremonies begin at 8:15pm on Wednesday\, January 27. For more information\, contact Tim Rehder at rehdert@ksso.org
URL:https://soks.org/event/john-l-cassidy-heartland-winter-games-4/
LOCATION:KS\, United States
CATEGORIES:Metro Region,North Central Region,South Central Region,Southeast Region,Sports,West Region
END:VEVENT
BEGIN:VEVENT
DTSTART;TZID=America/Chicago:20210127T080000
DTEND;TZID=America/Chicago:20210129T170000
DTSTAMP:20260419T205614
CREATED:20200717T180110Z
LAST-MODIFIED:20200717T180110Z
UID:10002586-1611734400-1611939600@soks.org
SUMMARY:CANCELLED: John L Cassidy Heartland Winter Games
DESCRIPTION:The John L Cassidy Heartland Winter Games will be held in Weston\, MO\, St Joseph\, Mo and Atchison\, KS. Competitions will be held in Alpine Skiing\, Snowshoeing\, Cross Country\, Figure Skating and Speed Skating. Opening Ceremonies begin at 8:15pm on Wednesday\, January 27. For more information\, contact Tim Rehder at rehdert@ksso.org
URL:https://soks.org/event/john-l-cassidy-heartland-winter-games-4-2/
LOCATION:KS\, United States
CATEGORIES:Metro Region,North Central Region,South Central Region,Southeast Region,Sports,West Region
END:VEVENT
BEGIN:VEVENT
DTSTART;TZID=America/Chicago:20201108T080000
DTEND;TZID=America/Chicago:20201108T160000
DTSTAMP:20260419T205614
CREATED:20200226T152438Z
LAST-MODIFIED:20200226T152438Z
UID:10002551-1604822400-1604851200@soks.org
SUMMARY:CANCELLED:  State  Bocce & Cornhole Tournament
DESCRIPTION:The State  Bocce & Cornhole Tournament will be held on Sunday\, November 8 at the Lone Elm Park\, 21151 W 167th\, Olathe KS. The competition will begin at 9:00a.m. and end around 3:00p.m. \nFor more information\, contact Tim Rehder at rehdert@ksso.org
URL:https://soks.org/event/state-soccer-bocce-tournament-5/
LOCATION:KS\, United States
CATEGORIES:Metro Region,North Central Region,South Central Region,Southeast Region,Sports,West Region
END:VEVENT
BEGIN:VEVENT
DTSTART;TZID=America/Chicago:20201108T080000
DTEND;TZID=America/Chicago:20201108T160000
DTSTAMP:20260419T205614
CREATED:20200226T152438Z
LAST-MODIFIED:20200226T152438Z
UID:10002552-1604822400-1604851200@soks.org
SUMMARY:CANCELLED:  State  Bocce & Cornhole Tournament
DESCRIPTION:The State  Bocce & Cornhole Tournament will be held on Sunday\, November 8 at the Lone Elm Park\, 21151 W 167th\, Olathe KS. The competition will begin at 9:00a.m. and end around 3:00p.m. \nFor more information\, contact Tim Rehder at rehdert@ksso.org
URL:https://soks.org/event/state-soccer-bocce-tournament-5-2/
LOCATION:KS\, United States
CATEGORIES:Metro Region,North Central Region,South Central Region,Southeast Region,Sports,West Region
END:VEVENT
BEGIN:VEVENT
DTSTART;TZID=America/Chicago:20201002T080000
DTEND;TZID=America/Chicago:20201004T170000
DTSTAMP:20260419T205614
CREATED:20200226T152105Z
LAST-MODIFIED:20200226T152105Z
UID:10002549-1601625600-1601830800@soks.org
SUMMARY:CANCELLED: Charles E Watson Softball & Golf Tournament
DESCRIPTION:The Charles E Watson Softball & Golf Tournament will be held in Wichita\, KS. \nFriday\, the Golf Competitions will be held at: Sierra Hills – 13420 E Pawnee\, Wichita\, KS;\nSaturday & Sunday the Softball Competition will be held at: – Two Rivers Youth Club (TRYC) – 1700 N Ridge\, Wichita\, KS. \nFor more information\, contact Tim Rehder at rehdert@ksso.org
URL:https://soks.org/event/charles-e-watson-softball-golf-tournament-7/
LOCATION:KS\, United States
CATEGORIES:Metro Region,North Central Region,South Central Region,Southeast Region,Sports,West Region
END:VEVENT
BEGIN:VEVENT
DTSTART;TZID=America/Chicago:20201002T080000
DTEND;TZID=America/Chicago:20201004T170000
DTSTAMP:20260419T205614
CREATED:20200226T152105Z
LAST-MODIFIED:20200226T152105Z
UID:10002550-1601625600-1601830800@soks.org
SUMMARY:CANCELLED: Charles E Watson Softball & Golf Tournament
DESCRIPTION:The Charles E Watson Softball & Golf Tournament will be held in Wichita\, KS. \nFriday\, the Golf Competitions will be held at: Sierra Hills – 13420 E Pawnee\, Wichita\, KS;\nSaturday & Sunday the Softball Competition will be held at: – Two Rivers Youth Club (TRYC) – 1700 N Ridge\, Wichita\, KS. \nFor more information\, contact Tim Rehder at rehdert@ksso.org
URL:https://soks.org/event/charles-e-watson-softball-golf-tournament-7-2/
LOCATION:KS\, United States
CATEGORIES:Metro Region,North Central Region,South Central Region,Southeast Region,Sports,West Region
END:VEVENT
BEGIN:VEVENT
DTSTART;TZID=UTC:20200605T080000
DTEND;TZID=UTC:20200607T170000
DTSTAMP:20260419T205614
CREATED:20190606T181616Z
LAST-MODIFIED:20190606T181616Z
UID:10002307-1591344000-1591549200@soks.org
SUMMARY:VIRTUAL State Summer Games
DESCRIPTION:The in-person  2020 Summer Games have been cancelled due to concerns about the spread of COVID-19. \nWe have transitioned to a Virtual Summer Games for this year! Find out all of the details here: https://ksso.org/virtual-summer-games/
URL:https://soks.org/event/state-summer-games-4/
LOCATION:KS\, United States
CATEGORIES:Metro Region,North Central Region,South Central Region,Southeast Region,Sports,West Region
END:VEVENT
BEGIN:VEVENT
DTSTART;TZID=UTC:20200605T080000
DTEND;TZID=UTC:20200607T170000
DTSTAMP:20260419T205614
CREATED:20190606T181616Z
LAST-MODIFIED:20190606T181616Z
UID:10002308-1591344000-1591549200@soks.org
SUMMARY:VIRTUAL State Summer Games
DESCRIPTION:The in-person  2020 Summer Games have been cancelled due to concerns about the spread of COVID-19. \nWe have transitioned to a Virtual Summer Games for this year! Find out all of the details here: https://ksso.org/virtual-summer-games/
URL:https://soks.org/event/state-summer-games-4-2/
LOCATION:KS\, United States
CATEGORIES:Metro Region,North Central Region,South Central Region,Southeast Region,Sports,West Region
END:VEVENT
BEGIN:VEVENT
DTSTART;TZID=America/Chicago:20200509T100000
DTEND;TZID=America/Chicago:20200509T160000
DTSTAMP:20260419T205614
CREATED:20191111T214036Z
LAST-MODIFIED:20191111T214036Z
UID:10002447-1589018400-1589040000@soks.org
SUMMARY:CANCELLED: Unified Soccer Tournament
DESCRIPTION:This event has been cancelled due to coronavirus.  \nUnified Soccer Tournament will be held on Saturday\, May 9 at Shawnee Mission Northwest High School\, 12701 W 67th St\, Shawnee\, KS  66216. \nFor more information\, please call Taylor Obersteadt at obersteadtt@ksso.org
URL:https://soks.org/event/unified-soccer-tournament-3/
LOCATION:KS\, United States
CATEGORIES:Metro Region,North Central Region,South Central Region,Southeast Region,Sports,Unified,West Region
END:VEVENT
BEGIN:VEVENT
DTSTART;TZID=America/Chicago:20200509T100000
DTEND;TZID=America/Chicago:20200509T160000
DTSTAMP:20260419T205614
CREATED:20191111T214036Z
LAST-MODIFIED:20191111T214036Z
UID:10002448-1589018400-1589040000@soks.org
SUMMARY:CANCELLED: Unified Soccer Tournament
DESCRIPTION:This event has been cancelled due to coronavirus.  \nUnified Soccer Tournament will be held on Saturday\, May 9 at Shawnee Mission Northwest High School\, 12701 W 67th St\, Shawnee\, KS  66216. \nFor more information\, please call Taylor Obersteadt at obersteadtt@ksso.org
URL:https://soks.org/event/unified-soccer-tournament-3-2/
LOCATION:KS\, United States
CATEGORIES:Metro Region,North Central Region,South Central Region,Southeast Region,Sports,Unified,West Region
END:VEVENT
BEGIN:VEVENT
DTSTART;TZID=America/Chicago:20200425T113000
DTEND;TZID=America/Chicago:20200425T170000
DTSTAMP:20260419T205614
CREATED:20191122T164450Z
LAST-MODIFIED:20191122T164450Z
UID:10002465-1587814200-1587834000@soks.org
SUMMARY:CANCELLED: State Powerlifting Competition
DESCRIPTION:This event is cancelled due to the Coronavirus.   \nState Powerlifting Competition will be held Saturday\, April 25 at Haskell Indian Nations University\, 155 E Indian Ave\, Lawrence\, KS 66046. Weigh-ins 11:30 a.m. Opening Ceremony 12:15 p.m. Begin lifting 1 p.m. Please contact Tim Rehder at rehdert@ksso.org for more information.
URL:https://soks.org/event/state-powerlifting-competition-2-2/
LOCATION:KS\, United States
CATEGORIES:Metro Region,North Central Region,South Central Region,Southeast Region,Sports,West Region
END:VEVENT
END:VCALENDAR