BEGIN:VCALENDAR
VERSION:2.0
PRODID:-//Special Olympics Kansas - ECPv6.15.20//NONSGML v1.0//EN
CALSCALE:GREGORIAN
METHOD:PUBLISH
X-ORIGINAL-URL:https://soks.org
X-WR-CALDESC:Events for Special Olympics Kansas
REFRESH-INTERVAL;VALUE=DURATION:PT1H
X-Robots-Tag:noindex
X-PUBLISHED-TTL:PT1H
BEGIN:VTIMEZONE
TZID:America/Chicago
BEGIN:DAYLIGHT
TZOFFSETFROM:-0600
TZOFFSETTO:-0500
TZNAME:CDT
DTSTART:20220313T080000
END:DAYLIGHT
BEGIN:STANDARD
TZOFFSETFROM:-0500
TZOFFSETTO:-0600
TZNAME:CST
DTSTART:20221106T070000
END:STANDARD
BEGIN:DAYLIGHT
TZOFFSETFROM:-0600
TZOFFSETTO:-0500
TZNAME:CDT
DTSTART:20230312T080000
END:DAYLIGHT
BEGIN:STANDARD
TZOFFSETFROM:-0500
TZOFFSETTO:-0600
TZNAME:CST
DTSTART:20231105T070000
END:STANDARD
BEGIN:DAYLIGHT
TZOFFSETFROM:-0600
TZOFFSETTO:-0500
TZNAME:CDT
DTSTART:20240310T080000
END:DAYLIGHT
BEGIN:STANDARD
TZOFFSETFROM:-0500
TZOFFSETTO:-0600
TZNAME:CST
DTSTART:20241103T070000
END:STANDARD
END:VTIMEZONE
BEGIN:VEVENT
DTSTART;TZID=America/Chicago:20230729T070000
DTEND;TZID=America/Chicago:20230729T170000
DTSTAMP:20260425T123808
CREATED:20230711T142217Z
LAST-MODIFIED:20230717T220144Z
UID:10002907-1690614000-1690650000@soks.org
SUMMARY:Bourbon County Golf Scramble
DESCRIPTION:For more information\, check out Bourbon County Special Olympics Annual Golf Scramble Facebook Page.
URL:https://soks.org/event/bourbon-county-golf-scramble-3/
LOCATION:Woodland Hills Golf Course\, 2414 Horton St\, Fort Scott\, KS\, 66701\, United States
CATEGORIES:Fundraising Events,Southeast Region,Sports
ATTACH;FMTTYPE=image/jpeg:https://soks.org/wp-content/uploads/2023/07/Golf-768x432-1.jpg
ORGANIZER;CN="Erin Fletcher":MAILTO:fletchere@soks.org
END:VEVENT
BEGIN:VEVENT
DTSTART;TZID=America/Chicago:20230726T170000
DTEND;TZID=America/Chicago:20230726T210000
DTSTAMP:20260425T123808
CREATED:20230713T155312Z
LAST-MODIFIED:20230713T155622Z
UID:10002908-1690390800-1690405200@soks.org
SUMMARY:Custard With Cops
DESCRIPTION:15% of all sales at all of the below locations goes to Special Olympics Kansas and Law Enforcement Torch Run! \nFreddy’s Topeka\n1050 SW Wanamaker Rd\nTopeka\, KS 66614 \nFreddy’s Topeka-Gage\n2135 SW Gage Blvd\nTopeka\, KS 66604 \nFreddy’s Manhattan\n229 McCall Rd\nManhattan\, KS 66502 \nFreddy’s Lansing\n237 N Main ST\nLansing\, KS 66043 \nFreddy’s Hutchinson\n1501 E 17th St\nHutchinson\, KS 67501 \nFreddy’s Newton\n520 SE 14th St\nNewton\, KS 67114 \nFreddy’s McPherson\n202 Champlin St\nMcPherson\, KS 67460 \nFreddy’s Dodge City\n1800 W Wyatt Earp Blvd\nDodge City\, KS 67801
URL:https://soks.org/event/custard-with-cops/
LOCATION:Freddy’s Frozen Custard & Steakburgers\, KS\, United States
CATEGORIES:Fundraising Events,LETR,Metro Region,North Central Region,Regional,South Central Region,West Region
ATTACH;FMTTYPE=image/png:https://soks.org/wp-content/uploads/2023/07/Screenshot-2023-07-13-at-10.51.32-AM-e1689263555448.png
ORGANIZER;CN="Jake LaMunyon":MAILTO:lamunyonj@soks.org
END:VEVENT
BEGIN:VEVENT
DTSTART;TZID=America/Chicago:20230722T090000
DTEND;TZID=America/Chicago:20230722T150000
DTSTAMP:20260425T123809
CREATED:20230505T152508Z
LAST-MODIFIED:20230505T152508Z
UID:10002889-1690016400-1690038000@soks.org
SUMMARY:North Central Regional Bowling
DESCRIPTION:
URL:https://soks.org/event/north-central-regional-bowling-3/
LOCATION:West Ridge Lanes\, 1935 SW Westport Drive\, Topeka\, KS\, 66604\, United States
CATEGORIES:North Central Region,Sporting Event,Sports
ATTACH;FMTTYPE=image/jpeg:https://soks.org/wp-content/uploads/2023/05/67827643_10157823869269050_603717383562985472_n.jpg
ORGANIZER;CN="Krystin Guggisberg":MAILTO:guggisbergk@soks.org
END:VEVENT
BEGIN:VEVENT
DTSTART;TZID=America/Chicago:20230701T110000
DTEND;TZID=America/Chicago:20230701T160000
DTSTAMP:20260425T123809
CREATED:20230120T183237Z
LAST-MODIFIED:20230629T153415Z
UID:10002860-1688209200-1688227200@soks.org
SUMMARY:KC Metro Regional Powerlifting
DESCRIPTION:Homefield\n2115 E Kansas City Road\nOlathe\, KS \nWeigh-in starts at 11am \nCompetition starts at Noon. \nNo lunch or concessions will be provided. \nWater will be provided. \nThe meet will consist of all 3 lifts happening at once. There will be 9 groups of 4-7 lifters with 3 groups going at a time. \nApproximate Schedule: \nNoon – 12:20 groups 1-3 first lift\n12:20 – 12:40 groups 4-6 first lift\n12:40 – 1:00 groups 7-9 first lift\n1:00 – 1:20 groups 1-3 second lift\nEtc\nFinish lifting at 3:00pm\, then awards.
URL:https://soks.org/event/metro-powerlifting/
LOCATION:2115 E. Kansas City Rd\, 2115 E. Kansas City Rd\, Olathe\, KS\, 66061\, United States
CATEGORIES:Metro Region,Regional,Sporting Event,Sports
ATTACH;FMTTYPE=image/jpeg:https://soks.org/wp-content/uploads/2022/09/Powerlifting.jpg
ORGANIZER;CN="Tim Rehder":MAILTO:rehdert@soks.org
END:VEVENT
BEGIN:VEVENT
DTSTART;TZID=America/Chicago:20230629T190000
DTEND;TZID=America/Chicago:20230629T203000
DTSTAMP:20260425T123809
CREATED:20230524T202656Z
LAST-MODIFIED:20230524T202856Z
UID:10002892-1688065200-1688070600@soks.org
SUMMARY:Hambingo Charity Night
DESCRIPTION:Come celebrate Special Olympics Kansas at Hambingo Charity Night! June 29\, 2023 from 7:00-8:30pm Hamburger Mary’s Kansas City will be hosting a Bingo Night where all proceeds from the sale of bingo cards will go to benefiting Special Olympics Kansas and our athletes.  \nThere will be 10 rounds of bingo\, each with a prize for the winner. Special Olympics Kansas will also be raffling off a surprise item!  \nIf you are worried about getting a table\, don’t worry! Hamburger Mary’s takes reservations! It will be a fun filled evening supporting our amazing athletes and we hope to see you there! \nYou can reserve a table with the link below: https://www.exploretock.com/hamburger-marys-kansas-city/ \nCaution:  The Bingo games can be a little risqué\, but always in good fun.  If your group is easily offended\, this event may not be right for you!
URL:https://soks.org/event/hambingo-charity-night/
LOCATION:Hamburger Mary’s Kansas City\, 3700 Broadway Blvd.\, Suite 110\, Kansas City\, MO\, 64111\, United States
CATEGORIES:Fundraising Events,Metro Region
ATTACH;FMTTYPE=image/jpeg:https://soks.org/wp-content/uploads/2023/05/Hamburger-Marys.jpg
ORGANIZER;CN="Ryan Warren":MAILTO:warrenr@soks.org
END:VEVENT
BEGIN:VEVENT
DTSTART;TZID=America/Chicago:20230523T170000
DTEND;TZID=America/Chicago:20230523T200000
DTSTAMP:20260425T123809
CREATED:20230120T185208Z
LAST-MODIFIED:20230120T185208Z
UID:10002864-1684861200-1684872000@soks.org
SUMMARY:Metro Regional Tennis - Match Play
DESCRIPTION:
URL:https://soks.org/event/metro-regional-tennis-match-play-3/
LOCATION:Blue Valley North Highschool\, 12200 Lamar Ave\, Overland Park\, KS\, 66209\, United States
CATEGORIES:Metro Region,Regional,Sporting Event,Sports
ATTACH;FMTTYPE=image/jpeg:https://soks.org/wp-content/uploads/2022/09/Tennis.jpg
ORGANIZER;CN="Chris Burt":MAILTO:burtc@soks.org
END:VEVENT
BEGIN:VEVENT
DTSTART;TZID=America/Chicago:20230516T180000
DTEND;TZID=America/Chicago:20230516T200000
DTSTAMP:20260425T123809
CREATED:20230120T184513Z
LAST-MODIFIED:20230509T212704Z
UID:10002863-1684260000-1684267200@soks.org
SUMMARY:Metro Regional Tennis - Skills
DESCRIPTION:NEW DATE: Postponed from May 9
URL:https://soks.org/event/metro-regional-tennis-skills-3/
LOCATION:Blue Valley North Highschool\, 12200 Lamar Ave\, Overland Park\, KS\, 66209\, United States
CATEGORIES:Metro Region,Regional,Sporting Event,Sports
ATTACH;FMTTYPE=image/jpeg:https://soks.org/wp-content/uploads/2022/09/Tennis.jpg
ORGANIZER;CN="Chris Burt":MAILTO:burtc@soks.org
END:VEVENT
BEGIN:VEVENT
DTSTART;TZID=America/Chicago:20230513T090000
DTEND;TZID=America/Chicago:20230513T120000
DTSTAMP:20260425T123809
CREATED:20230322T162651Z
LAST-MODIFIED:20230509T160921Z
UID:10002885-1683968400-1683979200@soks.org
SUMMARY:South Central Regional Tennis
DESCRIPTION:
URL:https://soks.org/event/south-central-regional-tennis-3/
LOCATION:Bishop Carroll High School\, 8101 Central Ave\, Wichita\, KS\, 67212\, United States
CATEGORIES:Regional,South Central Region,Sporting Event,Sports
ATTACH;FMTTYPE=image/jpeg:https://soks.org/wp-content/uploads/2022/09/Tennis.jpg
ORGANIZER;CN="Tim Rehder":MAILTO:rehdert@soks.org
END:VEVENT
BEGIN:VEVENT
DTSTART;TZID=America/Chicago:20230507T100000
DTEND;TZID=America/Chicago:20230507T140000
DTSTAMP:20260425T123809
CREATED:20230120T184021Z
LAST-MODIFIED:20230120T184021Z
UID:10002862-1683453600-1683468000@soks.org
SUMMARY:Metro Regional Soccer Tournament
DESCRIPTION:
URL:https://soks.org/event/metro-regional-soccer-tournament-3/
LOCATION:Prairie Center Park\, 555 N Olathe View\, Olathe\, KS\, 66061\, United States
CATEGORIES:Metro Region,Regional,Sporting Event,Sports
ATTACH;FMTTYPE=image/jpeg:https://soks.org/wp-content/uploads/2022/09/Soccer.jpg
ORGANIZER;CN="Tim Rehder":MAILTO:rehdert@soks.org
END:VEVENT
BEGIN:VEVENT
DTSTART;TZID=America/Chicago:20230506T093000
DTEND;TZID=America/Chicago:20230506T150000
DTSTAMP:20260425T123809
CREATED:20230323T181317Z
LAST-MODIFIED:20230323T181317Z
UID:10002886-1683365400-1683385200@soks.org
SUMMARY:West Regional Track and Field Meet
DESCRIPTION:
URL:https://soks.org/event/west-regional-track-and-field-meet/
LOCATION:Garden City High School\, 2720 Buffalo Wy Blvd\, Garden City\, KS\, 67846\, United States
CATEGORIES:Regional,Sporting Event,Sports,West Region
ATTACH;FMTTYPE=image/png:https://soks.org/wp-content/uploads/2022/11/Facebook-Event-Covers-7.png
ORGANIZER;CN="Brent Kaiser":MAILTO:kaiserb@soks.org
END:VEVENT
BEGIN:VEVENT
DTSTART;TZID=America/Chicago:20230506T090000
DTEND;TZID=America/Chicago:20230506T163000
DTSTAMP:20260425T123809
CREATED:20221213T162248Z
LAST-MODIFIED:20221213T162248Z
UID:10002848-1683363600-1683390600@soks.org
SUMMARY:South Central Regional Track
DESCRIPTION:
URL:https://soks.org/event/south-central-regional-track-3/
LOCATION:Wichita Collegiate High School\, 9115 E. 13th St\, Wichita\, KS\, 67206\, United States
CATEGORIES:Regional,South Central Region,Sporting Event,Sports
ATTACH;FMTTYPE=image/png:https://soks.org/wp-content/uploads/2022/11/Facebook-Event-Covers-7.png
ORGANIZER;CN="Tim Rehder":MAILTO:rehdert@soks.org
END:VEVENT
BEGIN:VEVENT
DTSTART;TZID=America/Chicago:20230506T090000
DTEND;TZID=America/Chicago:20230506T150000
DTSTAMP:20260425T123809
CREATED:20230228T152943Z
LAST-MODIFIED:20230228T152943Z
UID:10002876-1683363600-1683385200@soks.org
SUMMARY:Jefferson West Invitational Track Meet
DESCRIPTION:
URL:https://soks.org/event/jefferson-west-invitational-track-meet/
LOCATION:Jefferson West High School\, 619 Condray St\, Meriden\, KS\, 66512\, United States
CATEGORIES:LETR,North Central Region,Regional,Sporting Event,Sports
ATTACH;FMTTYPE=image/png:https://soks.org/wp-content/uploads/2022/11/Facebook-Event-Covers-7.png
ORGANIZER;CN="Krystin Guggisberg":MAILTO:guggisbergk@soks.org
END:VEVENT
BEGIN:VEVENT
DTSTART;TZID=America/Chicago:20230506T080000
DTEND;TZID=America/Chicago:20230506T160000
DTSTAMP:20260425T123809
CREATED:20221020T153128Z
LAST-MODIFIED:20221026T181126Z
UID:10002828-1683360000-1683388800@soks.org
SUMMARY:Unified Soccer Tournament
DESCRIPTION:
URL:https://soks.org/event/unified-soccer-tournament-5/
LOCATION:Shawnee Mission Northwest High School\, 12701 W 67th Street\, Shawnee\, KS\, 66216\, United States
CATEGORIES:Metro Region,Sports,Unified
ATTACH;FMTTYPE=image/jpeg:https://soks.org/wp-content/uploads/2022/08/Unified-Soccer-Pic-Slider-2.jpg
ORGANIZER;CN="Reid Ellis":MAILTO:ellisr@soks.org
END:VEVENT
BEGIN:VEVENT
DTSTART;TZID=America/Chicago:20230504T173000
DTEND;TZID=America/Chicago:20230504T193000
DTSTAMP:20260425T123809
CREATED:20230411T140051Z
LAST-MODIFIED:20230411T140051Z
UID:10002888-1683221400-1683228600@soks.org
SUMMARY:Metro Regional Cycling
DESCRIPTION:The event will take place in the parking lot by fields 2-4.
URL:https://soks.org/event/metro-regional-cycling-3/
LOCATION:Blue Valley Recreation Sports Complex\, 9701 W 137th Street\, Overland Park\, KS\, 66221\, United States
CATEGORIES:Metro Region,Regional,Sporting Event,Sports
ATTACH;FMTTYPE=image/jpeg:https://soks.org/wp-content/uploads/2022/09/Cycling.jpg
ORGANIZER;CN="Chris Burt":MAILTO:burtc@soks.org
END:VEVENT
BEGIN:VEVENT
DTSTART;TZID=America/Chicago:20230503T090000
DTEND;TZID=America/Chicago:20230503T140000
DTSTAMP:20260425T123809
CREATED:20230113T210826Z
LAST-MODIFIED:20230113T210826Z
UID:10002857-1683104400-1683122400@soks.org
SUMMARY:Southeast Track & Field
DESCRIPTION:
URL:https://soks.org/event/southeast-track-field/
LOCATION:Erie High School\, 1400 N Main Street\, Erie\, KS\, 66733\, United States
CATEGORIES:Regional,Southeast Region,Sporting Event,Sports
ATTACH;FMTTYPE=image/png:https://soks.org/wp-content/uploads/2022/11/Facebook-Event-Covers-7.png
ORGANIZER;CN="Olivia Lotven":MAILTO:lotveno@soks.org
END:VEVENT
BEGIN:VEVENT
DTSTART;TZID=America/Chicago:20230429T090000
DTEND;TZID=America/Chicago:20230429T150000
DTSTAMP:20260425T123809
CREATED:20221110T175535Z
LAST-MODIFIED:20221110T175535Z
UID:10002841-1682758800-1682780400@soks.org
SUMMARY:North Central Regional Track
DESCRIPTION:
URL:https://soks.org/event/north-central-regional-track-3/
LOCATION:Shawnee Heights High School\, 4201 SE Shawnee Heights Rd\, Tecumseh\, KS\, 66542\, United States
CATEGORIES:North Central Region,Regional,Sporting Event,Sports
ATTACH;FMTTYPE=image/png:https://soks.org/wp-content/uploads/2022/11/Facebook-Event-Covers-7.png
ORGANIZER;CN="Krystin Guggisberg":MAILTO:guggisbergk@soks.org
END:VEVENT
BEGIN:VEVENT
DTSTART;TZID=America/Chicago:20230429T080000
DTEND;TZID=America/Chicago:20230429T170000
DTSTAMP:20260425T123809
CREATED:20221103T143635Z
LAST-MODIFIED:20221103T143635Z
UID:10002840-1682755200-1682787600@soks.org
SUMMARY:Metro Track
DESCRIPTION:
URL:https://soks.org/event/metro-track/
LOCATION:Shawnee Mission South High School\, 5800 W 107th St\, Overland Park\, KS\, 66207\, United States
CATEGORIES:Metro Region,Regional,Sporting Event,Sports
ATTACH;FMTTYPE=image/png:https://soks.org/wp-content/uploads/2022/11/Facebook-Event-Covers-7.png
ORGANIZER;CN="Tim Rehder":MAILTO:rehdert@soks.org
END:VEVENT
BEGIN:VEVENT
DTSTART;TZID=America/Chicago:20230427T090000
DTEND;TZID=America/Chicago:20230427T140000
DTSTAMP:20260425T123809
CREATED:20230303T204826Z
LAST-MODIFIED:20230303T204826Z
UID:10002880-1682586000-1682604000@soks.org
SUMMARY:SE Regional Track and Field - Youth
DESCRIPTION:
URL:https://soks.org/event/se-regional-track-and-field-youth/
LOCATION:Pittsburg State University Plaster Center\, 1701 S Homer St\, Pittsburg\, 66762
CATEGORIES:Regional,Southeast Region,Sporting Event,Sports
ATTACH;FMTTYPE=image/png:https://soks.org/wp-content/uploads/2022/11/Facebook-Event-Covers-7.png
ORGANIZER;CN="Olivia Lotven":MAILTO:lotveno@soks.org
END:VEVENT
BEGIN:VEVENT
DTSTART;TZID=America/Chicago:20230425T090000
DTEND;TZID=America/Chicago:20230425T140000
DTSTAMP:20260425T123809
CREATED:20230303T204753Z
LAST-MODIFIED:20230303T204753Z
UID:10002879-1682413200-1682431200@soks.org
SUMMARY:SE Regional Track and Field - Adults
DESCRIPTION:
URL:https://soks.org/event/se-regional-track-and-field-adults/
LOCATION:Pittsburg State University Plaster Center\, 1701 S Homer St\, Pittsburg\, 66762
CATEGORIES:Regional,Southeast Region,Sporting Event,Sports
ATTACH;FMTTYPE=image/png:https://soks.org/wp-content/uploads/2022/11/Facebook-Event-Covers-7.png
ORGANIZER;CN="Olivia Lotven":MAILTO:lotveno@soks.org
END:VEVENT
BEGIN:VEVENT
DTSTART;TZID=America/Chicago:20230422T080000
DTEND;TZID=America/Chicago:20230422T160000
DTSTAMP:20260425T123809
CREATED:20221020T153010Z
LAST-MODIFIED:20221026T181144Z
UID:10002827-1682150400-1682179200@soks.org
SUMMARY:Unified Soccer Match Day
DESCRIPTION:
URL:https://soks.org/event/unified-soccer-match-day/
LOCATION:Bonner Springs High School\, 100 McDanield St\, Bonner Springs\, KS\, 66012\, United States
CATEGORIES:Metro Region,Sports,Unified
ATTACH;FMTTYPE=image/jpeg:https://soks.org/wp-content/uploads/2022/08/Unified-Soccer-Pic-Slider-2.jpg
ORGANIZER;CN="Reid Ellis":MAILTO:ellisr@soks.org
END:VEVENT
BEGIN:VEVENT
DTSTART;TZID=America/Chicago:20230304T100000
DTEND;TZID=America/Chicago:20230304T160000
DTSTAMP:20260425T123809
CREATED:20221020T152849Z
LAST-MODIFIED:20230216T201143Z
UID:10002826-1677924000-1677945600@soks.org
SUMMARY:Unified Bocce Tournament
DESCRIPTION:
URL:https://soks.org/event/unified-bocce-tournament-5/
LOCATION:Olathe East High School\, 14545 W 127th St\, Olathe\, KS\, 66062\, United States
CATEGORIES:Metro Region,Sports,Unified
ATTACH;FMTTYPE=image/jpeg:https://soks.org/wp-content/uploads/2022/09/Bocce.jpg
ORGANIZER;CN="Reid Ellis":MAILTO:ellisr@soks.org
END:VEVENT
BEGIN:VEVENT
DTSTART;TZID=America/Chicago:20230304T080000
DTEND;TZID=America/Chicago:20230304T130000
DTSTAMP:20260425T123809
CREATED:20221020T151751Z
LAST-MODIFIED:20221108T191335Z
UID:10002822-1677916800-1677934800@soks.org
SUMMARY:Topeka Polar Plunge
DESCRIPTION:Click Here for More Information
URL:https://soks.org/event/topeka-polar-plunge-3/
LOCATION:Lake Shawnee\, KS\, United States
CATEGORIES:Fundraising Events,North Central Region,Special
ATTACH;FMTTYPE=image/jpeg:https://soks.org/wp-content/uploads/2022/05/Polar-Plunge-1-min.jpg
END:VEVENT
BEGIN:VEVENT
DTSTART;TZID=America/Chicago:20230226T083000
DTEND;TZID=America/Chicago:20230226T170000
DTSTAMP:20260425T123809
CREATED:20230110T191117Z
LAST-MODIFIED:20230110T191117Z
UID:10002851-1677400200-1677430800@soks.org
SUMMARY:2023 Metro Basketball
DESCRIPTION:The tournament is Sunday\, February 26\, 2023 at Olathe West High School and Mission Trail Junior High School from 8:30 am – 5:00 pm\n\n\nOlathe West – 2200 W Sante Fe\, Olathe KS 66061\nMission Trail – 1001 N. Persimmon Dr\, Olathe. KS 66061
URL:https://soks.org/event/2023-metro-basketball/
LOCATION:KS
CATEGORIES:Metro Region,Regional,Sporting Event,Sports
ATTACH;FMTTYPE=image/jpeg:https://soks.org/wp-content/uploads/2022/09/Basketball.jpg
ORGANIZER;CN="Tim Rehder":MAILTO:rehdert@soks.org
END:VEVENT
BEGIN:VEVENT
DTSTART;TZID=America/Chicago:20230225T090000
DTEND;TZID=America/Chicago:20230225T160000
DTSTAMP:20260425T123809
CREATED:20230210T182631Z
LAST-MODIFIED:20230210T182631Z
UID:10002871-1677315600-1677340800@soks.org
SUMMARY:North Central Regional Basketball
DESCRIPTION:
URL:https://soks.org/event/north-central-regional-basketball/
LOCATION:Junction City High School\, 1100 Blue Jay Wy\, Junction City\, KS\, 66441\, United States
CATEGORIES:North Central Region,Regional,Sporting Event,Sports
ATTACH;FMTTYPE=image/jpeg:https://soks.org/wp-content/uploads/2022/09/Basketball.jpg
ORGANIZER;CN="Krystin Guggisberg":MAILTO:guggisbergk@soks.org
END:VEVENT
BEGIN:VEVENT
DTSTART;TZID=America/Chicago:20230225T090000
DTEND;TZID=America/Chicago:20230225T160000
DTSTAMP:20260425T123809
CREATED:20221115T193207Z
LAST-MODIFIED:20230124T144802Z
UID:10002844-1677315600-1677340800@soks.org
SUMMARY:West Region Basketball and Cheerleading
DESCRIPTION:https://www.givepulse.com/event/348273
URL:https://soks.org/event/west-region-basketball-and-cheerleading/
LOCATION:Panther Athletic Center\, 2450 19th Street\, Great Bend\, KS\, 67530\, United States
CATEGORIES:Sporting Event,Sports,West Region
ATTACH;FMTTYPE=image/jpeg:https://soks.org/wp-content/uploads/2022/09/Basketball-pic-2.jpg
ORGANIZER;CN="Brent Kaiser":MAILTO:kaiserb@soks.org
END:VEVENT
BEGIN:VEVENT
DTSTART;TZID=America/Chicago:20230225T090000
DTEND;TZID=America/Chicago:20230225T160000
DTSTAMP:20260425T123809
CREATED:20221010T172207Z
LAST-MODIFIED:20221026T181347Z
UID:10002808-1677315600-1677340800@soks.org
SUMMARY:North Central Regional Basketball and Cheerleading
DESCRIPTION:
URL:https://soks.org/event/nc-regional-basketball/
LOCATION:KS
CATEGORIES:North Central Region,Regional,Sports
ATTACH;FMTTYPE=image/jpeg:https://soks.org/wp-content/uploads/2022/09/Basketball-pic-2.jpg
END:VEVENT
BEGIN:VEVENT
DTSTART;TZID=America/Chicago:20230225T080000
DTEND;TZID=America/Chicago:20230225T160000
DTSTAMP:20260425T123809
CREATED:20221019T172456Z
LAST-MODIFIED:20221026T181322Z
UID:10002819-1677312000-1677340800@soks.org
SUMMARY:South Central Regional Basketball & Cheerleading
DESCRIPTION:Competitions will take place at Campus High School\, Haysville Middle School\, and Haysville West Middle School
URL:https://soks.org/event/south-central-basketball-cheerleading/
LOCATION:KS
CATEGORIES:Regional,South Central Region,Sporting Event,Sports
ATTACH;FMTTYPE=image/jpeg:https://soks.org/wp-content/uploads/2022/09/Basketball-pic-2.jpg
ORGANIZER;CN="Tim Rehder":MAILTO:rehdert@soks.org
END:VEVENT
BEGIN:VEVENT
DTSTART;TZID=America/Chicago:20230218T090000
DTEND;TZID=America/Chicago:20230218T160000
DTSTAMP:20260425T123809
CREATED:20221103T142151Z
LAST-MODIFIED:20221103T142151Z
UID:10002834-1676710800-1676736000@soks.org
SUMMARY:Unified Bocce Match Day
DESCRIPTION:
URL:https://soks.org/event/unified-bocce-match-day/
LOCATION:Lawrence High School\, 1901 Louisiana Street\, Lawrence\, KS\, 66044\, United States
CATEGORIES:Metro Region,Regional,Sports,Unified
ATTACH;FMTTYPE=image/jpeg:https://soks.org/wp-content/uploads/2022/09/Bocce.jpg
ORGANIZER;CN="Reid Ellis":MAILTO:ellisr@soks.org
END:VEVENT
BEGIN:VEVENT
DTSTART;TZID=America/Chicago:20230218T090000
DTEND;TZID=America/Chicago:20230218T130000
DTSTAMP:20260425T123809
CREATED:20230126T151542Z
LAST-MODIFIED:20230126T151542Z
UID:10002866-1676710800-1676725200@soks.org
SUMMARY:Haysville Polar Plunge
DESCRIPTION:Click Here for More Information
URL:https://soks.org/event/haysville-polar-plunge-3/
LOCATION:Riggs Park\, 700 Saran Ln\, Haysville\, KS\, 67060\, United States
CATEGORIES:Fundraising Events,South Central Region
ATTACH;FMTTYPE=image/jpeg:https://soks.org/wp-content/uploads/2022/05/Polar-Plunge-1-min.jpg
END:VEVENT
BEGIN:VEVENT
DTSTART;TZID=America/Chicago:20230218T080000
DTEND;TZID=America/Chicago:20230218T130000
DTSTAMP:20260425T123809
CREATED:20221020T152210Z
LAST-MODIFIED:20221108T191609Z
UID:10002823-1676707200-1676725200@soks.org
SUMMARY:Emporia Polar Plunge
DESCRIPTION:Click Here for More Information
URL:https://soks.org/event/emporia-polar-plunge-3/
LOCATION:Mouse Lake\, KS\, United States
CATEGORIES:Fundraising Events,South Central Region
ATTACH;FMTTYPE=image/jpeg:https://soks.org/wp-content/uploads/2022/05/Polar-Plunge-1-min.jpg
END:VEVENT
END:VCALENDAR