BEGIN:VCALENDAR
VERSION:2.0
PRODID:-//Special Olympics Kansas - ECPv6.15.20//NONSGML v1.0//EN
CALSCALE:GREGORIAN
METHOD:PUBLISH
X-WR-CALNAME:Special Olympics Kansas
X-ORIGINAL-URL:https://soks.org
X-WR-CALDESC:Events for Special Olympics Kansas
REFRESH-INTERVAL;VALUE=DURATION:PT1H
X-Robots-Tag:noindex
X-PUBLISHED-TTL:PT1H
BEGIN:VTIMEZONE
TZID:America/Chicago
BEGIN:DAYLIGHT
TZOFFSETFROM:-0600
TZOFFSETTO:-0500
TZNAME:CDT
DTSTART:20220313T080000
END:DAYLIGHT
BEGIN:STANDARD
TZOFFSETFROM:-0500
TZOFFSETTO:-0600
TZNAME:CST
DTSTART:20221106T070000
END:STANDARD
BEGIN:DAYLIGHT
TZOFFSETFROM:-0600
TZOFFSETTO:-0500
TZNAME:CDT
DTSTART:20230312T080000
END:DAYLIGHT
BEGIN:STANDARD
TZOFFSETFROM:-0500
TZOFFSETTO:-0600
TZNAME:CST
DTSTART:20231105T070000
END:STANDARD
BEGIN:DAYLIGHT
TZOFFSETFROM:-0600
TZOFFSETTO:-0500
TZNAME:CDT
DTSTART:20240310T080000
END:DAYLIGHT
BEGIN:STANDARD
TZOFFSETFROM:-0500
TZOFFSETTO:-0600
TZNAME:CST
DTSTART:20241103T070000
END:STANDARD
END:VTIMEZONE
BEGIN:VEVENT
DTSTART;TZID=America/Chicago:20231021T090000
DTEND;TZID=America/Chicago:20231021T140000
DTSTAMP:20260419T204727
CREATED:20230524T205959Z
LAST-MODIFIED:20230928T163538Z
UID:10002893-1697878800-1697896800@soks.org
SUMMARY:West Regional Bowling
DESCRIPTION:Registration information will be sent to local programs in early fall. \nNEW! We are trying a different participation policy for the West Region Bowling tournament on October 21st. Athletes in communities where there is not currently a local program can register and compete as an individual. This is on a trial basis only for this event. It is our hope that through this process we will provide opportunities to athletes who otherwise wouldn’t be able to participate and ideally be the stepping stone to forming programs in new communities. \nSteps to register as an individual: \n\nComplete this online interest form so that we have you on the list to receive the registration information in the fall.\nComplete an athlete registration form/medical packet. Download here\nYou will complete the official event registration form that will be emailed to you at a later date.\n\nContact Brent Kaiser at kaiserb@soks.org or 785-301-8214 for more information. \nVolunteer
URL:https://soks.org/event/west-regional-bowling-2/
LOCATION:Centennial Lanes\, 2400 Vine St\, Hays\, KS\, 67601\, United States
CATEGORIES:Regional,Sports,Volunteer,West Region
ATTACH;FMTTYPE=image/jpeg:https://soks.org/wp-content/uploads/2022/09/Bowling.jpg
ORGANIZER;CN="Brent Kaiser":MAILTO:kaiserb@soks.org
END:VEVENT
END:VCALENDAR