BEGIN:VCALENDAR
VERSION:2.0
PRODID:-//Special Olympics Kansas - ECPv6.15.20//NONSGML v1.0//EN
CALSCALE:GREGORIAN
METHOD:PUBLISH
X-WR-CALNAME:Special Olympics Kansas
X-ORIGINAL-URL:https://soks.org
X-WR-CALDESC:Events for Special Olympics Kansas
REFRESH-INTERVAL;VALUE=DURATION:PT1H
X-Robots-Tag:noindex
X-PUBLISHED-TTL:PT1H
BEGIN:VTIMEZONE
TZID:America/Chicago
BEGIN:DAYLIGHT
TZOFFSETFROM:-0600
TZOFFSETTO:-0500
TZNAME:CDT
DTSTART:20220313T080000
END:DAYLIGHT
BEGIN:STANDARD
TZOFFSETFROM:-0500
TZOFFSETTO:-0600
TZNAME:CST
DTSTART:20221106T070000
END:STANDARD
BEGIN:DAYLIGHT
TZOFFSETFROM:-0600
TZOFFSETTO:-0500
TZNAME:CDT
DTSTART:20230312T080000
END:DAYLIGHT
BEGIN:STANDARD
TZOFFSETFROM:-0500
TZOFFSETTO:-0600
TZNAME:CST
DTSTART:20231105T070000
END:STANDARD
BEGIN:DAYLIGHT
TZOFFSETFROM:-0600
TZOFFSETTO:-0500
TZNAME:CDT
DTSTART:20240310T080000
END:DAYLIGHT
BEGIN:STANDARD
TZOFFSETFROM:-0500
TZOFFSETTO:-0600
TZNAME:CST
DTSTART:20241103T070000
END:STANDARD
END:VTIMEZONE
BEGIN:VEVENT
DTSTART;TZID=America/Chicago:20230909T150000
DTEND;TZID=America/Chicago:20230909T210000
DTSTAMP:20260420T002004
CREATED:20230713T201857Z
LAST-MODIFIED:20230830T184156Z
UID:10002909-1694271600-1694293200@soks.org
SUMMARY:Northwest Kansas Convoy
DESCRIPTION:$100 for truck with 5 wheels or more\n$25 for classic cars\, motorcycles & vehicles with 4 wheels or fewer. \nEntry fee includes convoy\, t-shirt and dinner. Additional riders\, friends and family are asked to join us at lunch for a freewill donation. \nContact Brent Kaiser at kaiserb@soks.org for more information. \n— \nStarting locations: \nWestern Leg | Goodland\, KS Short and Sons Trucking 1016 W Highway 64 Goodland\, KS \nEastern Leg | Oakley\, KS Mittens TA Travel Plaza Exit 76 on I-70 \nEnding location: Oasis-Petro Travel Center 700 W. Horton Colby\, KS 67835 \n— \nSchedule \nOakley\n3 p.m. CT: Registration Starts\n4 p.m. CT: Convoy Starts w/ Law Enforcement escort \nGoodland\n2 p.m. MT: Registration Starts\n3 p.m. MT: Convoy Starts w/ Law Enforcement escort \nColby\n5:00 p.m.: Trucks Arrive\n5:30 p.m.: Dinner\, Auction & Yard Games\n6:45 p.m.: Light Show through Colby
URL:https://soks.org/event/northwest-kansas-convoy/
LOCATION:Oasis Travel Center\, 700 W Horton Ave\, Colby\, KS\, 67701\, United States
CATEGORIES:Fundraising Events,Special,West Region
ATTACH;FMTTYPE=image/jpeg:https://soks.org/wp-content/uploads/2023/07/305473230_10160255628142048_2915436219833069844_n-e1689280659906.jpg
ORGANIZER;CN="Brent Kaiser":MAILTO:kaiserb@soks.org
END:VEVENT
END:VCALENDAR