BEGIN:VCALENDAR
VERSION:2.0
PRODID:-//Special Olympics Kansas - ECPv6.15.20//NONSGML v1.0//EN
CALSCALE:GREGORIAN
METHOD:PUBLISH
X-ORIGINAL-URL:https://soks.org
X-WR-CALDESC:Events for Special Olympics Kansas
REFRESH-INTERVAL;VALUE=DURATION:PT1H
X-Robots-Tag:noindex
X-PUBLISHED-TTL:PT1H
BEGIN:VTIMEZONE
TZID:America/Chicago
BEGIN:DAYLIGHT
TZOFFSETFROM:-0600
TZOFFSETTO:-0500
TZNAME:CDT
DTSTART:20230312T080000
END:DAYLIGHT
BEGIN:STANDARD
TZOFFSETFROM:-0500
TZOFFSETTO:-0600
TZNAME:CST
DTSTART:20231105T070000
END:STANDARD
BEGIN:DAYLIGHT
TZOFFSETFROM:-0600
TZOFFSETTO:-0500
TZNAME:CDT
DTSTART:20240310T080000
END:DAYLIGHT
BEGIN:STANDARD
TZOFFSETFROM:-0500
TZOFFSETTO:-0600
TZNAME:CST
DTSTART:20241103T070000
END:STANDARD
BEGIN:DAYLIGHT
TZOFFSETFROM:-0600
TZOFFSETTO:-0500
TZNAME:CDT
DTSTART:20250309T080000
END:DAYLIGHT
BEGIN:STANDARD
TZOFFSETFROM:-0500
TZOFFSETTO:-0600
TZNAME:CST
DTSTART:20251102T070000
END:STANDARD
END:VTIMEZONE
BEGIN:VEVENT
DTSTART;VALUE=DATE:20240322
DTEND;VALUE=DATE:20240324
DTSTAMP:20260419T151954
CREATED:20231031T183151Z
LAST-MODIFIED:20240321T130931Z
UID:10002953-1711065600-1711238399@soks.org
SUMMARY:State Basketball and Cheerleading (Hays)
DESCRIPTION:2024 HAYS BASKETBALL & CHEERLEADING TOURNAMENT TENTATIVE SCHEDULE \nFriday\, March 22\, 2024 \n9:30a.m.Opening Ceremonies (GMC Main Arena) \n10:00a.m. – 4:00p.m. General Store (GMC) \n10:00a.m. – 4:00p.m. Concession Stand (GMC) \n10:30a.m. Individual Skills & Speed Dribble (GMC Main Arena) \n11:00a.m. – 1:00p.m. Lunch (GMC – Cage by Gate 3) \n12:30p.m. – 5:00p.m. Tournament Play (FHSU & HRC) \n5:00p.m. – 7:00p.m. Dinner – Pizza (Team Pick-up) \n6:00p.m. – 9:00p.m. Dance (Hays Middle School) – change as of 2/21/2024) \nSaturday\, March 23\, 2024 \n8:00a.m. – 3:00p.m. Tournament Play (FHSU & HRC) \n8:00a.m. – 9:30a.m. Cheerleading (GMC) \n9:00a.m. – 2:00p.m. Concession Stand (GMC) \n9:00a.m. – 2:00p.m. General Store (GMC) \n9:00a.m. – 1:00p.m. Fit Feet (GMC South Concourse) \n9:30a.m. – 3:00p.m. Healthy Hearing \n9:30a.m. – 10:30a.m. Team Skills (GMC) \n11:00a.m. – 1:00p.m. Lunch (GMC – Cage by Gate 3) \nVenues \nFort Hays State University Gross Memorial Coliseum (GMC)\, 600 Park St\, Hays\, KS 67601 \nHays Middle School\, 201 W 29th St\, Hays\, KS 67601 \nHays Recreation Commission (HRC)\, 1105 Canterbury Dr\, Hays\, KS 67601 \n\n\nBRACKETS\nClick here for Tentative Schedule \nVolunteer for this event. \n 
URL:https://soks.org/event/state-basketball-and-cheerleading-hays/
LOCATION:Fort Hays State University\, 600 Park St\, Hays\, 67601\, United States
CATEGORIES:Sporting Event,Sports,State,Volunteer,West Region
ATTACH;FMTTYPE=image/jpeg:https://soks.org/wp-content/uploads/2022/09/State-Basketball-min.jpg
ORGANIZER;CN="Tim Rehder":MAILTO:rehdert@soks.org
END:VEVENT
END:VCALENDAR