BEGIN:VCALENDAR
VERSION:2.0
PRODID:-//Special Olympics Kansas - ECPv6.15.20//NONSGML v1.0//EN
CALSCALE:GREGORIAN
METHOD:PUBLISH
X-ORIGINAL-URL:https://soks.org
X-WR-CALDESC:Events for Special Olympics Kansas
REFRESH-INTERVAL;VALUE=DURATION:PT1H
X-Robots-Tag:noindex
X-PUBLISHED-TTL:PT1H
BEGIN:VTIMEZONE
TZID:America/Chicago
BEGIN:DAYLIGHT
TZOFFSETFROM:-0600
TZOFFSETTO:-0500
TZNAME:CDT
DTSTART:20250309T080000
END:DAYLIGHT
BEGIN:STANDARD
TZOFFSETFROM:-0500
TZOFFSETTO:-0600
TZNAME:CST
DTSTART:20251102T070000
END:STANDARD
BEGIN:DAYLIGHT
TZOFFSETFROM:-0600
TZOFFSETTO:-0500
TZNAME:CDT
DTSTART:20260308T080000
END:DAYLIGHT
BEGIN:STANDARD
TZOFFSETFROM:-0500
TZOFFSETTO:-0600
TZNAME:CST
DTSTART:20261101T070000
END:STANDARD
BEGIN:DAYLIGHT
TZOFFSETFROM:-0600
TZOFFSETTO:-0500
TZNAME:CDT
DTSTART:20270314T080000
END:DAYLIGHT
BEGIN:STANDARD
TZOFFSETFROM:-0500
TZOFFSETTO:-0600
TZNAME:CST
DTSTART:20271107T070000
END:STANDARD
END:VTIMEZONE
BEGIN:VEVENT
DTSTART;TZID=America/Chicago:20260214T090000
DTEND;TZID=America/Chicago:20260214T160000
DTSTAMP:20260420T011617
CREATED:20260115T165207Z
LAST-MODIFIED:20260115T165207Z
UID:10003276-1771059600-1771084800@soks.org
SUMMARY:Leavenworth Basketball Invitational
DESCRIPTION:Join us for a day of competition and sportsmanship at the Leavenworth Basketball Invitational! \nHosted by the Leavenworth local program\, this team-hosted tournament will bring athletes together for an exciting day of basketball\, teamwork\, and community spirit. \n📅 Date: Saturday\, February 14\, 2026⏰ Time: 9:00 a.m. – 4:00 p.m.📍 Location: Leavenworth High School2012 10th Ave\, Leavenworth\, KS 66048 \nTeams from across the area will compete in a full day of games\, showcasing skill\, determination\, and the true spirit of Special Olympics. Families\, friends\, and community members are encouraged to come cheer on the athletes and enjoy a great day of basketball. \nFor more information about this event\, contact:Vicki Lozenski – vicki.lozenski@lvpioneers.org
URL:https://soks.org/event/leavenworth-basketball-invitational-4/
LOCATION:Leavenworth High School\, 2012 10th Ave\, Leavenworth\, KS\, 66048\, United States
CATEGORIES:Metro Region,Sporting Event,Sports
ATTACH;FMTTYPE=image/jpeg:https://soks.org/wp-content/uploads/2024/11/Basketball3-scaled.jpg
ORGANIZER;CN="Tim Rehder":MAILTO:rehdert@soks.org
END:VEVENT
END:VCALENDAR