BEGIN:VCALENDAR
VERSION:2.0
PRODID:-//Special Olympics Kansas - ECPv6.15.20//NONSGML v1.0//EN
CALSCALE:GREGORIAN
METHOD:PUBLISH
X-ORIGINAL-URL:https://soks.org
X-WR-CALDESC:Events for Special Olympics Kansas
REFRESH-INTERVAL;VALUE=DURATION:PT1H
X-Robots-Tag:noindex
X-PUBLISHED-TTL:PT1H
BEGIN:VTIMEZONE
TZID:America/Chicago
BEGIN:DAYLIGHT
TZOFFSETFROM:-0600
TZOFFSETTO:-0500
TZNAME:CDT
DTSTART:20250309T080000
END:DAYLIGHT
BEGIN:STANDARD
TZOFFSETFROM:-0500
TZOFFSETTO:-0600
TZNAME:CST
DTSTART:20251102T070000
END:STANDARD
BEGIN:DAYLIGHT
TZOFFSETFROM:-0600
TZOFFSETTO:-0500
TZNAME:CDT
DTSTART:20260308T080000
END:DAYLIGHT
BEGIN:STANDARD
TZOFFSETFROM:-0500
TZOFFSETTO:-0600
TZNAME:CST
DTSTART:20261101T070000
END:STANDARD
BEGIN:DAYLIGHT
TZOFFSETFROM:-0600
TZOFFSETTO:-0500
TZNAME:CDT
DTSTART:20270314T080000
END:DAYLIGHT
BEGIN:STANDARD
TZOFFSETFROM:-0500
TZOFFSETTO:-0600
TZNAME:CST
DTSTART:20271107T070000
END:STANDARD
END:VTIMEZONE
BEGIN:VEVENT
DTSTART;TZID=America/Chicago:20260418T083000
DTEND;TZID=America/Chicago:20260418T130000
DTSTAMP:20260420T042609
CREATED:20260115T170844Z
LAST-MODIFIED:20260115T170844Z
UID:10003280-1776501000-1776517200@soks.org
SUMMARY:Unified Soccer Match Day
DESCRIPTION:Get ready for a fun and fast-paced day at the 2026 Unified Soccer Match Day! \nThis annual event brings Unified teams together to practice\, compete\, and prepare for the upcoming tournament season. It’s the perfect opportunity for athletes with and without intellectual disabilities to build teamwork\, sharpen their skills\, and celebrate inclusion through soccer. \n📅 Date: Saturday\, April 18\, 2026⏰ Time: 8:30 a.m. – 1:00 p.m.📍 Location: Bonner Springs High School100 McDanield St\, Bonner Springs\, KS 66012 \nTeams will participate in a series of matches focused on development\, sportsmanship\, and fun—helping everyone get game-ready for tournament play. \nInterested in volunteering? Sign up here:🔗 https://givepul.se/7zeuni \nCome support Unified sports and be part of a day that shows how powerful inclusion can be!
URL:https://soks.org/event/unified-soccer-match-day-3/
LOCATION:Bonner Springs High School\, 100 McDanield St\, Bonner Springs\, KS\, 66012\, United States
CATEGORIES:Metro Region,Sporting Event,Sports,Unified,Volunteer
ATTACH;FMTTYPE=image/jpeg:https://soks.org/wp-content/uploads/2023/08/20230719_MLS_special_olympics_0718-scaled.jpg
ORGANIZER;CN="Caroline Meyers":MAILTO:meyersc@soks.org
END:VEVENT
END:VCALENDAR