BEGIN:VCALENDAR
VERSION:2.0
PRODID:-//Special Olympics Kansas - ECPv6.15.20//NONSGML v1.0//EN
CALSCALE:GREGORIAN
METHOD:PUBLISH
X-ORIGINAL-URL:https://soks.org
X-WR-CALDESC:Events for Special Olympics Kansas
REFRESH-INTERVAL;VALUE=DURATION:PT1H
X-Robots-Tag:noindex
X-PUBLISHED-TTL:PT1H
BEGIN:VTIMEZONE
TZID:America/Chicago
BEGIN:DAYLIGHT
TZOFFSETFROM:-0600
TZOFFSETTO:-0500
TZNAME:CDT
DTSTART:20250309T080000
END:DAYLIGHT
BEGIN:STANDARD
TZOFFSETFROM:-0500
TZOFFSETTO:-0600
TZNAME:CST
DTSTART:20251102T070000
END:STANDARD
BEGIN:DAYLIGHT
TZOFFSETFROM:-0600
TZOFFSETTO:-0500
TZNAME:CDT
DTSTART:20260308T080000
END:DAYLIGHT
BEGIN:STANDARD
TZOFFSETFROM:-0500
TZOFFSETTO:-0600
TZNAME:CST
DTSTART:20261101T070000
END:STANDARD
BEGIN:DAYLIGHT
TZOFFSETFROM:-0600
TZOFFSETTO:-0500
TZNAME:CDT
DTSTART:20270314T080000
END:DAYLIGHT
BEGIN:STANDARD
TZOFFSETFROM:-0500
TZOFFSETTO:-0600
TZNAME:CST
DTSTART:20271107T070000
END:STANDARD
END:VTIMEZONE
BEGIN:VEVENT
DTSTART;TZID=America/Chicago:20260503T090000
DTEND;TZID=America/Chicago:20260503T140000
DTSTAMP:20260419T104233
CREATED:20251118T185609Z
LAST-MODIFIED:20251118T185609Z
UID:10003262-1777798800-1777816800@soks.org
SUMMARY:KC Metro Regional Soccer Tournament
DESCRIPTION:KC Metro Regional Soccer Tournament\nDate: May 3\, 2026Time: 9:00 AM – 2:00 PMLocation: Black Bob Park14500 W 151st St\, Olathe\, KS 66062 \nGet ready for an exciting day on the pitch at the Metro Regional Soccer Tournament! Athletes from across the metro area will gather at Black Bob Park to showcase their skills\, teamwork\, and love for the game. Teams will compete in a variety of matches throughout the day\, bringing high energy\, great sportsmanship\, and plenty of thrilling moments. \nThis regional competition is an important step on the road to state participation and a celebration of the dedication each athlete puts into their training. Spectators\, families\, and volunteers are encouraged to come out and cheer on these incredible players. \nJoin us for a fun\, fast-paced day of soccer and support the athletes of Special Olympics Kansas!
URL:https://soks.org/event/kc-metro-regional-soccer-tournament/
LOCATION:Black Bob Park\, 14500 W 151st St\, Olathe\, KS\, 66062\, United States
CATEGORIES:Metro Region,Sporting Event,Sports
ATTACH;FMTTYPE=image/jpeg:https://soks.org/wp-content/uploads/2023/08/20230719_MLS_special_olympics_0718-scaled.jpg
ORGANIZER;CN="Tim Rehder":MAILTO:rehdert@soks.org
END:VEVENT
END:VCALENDAR