BEGIN:VCALENDAR
VERSION:2.0
PRODID:-//Special Olympics Kansas - ECPv6.15.20//NONSGML v1.0//EN
CALSCALE:GREGORIAN
METHOD:PUBLISH
X-WR-CALNAME:Special Olympics Kansas
X-ORIGINAL-URL:https://soks.org
X-WR-CALDESC:Events for Special Olympics Kansas
REFRESH-INTERVAL;VALUE=DURATION:PT1H
X-Robots-Tag:noindex
X-PUBLISHED-TTL:PT1H
BEGIN:VTIMEZONE
TZID:America/Chicago
BEGIN:DAYLIGHT
TZOFFSETFROM:-0600
TZOFFSETTO:-0500
TZNAME:CDT
DTSTART:20190310T080000
END:DAYLIGHT
BEGIN:STANDARD
TZOFFSETFROM:-0500
TZOFFSETTO:-0600
TZNAME:CST
DTSTART:20191103T070000
END:STANDARD
BEGIN:DAYLIGHT
TZOFFSETFROM:-0600
TZOFFSETTO:-0500
TZNAME:CDT
DTSTART:20200308T080000
END:DAYLIGHT
BEGIN:STANDARD
TZOFFSETFROM:-0500
TZOFFSETTO:-0600
TZNAME:CST
DTSTART:20201101T070000
END:STANDARD
BEGIN:DAYLIGHT
TZOFFSETFROM:-0600
TZOFFSETTO:-0500
TZNAME:CDT
DTSTART:20210314T080000
END:DAYLIGHT
BEGIN:STANDARD
TZOFFSETFROM:-0500
TZOFFSETTO:-0600
TZNAME:CST
DTSTART:20211107T070000
END:STANDARD
BEGIN:DAYLIGHT
TZOFFSETFROM:-0600
TZOFFSETTO:-0500
TZNAME:CDT
DTSTART:20220313T080000
END:DAYLIGHT
BEGIN:STANDARD
TZOFFSETFROM:-0500
TZOFFSETTO:-0600
TZNAME:CST
DTSTART:20221106T070000
END:STANDARD
END:VTIMEZONE
BEGIN:VEVENT
DTSTART;TZID=America/Chicago:20210522T090000
DTEND;TZID=America/Chicago:20210522T150000
DTSTAMP:20260420T004148
CREATED:20210312T162900Z
LAST-MODIFIED:20210312T162900Z
UID:10002628-1621674000-1621695600@soks.org
SUMMARY:360 Health Day
DESCRIPTION:Special Olympics Kansas is hosting 360 Health Day! A day where athletes will have the opportunity to screen with all of our clinical directors: Opening Eyes\, Special Smiles\, Healthy Hearing\, and Health Promotions!  This will be held on Saturday\, May 22 at Maize South High School\, 3701 N Tyler Rd\, Wichita\, KS 67205 from 9:00am to 3:00pm. \nFor more information contact Jesse Lyle at lylej@ksso.org
URL:https://soks.org/event/360-health-day-3/
LOCATION:United States
CATEGORIES:South Central Region,Sports
END:VEVENT
BEGIN:VEVENT
DTSTART;TZID=America/Chicago:20210514T090000
DTEND;TZID=America/Chicago:20210514T143000
DTSTAMP:20260420T004148
CREATED:20210311T213207Z
LAST-MODIFIED:20210311T213207Z
UID:10002619-1620982800-1621002600@soks.org
SUMMARY:Southeast Regional Bocce - Youth
DESCRIPTION:The Southeast Regional Bocce – Youth Tournament will be held on Friday\, May 14 at Columbus Community Fields\, 117 E. Country Road.  The event will be from 9:00am to 2:30pm.  There will be both UCS and traditional Bocce. \nFor more information\, contact Chris Burt at burtc@ksso.org or Tim Rehder at rehdert@ksso.org
URL:https://soks.org/event/southeast-regional-bocce-youth/
CATEGORIES:Southeast Region,Sports,Unified
END:VEVENT
BEGIN:VEVENT
DTSTART;TZID=America/Chicago:20210514T090000
DTEND;TZID=America/Chicago:20210514T143000
DTSTAMP:20260420T004148
CREATED:20210311T213207Z
LAST-MODIFIED:20210311T213207Z
UID:10002620-1620982800-1621002600@soks.org
SUMMARY:Southeast Regional Bocce - Youth
DESCRIPTION:The Southeast Regional Bocce – Youth Tournament will be held on Friday\, May 14 at Columbus Community Fields\, 117 E. Country Road.  The event will be from 9:00am to 2:30pm.  There will be both UCS and traditional Bocce. \nFor more information\, contact Chris Burt at burtc@ksso.org or Tim Rehder at rehdert@ksso.org
URL:https://soks.org/event/southeast-regional-bocce-youth-2/
CATEGORIES:Southeast Region,Sports,Unified
END:VEVENT
BEGIN:VEVENT
DTSTART;TZID=America/Chicago:20210512T090000
DTEND;TZID=America/Chicago:20210512T143000
DTSTAMP:20260420T004148
CREATED:20210412T130711Z
LAST-MODIFIED:20210412T130711Z
UID:10002637-1620810000-1620829800@soks.org
SUMMARY:Southeast Regional Track Meet - Erie
DESCRIPTION:Southeast Regional Track Meet – Erie\, will be held at Erie High School 1400 N. Main\, Erie\, KS 66733 on Wednesday\, May 12. from 9:00am -2:30pm. \nFor more information\, contact Tim Rehder at rehdert@ksso.org
URL:https://soks.org/event/southeast-regional-track-meet-erie-3/
LOCATION:United States
CATEGORIES:Southeast Region,Sports
END:VEVENT
BEGIN:VEVENT
DTSTART;TZID=America/Chicago:20210512T090000
DTEND;TZID=America/Chicago:20210512T143000
DTSTAMP:20260420T004148
CREATED:20210412T130711Z
LAST-MODIFIED:20210412T130711Z
UID:10002638-1620810000-1620829800@soks.org
SUMMARY:Southeast Regional Track Meet - Erie
DESCRIPTION:Southeast Regional Track Meet – Erie\, will be held at Erie High School 1400 N. Main\, Erie\, KS 66733 on Wednesday\, May 12. from 9:00am -2:30pm. \nFor more information\, contact Tim Rehder at rehdert@ksso.org
URL:https://soks.org/event/southeast-regional-track-meet-erie-3-2/
LOCATION:United States
CATEGORIES:Southeast Region,Sports
END:VEVENT
BEGIN:VEVENT
DTSTART;TZID=America/Chicago:20210508T100000
DTEND;TZID=America/Chicago:20210508T170000
DTSTAMP:20260420T004148
CREATED:20210416T192954Z
LAST-MODIFIED:20210416T192954Z
UID:10002639-1620468000-1620493200@soks.org
SUMMARY:South Central Regional Tennis Competition
DESCRIPTION:The South Central Regional Tennis Competition will be held on Saturday\, May 8th at Bishop Carroll Catholic High School\, 8108 W Central Ave\, Wichita\, KS.  Competition will begin at 10:00am. \nFor more information\, contact Tim Rehder at rehdert@ksso.org
URL:https://soks.org/event/south-central-regional-tennis-competition-3/
LOCATION:United States
CATEGORIES:South Central Region,Sports
END:VEVENT
BEGIN:VEVENT
DTSTART;TZID=America/Chicago:20210508T100000
DTEND;TZID=America/Chicago:20210508T170000
DTSTAMP:20260420T004148
CREATED:20210416T192954Z
LAST-MODIFIED:20210416T192954Z
UID:10002640-1620468000-1620493200@soks.org
SUMMARY:South Central Regional Tennis Competition
DESCRIPTION:The South Central Regional Tennis Competition will be held on Saturday\, May 8th at Bishop Carroll Catholic High School\, 8108 W Central Ave\, Wichita\, KS.  Competition will begin at 10:00am. \nFor more information\, contact Tim Rehder at rehdert@ksso.org
URL:https://soks.org/event/south-central-regional-tennis-competition-3-2/
LOCATION:United States
CATEGORIES:South Central Region,Sports
END:VEVENT
BEGIN:VEVENT
DTSTART;TZID=America/Chicago:20210505T090000
DTEND;TZID=America/Chicago:20210505T143000
DTSTAMP:20260420T004148
CREATED:20210405T160830Z
LAST-MODIFIED:20210405T160830Z
UID:10002631-1620205200-1620225000@soks.org
SUMMARY:Southeast Regional Track - Youth
DESCRIPTION:Southeast Regional Track – Youth will be held on Wednesday\, May 5 at Pittsburg State University\, 1701 S Broadway\, Pittsburg\, KS  66762.  Competition will be held from 9:00am to 2:30. \nFor more information\, contact Tim Rehder\, rehdert@ksso.org or Chris Burt\, burtc@ksso.org
URL:https://soks.org/event/southeast-regional-track-youth/
LOCATION:United States
CATEGORIES:Southeast Region,Sports
END:VEVENT
BEGIN:VEVENT
DTSTART;TZID=America/Chicago:20210505T090000
DTEND;TZID=America/Chicago:20210505T143000
DTSTAMP:20260420T004148
CREATED:20210405T160830Z
LAST-MODIFIED:20210405T160830Z
UID:10002632-1620205200-1620225000@soks.org
SUMMARY:Southeast Regional Track - Youth
DESCRIPTION:Southeast Regional Track – Youth will be held on Wednesday\, May 5 at Pittsburg State University\, 1701 S Broadway\, Pittsburg\, KS  66762.  Competition will be held from 9:00am to 2:30. \nFor more information\, contact Tim Rehder\, rehdert@ksso.org or Chris Burt\, burtc@ksso.org
URL:https://soks.org/event/southeast-regional-track-youth-2/
LOCATION:United States
CATEGORIES:Southeast Region,Sports
END:VEVENT
BEGIN:VEVENT
DTSTART;TZID=America/Chicago:20210501T093000
DTEND;TZID=America/Chicago:20210501T133000
DTSTAMP:20260420T004148
CREATED:20210311T220250Z
LAST-MODIFIED:20210311T220250Z
UID:10002625-1619861400-1619875800@soks.org
SUMMARY:UCS Bocce - Metro
DESCRIPTION:The UCS Bocce event will be held on Saturday\, May 1 at Shawnee Mission Northwest High School\, 12701 W 67th St\, Shawnee\, KS 66216.  The event will run from 9:30am to 1:30pm. \nFor more information\, please contact Taylor Obersteadt at obersteadtt@ksso.org
URL:https://soks.org/event/ucs-bocce-metro/
LOCATION:United States
CATEGORIES:Sports,Unified
END:VEVENT
BEGIN:VEVENT
DTSTART;TZID=America/Chicago:20210501T093000
DTEND;TZID=America/Chicago:20210501T133000
DTSTAMP:20260420T004148
CREATED:20210311T220250Z
LAST-MODIFIED:20210311T220250Z
UID:10002626-1619861400-1619875800@soks.org
SUMMARY:UCS Bocce - Metro
DESCRIPTION:The UCS Bocce event will be held on Saturday\, May 1 at Shawnee Mission Northwest High School\, 12701 W 67th St\, Shawnee\, KS 66216.  The event will run from 9:30am to 1:30pm. \nFor more information\, please contact Taylor Obersteadt at obersteadtt@ksso.org
URL:https://soks.org/event/ucs-bocce-metro-2/
LOCATION:United States
CATEGORIES:Sports,Unified
END:VEVENT
BEGIN:VEVENT
DTSTART;TZID=America/Chicago:20210424T113000
DTEND;TZID=America/Chicago:20210424T170000
DTSTAMP:20260420T004148
CREATED:20210311T213851Z
LAST-MODIFIED:20210311T213851Z
UID:10002621-1619263800-1619283600@soks.org
SUMMARY:South Central Regional Bocce
DESCRIPTION:The South Central Regional Bocce & Corn Hole Tournament will be held on Saturday\, April 24 at WSU Metroplex\, 5015 E 29th.  The tournament will start at 11:30am. \nFor more information\, contact Chris Burt at burtc@ksso.org or Tim Rehder at rehdert@ksso.org
URL:https://soks.org/event/south-central-regional-bocce/
LOCATION:United States
CATEGORIES:South Central Region,Sports
END:VEVENT
BEGIN:VEVENT
DTSTART;TZID=America/Chicago:20210424T113000
DTEND;TZID=America/Chicago:20210424T170000
DTSTAMP:20260420T004148
CREATED:20210311T213851Z
LAST-MODIFIED:20210311T213851Z
UID:10002622-1619263800-1619283600@soks.org
SUMMARY:South Central Regional Bocce
DESCRIPTION:The South Central Regional Bocce & Corn Hole Tournament will be held on Saturday\, April 24 at WSU Metroplex\, 5015 E 29th.  The tournament will start at 11:30am. \nFor more information\, contact Chris Burt at burtc@ksso.org or Tim Rehder at rehdert@ksso.org
URL:https://soks.org/event/south-central-regional-bocce-2/
LOCATION:United States
CATEGORIES:South Central Region,Sports
END:VEVENT
BEGIN:VEVENT
DTSTART;TZID=America/Chicago:20210424T093000
DTEND;TZID=America/Chicago:20210424T113000
DTSTAMP:20260420T004149
CREATED:20210311T212308Z
LAST-MODIFIED:20210311T212308Z
UID:10002617-1619256600-1619263800@soks.org
SUMMARY:Unified Bocce Experience
DESCRIPTION:The Unified Bocce Experience will be held on Saturday\, April 24 at  Wichita State University\, 1845 Fairmount St\, Wichita\, KS 67260. The event will be from 9:30am  to 11:30am \nFor more information\, contact Chris Burt at burtc@ksso.org
URL:https://soks.org/event/unified-bocce-experience/
LOCATION:United States
CATEGORIES:South Central Region,Sports,Unified
END:VEVENT
BEGIN:VEVENT
DTSTART;TZID=America/Chicago:20210424T093000
DTEND;TZID=America/Chicago:20210424T113000
DTSTAMP:20260420T004149
CREATED:20210311T212308Z
LAST-MODIFIED:20210311T212308Z
UID:10002618-1619256600-1619263800@soks.org
SUMMARY:Unified Bocce Experience
DESCRIPTION:The Unified Bocce Experience will be held on Saturday\, April 24 at  Wichita State University\, 1845 Fairmount St\, Wichita\, KS 67260. The event will be from 9:30am  to 11:30am \nFor more information\, contact Chris Burt at burtc@ksso.org
URL:https://soks.org/event/unified-bocce-experience-2/
LOCATION:United States
CATEGORIES:South Central Region,Sports,Unified
END:VEVENT
BEGIN:VEVENT
DTSTART;TZID=America/Chicago:20210424T053000
DTEND;TZID=America/Chicago:20210424T140000
DTSTAMP:20260420T004149
CREATED:20201209T210433Z
LAST-MODIFIED:20201209T210433Z
UID:10002607-1619242200-1619272800@soks.org
SUMMARY:Crappie Tournament
DESCRIPTION:Join the Law Enforcement Torch Run for the annual Crappie Tournament to benefit Special Olympics Kansas! On tournament day\, your boat number will be determined by the order you registered\, and teams will weigh their seven best caught Crappie. This tournament will be held rain or shine! Click this link to register via mail\, or you can register online today by clicking the online registration link below! If you register before April 9\, 2021\, a team of two can register for only $100\, but the day-of registration fee will jump up to $125 for a two person team. \n   
URL:https://soks.org/event/crappie-tournament/
LOCATION:United States
END:VEVENT
BEGIN:VEVENT
DTSTART;TZID=America/Chicago:20210424T053000
DTEND;TZID=America/Chicago:20210424T140000
DTSTAMP:20260420T004149
CREATED:20201209T210433Z
LAST-MODIFIED:20201209T210433Z
UID:10002608-1619242200-1619272800@soks.org
SUMMARY:Crappie Tournament
DESCRIPTION:Join the Law Enforcement Torch Run for the annual Crappie Tournament to benefit Special Olympics Kansas! On tournament day\, your boat number will be determined by the order you registered\, and teams will weigh their seven best caught Crappie. This tournament will be held rain or shine! Click this link to register via mail\, or you can register online today by clicking the online registration link below! If you register before April 9\, 2021\, a team of two can register for only $100\, but the day-of registration fee will jump up to $125 for a two person team. \n   
URL:https://soks.org/event/crappie-tournament-2/
LOCATION:United States
END:VEVENT
BEGIN:VEVENT
DTSTART;TZID=America/Chicago:20210417T090000
DTEND;TZID=America/Chicago:20210417T110000
DTSTAMP:20260420T004149
CREATED:20210216T203607Z
LAST-MODIFIED:20210216T203607Z
UID:10002609-1618650000-1618657200@soks.org
SUMMARY:Johnson County Sheriff's Shootout
DESCRIPTION:Join us for the 2021 Johnson County Shoot Out — a shooting competition hosted by the Johnson County Sheriff’s Office to benefit Special Olympics Kansas. The event is open to law enforcement officers and the general public. The Johnson County Sheriff’s Office would like to invite you to partner with us in raising funds and awareness for Special Olympic athletes. As a member of the Kansas Law Enforcement Torch Run\, we are proud to be part of a long and honored tradition of supporting Special Olympics Kansas. \nRegistration can be done online\, or by printing off this form.  Also\, don’t forget to purchase your tickets for the 2 gun drawings. The day of the Shootout\, we will be drawing for the following: Ruger – Model 26993; Calibur 308 WIN. For full details and to purchase tickets\, click here. CZ-USA – Model P-10 C 9mm; Chambering: 9mm Luger. For full details and to purchase tickets\, click here.
URL:https://soks.org/event/johnson-county-sheriffs-shootout/
LOCATION:United States
END:VEVENT
BEGIN:VEVENT
DTSTART;TZID=America/Chicago:20210417T090000
DTEND;TZID=America/Chicago:20210417T110000
DTSTAMP:20260420T004149
CREATED:20210216T203607Z
LAST-MODIFIED:20210216T203607Z
UID:10002610-1618650000-1618657200@soks.org
SUMMARY:Johnson County Sheriff's Shootout
DESCRIPTION:Join us for the 2021 Johnson County Shoot Out — a shooting competition hosted by the Johnson County Sheriff’s Office to benefit Special Olympics Kansas. The event is open to law enforcement officers and the general public. The Johnson County Sheriff’s Office would like to invite you to partner with us in raising funds and awareness for Special Olympic athletes. As a member of the Kansas Law Enforcement Torch Run\, we are proud to be part of a long and honored tradition of supporting Special Olympics Kansas. \nRegistration can be done online\, or by printing off this form.  Also\, don’t forget to purchase your tickets for the 2 gun drawings. The day of the Shootout\, we will be drawing for the following: Ruger – Model 26993; Calibur 308 WIN. For full details and to purchase tickets\, click here. CZ-USA – Model P-10 C 9mm; Chambering: 9mm Luger. For full details and to purchase tickets\, click here.
URL:https://soks.org/event/johnson-county-sheriffs-shootout-2/
LOCATION:United States
END:VEVENT
BEGIN:VEVENT
DTSTART;TZID=America/Chicago:20210320T120000
DTEND;TZID=America/Chicago:20210320T170000
DTSTAMP:20260420T004149
CREATED:20210224T164717Z
LAST-MODIFIED:20210224T164717Z
UID:10002611-1616241600-1616259600@soks.org
SUMMARY:Virtual Basketball & Cheerleading Challenge
DESCRIPTION:The in-person 2021 State Basketball & Cheerleading Tournament has been cancelled due to concerns about COVID-19. We have transitioned to a Virtual Basketball & Cheerleading Challenge this year! Find out all of the details Click Here 
URL:https://soks.org/event/virtual-basketball-cheerleading-challenge/
CATEGORIES:Metro Region,North Central Region,South Central Region,Southeast Region,Sports,West Region
END:VEVENT
BEGIN:VEVENT
DTSTART;TZID=America/Chicago:20210320T120000
DTEND;TZID=America/Chicago:20210320T170000
DTSTAMP:20260420T004149
CREATED:20210224T164717Z
LAST-MODIFIED:20210224T164717Z
UID:10002612-1616241600-1616259600@soks.org
SUMMARY:Virtual Basketball & Cheerleading Challenge
DESCRIPTION:The in-person 2021 State Basketball & Cheerleading Tournament has been cancelled due to concerns about COVID-19. We have transitioned to a Virtual Basketball & Cheerleading Challenge this year! Find out all of the details Click Here 
URL:https://soks.org/event/virtual-basketball-cheerleading-challenge-2/
CATEGORIES:Metro Region,North Central Region,South Central Region,Southeast Region,Sports,West Region
END:VEVENT
BEGIN:VEVENT
DTSTART;TZID=America/Chicago:20210127T080000
DTEND;TZID=America/Chicago:20210129T170000
DTSTAMP:20260420T004149
CREATED:20200717T180110Z
LAST-MODIFIED:20200717T180110Z
UID:10002585-1611734400-1611939600@soks.org
SUMMARY:CANCELLED: John L Cassidy Heartland Winter Games
DESCRIPTION:The John L Cassidy Heartland Winter Games will be held in Weston\, MO\, St Joseph\, Mo and Atchison\, KS. Competitions will be held in Alpine Skiing\, Snowshoeing\, Cross Country\, Figure Skating and Speed Skating. Opening Ceremonies begin at 8:15pm on Wednesday\, January 27. For more information\, contact Tim Rehder at rehdert@ksso.org
URL:https://soks.org/event/john-l-cassidy-heartland-winter-games-4/
LOCATION:United States
CATEGORIES:Metro Region,North Central Region,South Central Region,Southeast Region,Sports,West Region
END:VEVENT
BEGIN:VEVENT
DTSTART;TZID=America/Chicago:20210127T080000
DTEND;TZID=America/Chicago:20210129T170000
DTSTAMP:20260420T004149
CREATED:20200717T180110Z
LAST-MODIFIED:20200717T180110Z
UID:10002586-1611734400-1611939600@soks.org
SUMMARY:CANCELLED: John L Cassidy Heartland Winter Games
DESCRIPTION:The John L Cassidy Heartland Winter Games will be held in Weston\, MO\, St Joseph\, Mo and Atchison\, KS. Competitions will be held in Alpine Skiing\, Snowshoeing\, Cross Country\, Figure Skating and Speed Skating. Opening Ceremonies begin at 8:15pm on Wednesday\, January 27. For more information\, contact Tim Rehder at rehdert@ksso.org
URL:https://soks.org/event/john-l-cassidy-heartland-winter-games-4-2/
LOCATION:United States
CATEGORIES:Metro Region,North Central Region,South Central Region,Southeast Region,Sports,West Region
END:VEVENT
BEGIN:VEVENT
DTSTART;TZID=America/Chicago:20201113T110000
DTEND;TZID=America/Chicago:20201118T200000
DTSTAMP:20260420T004149
CREATED:20201113T154553Z
LAST-MODIFIED:20201113T154553Z
UID:10002605-1605265200-1605729600@soks.org
SUMMARY:Battle of the Badges
DESCRIPTION:Four Law Enforcement Torch Run agencies will be at four restaurants in Topeka encouraging their supporters and followers to come to their restaurants to eat and donate to Special Olympics Kansas. All restaurants will be donating 10% of proceeds from the day back to Special Olympics Kansas through the LETR.  Support your favorite agency on November 18! \n\n\nSkinnys (4016 SW Huntoon St\, Topeka\, KS 66604) -Topeka Police Department\nPizagels (2830 SW Fairlawn Rd\, Topeka\, KS 66614) – Topeka Fire Department\nThe Pad (1730 NW Topeka Blvd\, Topeka\, KS 66608) – Kansas Highway Patrol\nGlory Days Pizza on Gage (1033 SW Gage Blvd\, Topeka\, KS 66604) – Shawnee County Sheriff’s Department
URL:https://soks.org/event/battle-of-the-badges-4/
END:VEVENT
BEGIN:VEVENT
DTSTART;TZID=America/Chicago:20201113T110000
DTEND;TZID=America/Chicago:20201118T200000
DTSTAMP:20260420T004149
CREATED:20201113T154553Z
LAST-MODIFIED:20201113T154553Z
UID:10002606-1605265200-1605729600@soks.org
SUMMARY:Battle of the Badges
DESCRIPTION:Four Law Enforcement Torch Run agencies will be at four restaurants in Topeka encouraging their supporters and followers to come to their restaurants to eat and donate to Special Olympics Kansas. All restaurants will be donating 10% of proceeds from the day back to Special Olympics Kansas through the LETR.  Support your favorite agency on November 18! \n\n\nSkinnys (4016 SW Huntoon St\, Topeka\, KS 66604) -Topeka Police Department\nPizagels (2830 SW Fairlawn Rd\, Topeka\, KS 66614) – Topeka Fire Department\nThe Pad (1730 NW Topeka Blvd\, Topeka\, KS 66608) – Kansas Highway Patrol\nGlory Days Pizza on Gage (1033 SW Gage Blvd\, Topeka\, KS 66604) – Shawnee County Sheriff’s Department
URL:https://soks.org/event/battle-of-the-badges-4-2/
END:VEVENT
BEGIN:VEVENT
DTSTART;TZID=America/Chicago:20201109T100000
DTEND;TZID=America/Chicago:20201114T220000
DTSTAMP:20260420T004149
CREATED:20200123T195751Z
LAST-MODIFIED:20200123T195751Z
UID:10002527-1604916000-1605391200@soks.org
SUMMARY:KC Memorabilia Auction
DESCRIPTION:Join us for the 3rd annual Memorabilia Auction to benefit Special Olympics Kansas athletes. Hundreds of live and silent auction items will be available. \nItems include NFL\, NBA\, MLB\, MLS\, music\, TV\, movies and more! \nAdditional information can be found at: https://ksso.org/auction/
URL:https://soks.org/event/kc-memorabilia-auction/
LOCATION:United States
CATEGORIES:Fundraising Events,LETR,Metro Region
END:VEVENT
BEGIN:VEVENT
DTSTART;TZID=America/Chicago:20201109T100000
DTEND;TZID=America/Chicago:20201114T220000
DTSTAMP:20260420T004149
CREATED:20200123T195751Z
LAST-MODIFIED:20200123T195751Z
UID:10002528-1604916000-1605391200@soks.org
SUMMARY:KC Memorabilia Auction
DESCRIPTION:Join us for the 3rd annual Memorabilia Auction to benefit Special Olympics Kansas athletes. Hundreds of live and silent auction items will be available. \nItems include NFL\, NBA\, MLB\, MLS\, music\, TV\, movies and more! \nAdditional information can be found at: https://ksso.org/auction/
URL:https://soks.org/event/kc-memorabilia-auction-2/
LOCATION:United States
CATEGORIES:Fundraising Events,LETR,Metro Region
END:VEVENT
BEGIN:VEVENT
DTSTART;TZID=America/Chicago:20201108T080000
DTEND;TZID=America/Chicago:20201108T160000
DTSTAMP:20260420T004149
CREATED:20200226T152438Z
LAST-MODIFIED:20200226T152438Z
UID:10002551-1604822400-1604851200@soks.org
SUMMARY:CANCELLED:  State  Bocce & Cornhole Tournament
DESCRIPTION:The State  Bocce & Cornhole Tournament will be held on Sunday\, November 8 at the Lone Elm Park\, 21151 W 167th\, Olathe KS. The competition will begin at 9:00a.m. and end around 3:00p.m. \nFor more information\, contact Tim Rehder at rehdert@ksso.org
URL:https://soks.org/event/state-soccer-bocce-tournament-5/
LOCATION:United States
CATEGORIES:Metro Region,North Central Region,South Central Region,Southeast Region,Sports,West Region
END:VEVENT
BEGIN:VEVENT
DTSTART;TZID=America/Chicago:20201108T080000
DTEND;TZID=America/Chicago:20201108T160000
DTSTAMP:20260420T004149
CREATED:20200226T152438Z
LAST-MODIFIED:20200226T152438Z
UID:10002552-1604822400-1604851200@soks.org
SUMMARY:CANCELLED:  State  Bocce & Cornhole Tournament
DESCRIPTION:The State  Bocce & Cornhole Tournament will be held on Sunday\, November 8 at the Lone Elm Park\, 21151 W 167th\, Olathe KS. The competition will begin at 9:00a.m. and end around 3:00p.m. \nFor more information\, contact Tim Rehder at rehdert@ksso.org
URL:https://soks.org/event/state-soccer-bocce-tournament-5-2/
LOCATION:United States
CATEGORIES:Metro Region,North Central Region,South Central Region,Southeast Region,Sports,West Region
END:VEVENT
BEGIN:VEVENT
DTSTART;TZID=America/Chicago:20201105T090000
DTEND;TZID=America/Chicago:20201105T140000
DTSTAMP:20260420T004149
CREATED:20200902T195110Z
LAST-MODIFIED:20200902T195110Z
UID:10002593-1604566800-1604584800@soks.org
SUMMARY:Southeast Regional Bocce Tournament
DESCRIPTION:The Southeast Regional Bocce Tournament will be held on Thursday\, November 5 at PSU\, 1701 S Broadway St\, Pittsburg\, KS. The tournament will begin at 9:00am \nFor more information\, contact Tim Rehdert at rehdert@ksso.org
URL:https://soks.org/event/southeast-regional-bocce-tournament/
LOCATION:United States
CATEGORIES:Southeast Region,Sports
END:VEVENT
END:VCALENDAR