BEGIN:VCALENDAR
VERSION:2.0
PRODID:-//Special Olympics Kansas - ECPv6.15.20//NONSGML v1.0//EN
CALSCALE:GREGORIAN
METHOD:PUBLISH
X-WR-CALNAME:Special Olympics Kansas
X-ORIGINAL-URL:https://soks.org
X-WR-CALDESC:Events for Special Olympics Kansas
REFRESH-INTERVAL;VALUE=DURATION:PT1H
X-Robots-Tag:noindex
X-PUBLISHED-TTL:PT1H
BEGIN:VTIMEZONE
TZID:America/Chicago
BEGIN:DAYLIGHT
TZOFFSETFROM:-0600
TZOFFSETTO:-0500
TZNAME:CDT
DTSTART:20190310T080000
END:DAYLIGHT
BEGIN:STANDARD
TZOFFSETFROM:-0500
TZOFFSETTO:-0600
TZNAME:CST
DTSTART:20191103T070000
END:STANDARD
BEGIN:DAYLIGHT
TZOFFSETFROM:-0600
TZOFFSETTO:-0500
TZNAME:CDT
DTSTART:20200308T080000
END:DAYLIGHT
BEGIN:STANDARD
TZOFFSETFROM:-0500
TZOFFSETTO:-0600
TZNAME:CST
DTSTART:20201101T070000
END:STANDARD
BEGIN:DAYLIGHT
TZOFFSETFROM:-0600
TZOFFSETTO:-0500
TZNAME:CDT
DTSTART:20210314T080000
END:DAYLIGHT
BEGIN:STANDARD
TZOFFSETFROM:-0500
TZOFFSETTO:-0600
TZNAME:CST
DTSTART:20211107T070000
END:STANDARD
END:VTIMEZONE
BEGIN:VEVENT
DTSTART;TZID=America/Chicago:20201006T160000
DTEND;TZID=America/Chicago:20201006T180000
DTSTAMP:20260420T095222
CREATED:20200914T210704Z
LAST-MODIFIED:20200914T210704Z
UID:10002603-1602000000-1602007200@soks.org
SUMMARY:Lighting the Way 5K
DESCRIPTION:Register today to join the “Lighting the Way 5K” for Special Olympics Kansas! The event will kick start with the special\, ceremonial Torch Run done with local Special Olympics Kansas athletes and members of Riley County Police Department at 4:00 p.m. After that’s completed\, the start of the 5K run will begin at 4:30 p.m. where all are invited to show their support of law enforcement and Special Olympics athletes! \nREGISTER: https://register.chronotrack.com/r/59169
URL:https://soks.org/event/lighting-the-way-5k/
LOCATION:United States
END:VEVENT
BEGIN:VEVENT
DTSTART;TZID=America/Chicago:20201006T160000
DTEND;TZID=America/Chicago:20201006T180000
DTSTAMP:20260420T095222
CREATED:20200914T210704Z
LAST-MODIFIED:20200914T210704Z
UID:10002604-1602000000-1602007200@soks.org
SUMMARY:Lighting the Way 5K
DESCRIPTION:Register today to join the “Lighting the Way 5K” for Special Olympics Kansas! The event will kick start with the special\, ceremonial Torch Run done with local Special Olympics Kansas athletes and members of Riley County Police Department at 4:00 p.m. After that’s completed\, the start of the 5K run will begin at 4:30 p.m. where all are invited to show their support of law enforcement and Special Olympics athletes! \nREGISTER: https://register.chronotrack.com/r/59169
URL:https://soks.org/event/lighting-the-way-5k-2/
LOCATION:United States
END:VEVENT
BEGIN:VEVENT
DTSTART;TZID=America/Chicago:20201003T090000
DTEND;TZID=America/Chicago:20201003T150000
DTSTAMP:20260420T095222
CREATED:20200828T154248Z
LAST-MODIFIED:20200828T154248Z
UID:10002591-1601715600-1601737200@soks.org
SUMMARY:South Central Regional Bocce & CornholeTournament
DESCRIPTION:The South Central Regional Bocce & Cornhole Tournament will be held on Saturday\, October 3 at Two Rivers Youth Club (TRYC) – 1700 N Ridge\, Wichita\, KS.  The event will begin at 9:00am \nFor more information\, contact Tim Rehder at rehdert@ksso.org
URL:https://soks.org/event/south-central-regional-bocce-tournament/
LOCATION:United States
CATEGORIES:South Central Region,Sports
END:VEVENT
BEGIN:VEVENT
DTSTART;TZID=America/Chicago:20201003T090000
DTEND;TZID=America/Chicago:20201003T150000
DTSTAMP:20260420T095222
CREATED:20200828T154248Z
LAST-MODIFIED:20200828T154248Z
UID:10002592-1601715600-1601737200@soks.org
SUMMARY:South Central Regional Bocce & CornholeTournament
DESCRIPTION:The South Central Regional Bocce & Cornhole Tournament will be held on Saturday\, October 3 at Two Rivers Youth Club (TRYC) – 1700 N Ridge\, Wichita\, KS.  The event will begin at 9:00am \nFor more information\, contact Tim Rehder at rehdert@ksso.org
URL:https://soks.org/event/south-central-regional-bocce-tournament-2/
LOCATION:United States
CATEGORIES:South Central Region,Sports
END:VEVENT
BEGIN:VEVENT
DTSTART;TZID=America/Chicago:20201002T150000
DTEND;TZID=America/Chicago:20201002T190000
DTSTAMP:20260420T095222
CREATED:20200914T141809Z
LAST-MODIFIED:20200914T141809Z
UID:10002599-1601650800-1601665200@soks.org
SUMMARY:South Central Regional Golf Tournament
DESCRIPTION:The South Central Regional Golf Tournament will be held at Sierra Hills Golf Course\, 13420 E Pawnee St.\, Wichita\, KS 67230. On Friday\, October 3.  The Tournament will begin at 3:00pm \nPlease contact Tim Rehder at rehdert@ksso.org for more information.
URL:https://soks.org/event/south-central-regional-golf-tournament/
LOCATION:United States
CATEGORIES:South Central Region,Sports
END:VEVENT
BEGIN:VEVENT
DTSTART;TZID=America/Chicago:20201002T150000
DTEND;TZID=America/Chicago:20201002T190000
DTSTAMP:20260420T095222
CREATED:20200914T141809Z
LAST-MODIFIED:20200914T141809Z
UID:10002600-1601650800-1601665200@soks.org
SUMMARY:South Central Regional Golf Tournament
DESCRIPTION:The South Central Regional Golf Tournament will be held at Sierra Hills Golf Course\, 13420 E Pawnee St.\, Wichita\, KS 67230. On Friday\, October 3.  The Tournament will begin at 3:00pm \nPlease contact Tim Rehder at rehdert@ksso.org for more information.
URL:https://soks.org/event/south-central-regional-golf-tournament-2/
LOCATION:United States
CATEGORIES:South Central Region,Sports
END:VEVENT
BEGIN:VEVENT
DTSTART;TZID=America/Chicago:20201002T080000
DTEND;TZID=America/Chicago:20201004T170000
DTSTAMP:20260420T095222
CREATED:20200226T152105Z
LAST-MODIFIED:20200226T152105Z
UID:10002549-1601625600-1601830800@soks.org
SUMMARY:CANCELLED: Charles E Watson Softball & Golf Tournament
DESCRIPTION:The Charles E Watson Softball & Golf Tournament will be held in Wichita\, KS. \nFriday\, the Golf Competitions will be held at: Sierra Hills – 13420 E Pawnee\, Wichita\, KS;\nSaturday & Sunday the Softball Competition will be held at: – Two Rivers Youth Club (TRYC) – 1700 N Ridge\, Wichita\, KS. \nFor more information\, contact Tim Rehder at rehdert@ksso.org
URL:https://soks.org/event/charles-e-watson-softball-golf-tournament-7/
LOCATION:United States
CATEGORIES:Metro Region,North Central Region,South Central Region,Southeast Region,Sports,West Region
END:VEVENT
BEGIN:VEVENT
DTSTART;TZID=America/Chicago:20201002T080000
DTEND;TZID=America/Chicago:20201004T170000
DTSTAMP:20260420T095222
CREATED:20200226T152105Z
LAST-MODIFIED:20200226T152105Z
UID:10002550-1601625600-1601830800@soks.org
SUMMARY:CANCELLED: Charles E Watson Softball & Golf Tournament
DESCRIPTION:The Charles E Watson Softball & Golf Tournament will be held in Wichita\, KS. \nFriday\, the Golf Competitions will be held at: Sierra Hills – 13420 E Pawnee\, Wichita\, KS;\nSaturday & Sunday the Softball Competition will be held at: – Two Rivers Youth Club (TRYC) – 1700 N Ridge\, Wichita\, KS. \nFor more information\, contact Tim Rehder at rehdert@ksso.org
URL:https://soks.org/event/charles-e-watson-softball-golf-tournament-7-2/
LOCATION:United States
CATEGORIES:Metro Region,North Central Region,South Central Region,Southeast Region,Sports,West Region
END:VEVENT
BEGIN:VEVENT
DTSTART;TZID=America/Chicago:20200923T090000
DTEND;TZID=America/Chicago:20200923T170000
DTSTAMP:20260420T095222
CREATED:20200911T142655Z
LAST-MODIFIED:20200911T142655Z
UID:10002597-1600851600-1600880400@soks.org
SUMMARY:Southeast Golf Tournament
DESCRIPTION:The Southeast Golf Tournament will be held Wednesday\, September 23 in Columbus\, Kansas. \nPlease contact Tim Rehder for more information at rehdert@ksso.org
URL:https://soks.org/event/southeast-golf-tournament/
CATEGORIES:Southeast Region,Sports
END:VEVENT
BEGIN:VEVENT
DTSTART;TZID=America/Chicago:20200923T090000
DTEND;TZID=America/Chicago:20200923T170000
DTSTAMP:20260420T095222
CREATED:20200911T142655Z
LAST-MODIFIED:20200911T142655Z
UID:10002598-1600851600-1600880400@soks.org
SUMMARY:Southeast Golf Tournament
DESCRIPTION:The Southeast Golf Tournament will be held Wednesday\, September 23 in Columbus\, Kansas. \nPlease contact Tim Rehder for more information at rehdert@ksso.org
URL:https://soks.org/event/southeast-golf-tournament-2/
CATEGORIES:Southeast Region,Sports
END:VEVENT
BEGIN:VEVENT
DTSTART;TZID=America/Chicago:20200920T053000
DTEND;TZID=America/Chicago:20200920T143000
DTSTAMP:20260420T095222
CREATED:20200123T192313Z
LAST-MODIFIED:20200123T192313Z
UID:10002521-1600579800-1600612200@soks.org
SUMMARY:NEW DATE: Crappie Fishing Tournament
DESCRIPTION:This event was postponed due to the Coronavirus. The new date is Sept. 20\, 2020.  \nCrappie Tournament\nSeptember 20\,  2020\nProceeds benefit Special Olympics Kansas\nLocation: Boat Ramp #2\, Clinton Lake\, Lawrence\, Kansas\n(Next to the marina located at 1329 E 800th Road\, Lawrence\, KS 66049) \nTournament Sign-In: 5:30 a.m. – 6:30 a.m.\nTournament Hours: Safe light – 2:00 p.m. \nPre-registration Fee: $100 per 2 person team\, includes lunch; Due By: September 14\nDay of event registration at the ramp: $125 per team. \nPayout Schedule: 50% Payback (Pay 1 place per 7 boats PLUS Big Crappie)\nBoat number is determined by registration order. Teams will weigh 7 best Crappie. \nTournament held rain or shine. Please see the reverse of flyer for rules and to sign the waiver. \nBig Fish Contest – $20 individual entry \nFor more information contact Kim Brice at (785) 424-0830 or by email at: kbrice@lkpd.org \nDownload the event flyer and waiver here: https://ksso.org/wp-content/uploads/2020/01/Crappie-Registration-Flyer-with-Waiver-2020-1.pdf\nor register online here: https://secure.e2rm.com/registrant/LoginRegister.aspx?eventid=306927&langpref=en-CA&Referrer=https%3a%2f%2fadmin.e2rm.com%2f
URL:https://soks.org/event/crappie-fishing-tournament-3/
LOCATION:United States
CATEGORIES:Fundraising Events,LETR,Metro Region
END:VEVENT
BEGIN:VEVENT
DTSTART;TZID=America/Chicago:20200920T053000
DTEND;TZID=America/Chicago:20200920T143000
DTSTAMP:20260420T095222
CREATED:20200123T192313Z
LAST-MODIFIED:20200123T192313Z
UID:10002522-1600579800-1600612200@soks.org
SUMMARY:NEW DATE: Crappie Fishing Tournament
DESCRIPTION:This event was postponed due to the Coronavirus. The new date is Sept. 20\, 2020.  \nCrappie Tournament\nSeptember 20\,  2020\nProceeds benefit Special Olympics Kansas\nLocation: Boat Ramp #2\, Clinton Lake\, Lawrence\, Kansas\n(Next to the marina located at 1329 E 800th Road\, Lawrence\, KS 66049) \nTournament Sign-In: 5:30 a.m. – 6:30 a.m.\nTournament Hours: Safe light – 2:00 p.m. \nPre-registration Fee: $100 per 2 person team\, includes lunch; Due By: September 14\nDay of event registration at the ramp: $125 per team. \nPayout Schedule: 50% Payback (Pay 1 place per 7 boats PLUS Big Crappie)\nBoat number is determined by registration order. Teams will weigh 7 best Crappie. \nTournament held rain or shine. Please see the reverse of flyer for rules and to sign the waiver. \nBig Fish Contest – $20 individual entry \nFor more information contact Kim Brice at (785) 424-0830 or by email at: kbrice@lkpd.org \nDownload the event flyer and waiver here: https://ksso.org/wp-content/uploads/2020/01/Crappie-Registration-Flyer-with-Waiver-2020-1.pdf\nor register online here: https://secure.e2rm.com/registrant/LoginRegister.aspx?eventid=306927&langpref=en-CA&Referrer=https%3a%2f%2fadmin.e2rm.com%2f
URL:https://soks.org/event/crappie-fishing-tournament-3-2/
LOCATION:United States
CATEGORIES:Fundraising Events,LETR,Metro Region
END:VEVENT
BEGIN:VEVENT
DTSTART;TZID=America/Chicago:20200919T080000
DTEND;TZID=America/Chicago:20200919T170000
DTSTAMP:20260420T095222
CREATED:20191219T153202Z
LAST-MODIFIED:20191219T153202Z
UID:10002507-1600502400-1600534800@soks.org
SUMMARY:CANCELLED: Metro Regional Softball Tournament
DESCRIPTION:Metro Regional Softball Tournament will be held on Saturday\, September 19 at the Basehor Field of Dreams Athletic Complex\,14333 Fairmount Rd.\, Basehor\, KS 66007. \nFor more information\, contact Tm Rehder at rehdert@ksso.org
URL:https://soks.org/event/metro-regional-softball-tournament-4/
LOCATION:United States
CATEGORIES:Metro Region,Sports
END:VEVENT
BEGIN:VEVENT
DTSTART;TZID=America/Chicago:20200919T080000
DTEND;TZID=America/Chicago:20200919T170000
DTSTAMP:20260420T095222
CREATED:20191219T153202Z
LAST-MODIFIED:20191219T153202Z
UID:10002508-1600502400-1600534800@soks.org
SUMMARY:CANCELLED: Metro Regional Softball Tournament
DESCRIPTION:Metro Regional Softball Tournament will be held on Saturday\, September 19 at the Basehor Field of Dreams Athletic Complex\,14333 Fairmount Rd.\, Basehor\, KS 66007. \nFor more information\, contact Tm Rehder at rehdert@ksso.org
URL:https://soks.org/event/metro-regional-softball-tournament-4-2/
LOCATION:United States
CATEGORIES:Metro Region,Sports
END:VEVENT
BEGIN:VEVENT
DTSTART;TZID=America/Chicago:20200916T173000
DTEND;TZID=America/Chicago:20200916T203000
DTSTAMP:20260420T095222
CREATED:20200221T132420Z
LAST-MODIFIED:20200221T132420Z
UID:10002545-1600277400-1600288200@soks.org
SUMMARY:CANCELLED:  Metro Regional Golf Tournament
DESCRIPTION:The Metro Golf Tournament will be held on Wednesday\, September 16 at  Smiley’s Golf Complex\, 10195 Monticello Terrace\, Lenexa\, KS 66227.\nTee-off: 5:30pm/Skills 5:45pm \nFor more information\, contact Tim Rehder at rehdert@ksso.org
URL:https://soks.org/event/metro-regional-golf-tournament-3/
LOCATION:United States
CATEGORIES:Metro Region,Sports
END:VEVENT
BEGIN:VEVENT
DTSTART;TZID=America/Chicago:20200916T173000
DTEND;TZID=America/Chicago:20200916T203000
DTSTAMP:20260420T095222
CREATED:20200221T132420Z
LAST-MODIFIED:20200221T132420Z
UID:10002546-1600277400-1600288200@soks.org
SUMMARY:CANCELLED:  Metro Regional Golf Tournament
DESCRIPTION:The Metro Golf Tournament will be held on Wednesday\, September 16 at  Smiley’s Golf Complex\, 10195 Monticello Terrace\, Lenexa\, KS 66227.\nTee-off: 5:30pm/Skills 5:45pm \nFor more information\, contact Tim Rehder at rehdert@ksso.org
URL:https://soks.org/event/metro-regional-golf-tournament-3-2/
LOCATION:United States
CATEGORIES:Metro Region,Sports
END:VEVENT
BEGIN:VEVENT
DTSTART;TZID=America/Chicago:20200913T170000
DTEND;TZID=America/Chicago:20200913T210000
DTSTAMP:20260420T095222
CREATED:20200805T170203Z
LAST-MODIFIED:20200805T170203Z
UID:10002587-1600016400-1600030800@soks.org
SUMMARY:Bowling for Strikes
DESCRIPTION:[et_pb_section admin_label=”section”]\n		[et_pb_row admin_label=”row”]\n			[et_pb_column type=”4_4″][et_pb_text admin_label=”Text”]The Olathe Police Department will host this year’s Bowling for Strikes to benefit Special Olympics Kansas athletes! Register with a team of four and bowl three games for $100! The fifth member of your team will be a Special Olympics Kansas athlete! All event proceeds will go directly to Special Olympics Kansas! This event is brought to you by the Kansas Law Enforcement Torch Run. \nIf you sponsor a lane\, your logo will be on the event t-shirt\, the lane’s TV screen\, and on a free-standing sign at the lane. Sponsorship is $250 and also includes bowling for four plus one SOKS athlete![/et_pb_text][/et_pb_column]\n		[/et_pb_row]\n	[/et_pb_section]
URL:https://soks.org/event/bowling-for-strikes/
LOCATION:United States
END:VEVENT
BEGIN:VEVENT
DTSTART;TZID=America/Chicago:20200913T170000
DTEND;TZID=America/Chicago:20200913T210000
DTSTAMP:20260420T095222
CREATED:20200805T170203Z
LAST-MODIFIED:20200805T170203Z
UID:10002588-1600016400-1600030800@soks.org
SUMMARY:Bowling for Strikes
DESCRIPTION:[et_pb_section admin_label=”section”]\n		[et_pb_row admin_label=”row”]\n			[et_pb_column type=”4_4″][et_pb_text admin_label=”Text”]The Olathe Police Department will host this year’s Bowling for Strikes to benefit Special Olympics Kansas athletes! Register with a team of four and bowl three games for $100! The fifth member of your team will be a Special Olympics Kansas athlete! All event proceeds will go directly to Special Olympics Kansas! This event is brought to you by the Kansas Law Enforcement Torch Run. \nIf you sponsor a lane\, your logo will be on the event t-shirt\, the lane’s TV screen\, and on a free-standing sign at the lane. Sponsorship is $250 and also includes bowling for four plus one SOKS athlete![/et_pb_text][/et_pb_column]\n		[/et_pb_row]\n	[/et_pb_section]
URL:https://soks.org/event/bowling-for-strikes-2/
LOCATION:United States
END:VEVENT
BEGIN:VEVENT
DTSTART;TZID=America/Chicago:20200911T180000
DTEND;TZID=America/Chicago:20200911T200000
DTSTAMP:20260420T095222
CREATED:20200812T142123Z
LAST-MODIFIED:20200812T142123Z
UID:10002589-1599847200-1599854400@soks.org
SUMMARY:Cover the Cruiser Night
DESCRIPTION:
URL:https://soks.org/event/cover-the-cruiser-night/
LOCATION:United States
END:VEVENT
BEGIN:VEVENT
DTSTART;TZID=America/Chicago:20200911T180000
DTEND;TZID=America/Chicago:20200911T200000
DTSTAMP:20260420T095222
CREATED:20200812T142123Z
LAST-MODIFIED:20200812T142123Z
UID:10002590-1599847200-1599854400@soks.org
SUMMARY:Cover the Cruiser Night
DESCRIPTION:
URL:https://soks.org/event/cover-the-cruiser-night-2/
LOCATION:United States
END:VEVENT
BEGIN:VEVENT
DTSTART;TZID=America/Chicago:20200910T083000
DTEND;TZID=America/Chicago:20200910T170000
DTSTAMP:20260420T095222
CREATED:20191217T201325Z
LAST-MODIFIED:20191217T201325Z
UID:10002485-1599726600-1599757200@soks.org
SUMMARY:CANCELLED: Southeast Regional Golf Tournament
DESCRIPTION:The Southeast Regional Golf Tournament will be held on Thursday\, September 10 at the Four Oaks Golf Course\, 910 Memorial Drive\, Pittsburg Kansas. \nYouth Tee Times:: 8:45am/11:00am. Adult Tee Time: 1:15pm. Athletes & Partners will have 2 hours to complete the course. \nFor more information\, contact Tim Rehdert at rehdert@ksso.org
URL:https://soks.org/event/southeast-regional-golf-tournament-3/
LOCATION:United States
CATEGORIES:Southeast Region,Sports
END:VEVENT
BEGIN:VEVENT
DTSTART;TZID=America/Chicago:20200910T083000
DTEND;TZID=America/Chicago:20200910T170000
DTSTAMP:20260420T095222
CREATED:20191217T201325Z
LAST-MODIFIED:20191217T201325Z
UID:10002486-1599726600-1599757200@soks.org
SUMMARY:CANCELLED: Southeast Regional Golf Tournament
DESCRIPTION:The Southeast Regional Golf Tournament will be held on Thursday\, September 10 at the Four Oaks Golf Course\, 910 Memorial Drive\, Pittsburg Kansas. \nYouth Tee Times:: 8:45am/11:00am. Adult Tee Time: 1:15pm. Athletes & Partners will have 2 hours to complete the course. \nFor more information\, contact Tim Rehdert at rehdert@ksso.org
URL:https://soks.org/event/southeast-regional-golf-tournament-3-2/
LOCATION:United States
CATEGORIES:Southeast Region,Sports
END:VEVENT
BEGIN:VEVENT
DTSTART;TZID=America/Chicago:20200902T100000
DTEND;TZID=America/Chicago:20200902T170000
DTSTAMP:20260420T095222
CREATED:20191217T201813Z
LAST-MODIFIED:20191217T201813Z
UID:10002487-1599040800-1599066000@soks.org
SUMMARY:CANCELLED: Southeast Regional Swimming Invitational
DESCRIPTION:This event has been cancelled for 2020. We hope to see you back in 2021! \nFor more information\, please contact Tim Rehder at rehdert@ksso.org
URL:https://soks.org/event/southeast-regional-swimming-invitational-2-2/
LOCATION:United States
CATEGORIES:Southeast Region,Sports
END:VEVENT
BEGIN:VEVENT
DTSTART;TZID=America/Chicago:20200902T100000
DTEND;TZID=America/Chicago:20200902T170000
DTSTAMP:20260420T095222
CREATED:20191217T201813Z
LAST-MODIFIED:20191217T201813Z
UID:10002488-1599040800-1599066000@soks.org
SUMMARY:CANCELLED: Southeast Regional Swimming Invitational
DESCRIPTION:This event has been cancelled for 2020. We hope to see you back in 2021! \nFor more information\, please contact Tim Rehder at rehdert@ksso.org
URL:https://soks.org/event/southeast-regional-swimming-invitational-2-3/
LOCATION:United States
CATEGORIES:Southeast Region,Sports
END:VEVENT
BEGIN:VEVENT
DTSTART;TZID=America/Chicago:20200829T080000
DTEND;TZID=America/Chicago:20200829T170000
DTSTAMP:20260420T095222
CREATED:20200522T155232Z
LAST-MODIFIED:20200522T155232Z
UID:10002577-1598688000-1598720400@soks.org
SUMMARY:Bourbon County Golf Scramble
DESCRIPTION:
URL:https://soks.org/event/bourbon-county-golf-scramble/
END:VEVENT
BEGIN:VEVENT
DTSTART;TZID=America/Chicago:20200829T080000
DTEND;TZID=America/Chicago:20200829T170000
DTSTAMP:20260420T095222
CREATED:20200522T155232Z
LAST-MODIFIED:20200522T155232Z
UID:10002578-1598688000-1598720400@soks.org
SUMMARY:Bourbon County Golf Scramble
DESCRIPTION:
URL:https://soks.org/event/bourbon-county-golf-scramble-2/
END:VEVENT
BEGIN:VEVENT
DTSTART;TZID=America/Chicago:20200801T100000
DTEND;TZID=America/Chicago:20200801T150000
DTSTAMP:20260420T095222
CREATED:20200529T003245Z
LAST-MODIFIED:20200529T003245Z
UID:10002581-1596276000-1596294000@soks.org
SUMMARY:Leawood Car Show
DESCRIPTION:Join us for the annual Leawood Police Department Car Show at Park Place on August 1 from 10 a.m. to 3 p.m. \nEntry fee for cars to participate in the show: $20. Register online: https://secure.e2rm.com/registrant/startup.aspx?eventid=311490 \nQuestions? Contact Cougar\, grayc@ksso.org. \nLocation: AMC Corporate Parking Garage in Park Place; Nall Avenue and Town Center Drive/115th Street. \nAll proceeds will benefit Special Olympics Kansas. \nEXCLUSIVE: The Mo-Kan Hot Wheelers Club has created a truly one of a kind 1957 Chevy Hot Wheels Car to be raffled at the Leawood Car Show. \nTickets can be purchased ahead of the event at https://secure.e2rm.com/registrant/startup.aspx?eventid=311490 \nRaffle tickets cost $5 for 1 entry or $20 for 5 entries.\nRaffle winner does not have to be present to win.
URL:https://soks.org/event/leawood-car-show-3/
LOCATION:United States
CATEGORIES:Fundraising Events,LETR,Metro Region
END:VEVENT
BEGIN:VEVENT
DTSTART;TZID=America/Chicago:20200801T100000
DTEND;TZID=America/Chicago:20200801T150000
DTSTAMP:20260420T095222
CREATED:20200529T003245Z
LAST-MODIFIED:20200529T003245Z
UID:10002582-1596276000-1596294000@soks.org
SUMMARY:Leawood Car Show
DESCRIPTION:Join us for the annual Leawood Police Department Car Show at Park Place on August 1 from 10 a.m. to 3 p.m. \nEntry fee for cars to participate in the show: $20. Register online: https://secure.e2rm.com/registrant/startup.aspx?eventid=311490 \nQuestions? Contact Cougar\, grayc@ksso.org. \nLocation: AMC Corporate Parking Garage in Park Place; Nall Avenue and Town Center Drive/115th Street. \nAll proceeds will benefit Special Olympics Kansas. \nEXCLUSIVE: The Mo-Kan Hot Wheelers Club has created a truly one of a kind 1957 Chevy Hot Wheels Car to be raffled at the Leawood Car Show. \nTickets can be purchased ahead of the event at https://secure.e2rm.com/registrant/startup.aspx?eventid=311490 \nRaffle tickets cost $5 for 1 entry or $20 for 5 entries.\nRaffle winner does not have to be present to win.
URL:https://soks.org/event/leawood-car-show-3-2/
LOCATION:United States
CATEGORIES:Fundraising Events,LETR,Metro Region
END:VEVENT
BEGIN:VEVENT
DTSTART;TZID=America/Chicago:20200727T130000
DTEND;TZID=America/Chicago:20200727T170000
DTSTAMP:20260420T095222
CREATED:20200528T235123Z
LAST-MODIFIED:20200528T235123Z
UID:10002579-1595854800-1595869200@soks.org
SUMMARY:Golf Tournament
DESCRIPTION:The Prairie Village Police Department is one of several agencies in the state of Kansas that participate in the Law Enforcement Torch Run for Special Olympics Kansas.  In addition to running the “Flame of Hope” throughout the Metro\, departments host fundraising events with 100% of the proceeds benefiting Special Olympics Kansas. \nAs a participant in the 2020 Prairie Village Golf Tournament for Special Olympics Kansas you are helping to provide year-round sports training and education as well as health and wellness education to over 5\,000 athletes throughout Kansas. \nOn behalf of the Prairie Village Police Department\, the Law Enforcement Torch Run and Special Olympics Kansas\, thank you for your support and good luck on tournament day! \nScramble for Special Olympics\nHosted by Prairie Village Police Department\nJuly 27\, 2020\, 1:00 PM at Sycamore Ridge Golf Club\nProceeds Benefit Special Olympics Kansas \nClick to register >>> https://secure.e2rm.com/registrant/EventHome.aspx?eventid=311266&langpref=en-CA&Referrer=https%3a%2f%2fmail.google.com%2fmail%2fu%2f0%2f
URL:https://soks.org/event/43794/
CATEGORIES:Fundraising Events,LETR,Metro Region
END:VEVENT
BEGIN:VEVENT
DTSTART;TZID=America/Chicago:20200727T130000
DTEND;TZID=America/Chicago:20200727T170000
DTSTAMP:20260420T095222
CREATED:20200528T235123Z
LAST-MODIFIED:20200528T235123Z
UID:10002580-1595854800-1595869200@soks.org
SUMMARY:Golf Tournament
DESCRIPTION:The Prairie Village Police Department is one of several agencies in the state of Kansas that participate in the Law Enforcement Torch Run for Special Olympics Kansas.  In addition to running the “Flame of Hope” throughout the Metro\, departments host fundraising events with 100% of the proceeds benefiting Special Olympics Kansas. \nAs a participant in the 2020 Prairie Village Golf Tournament for Special Olympics Kansas you are helping to provide year-round sports training and education as well as health and wellness education to over 5\,000 athletes throughout Kansas. \nOn behalf of the Prairie Village Police Department\, the Law Enforcement Torch Run and Special Olympics Kansas\, thank you for your support and good luck on tournament day! \nScramble for Special Olympics\nHosted by Prairie Village Police Department\nJuly 27\, 2020\, 1:00 PM at Sycamore Ridge Golf Club\nProceeds Benefit Special Olympics Kansas \nClick to register >>> https://secure.e2rm.com/registrant/EventHome.aspx?eventid=311266&langpref=en-CA&Referrer=https%3a%2f%2fmail.google.com%2fmail%2fu%2f0%2f
URL:https://soks.org/event/43794-2/
CATEGORIES:Fundraising Events,LETR,Metro Region
END:VEVENT
END:VCALENDAR