BEGIN:VCALENDAR
VERSION:2.0
PRODID:-//Special Olympics Kansas - ECPv6.15.20//NONSGML v1.0//EN
CALSCALE:GREGORIAN
METHOD:PUBLISH
X-WR-CALNAME:Special Olympics Kansas
X-ORIGINAL-URL:https://soks.org
X-WR-CALDESC:Events for Special Olympics Kansas
REFRESH-INTERVAL;VALUE=DURATION:PT1H
X-Robots-Tag:noindex
X-PUBLISHED-TTL:PT1H
BEGIN:VTIMEZONE
TZID:America/Chicago
BEGIN:DAYLIGHT
TZOFFSETFROM:-0600
TZOFFSETTO:-0500
TZNAME:CDT
DTSTART:20190310T080000
END:DAYLIGHT
BEGIN:STANDARD
TZOFFSETFROM:-0500
TZOFFSETTO:-0600
TZNAME:CST
DTSTART:20191103T070000
END:STANDARD
BEGIN:DAYLIGHT
TZOFFSETFROM:-0600
TZOFFSETTO:-0500
TZNAME:CDT
DTSTART:20200308T080000
END:DAYLIGHT
BEGIN:STANDARD
TZOFFSETFROM:-0500
TZOFFSETTO:-0600
TZNAME:CST
DTSTART:20201101T070000
END:STANDARD
BEGIN:DAYLIGHT
TZOFFSETFROM:-0600
TZOFFSETTO:-0500
TZNAME:CDT
DTSTART:20210314T080000
END:DAYLIGHT
BEGIN:STANDARD
TZOFFSETFROM:-0500
TZOFFSETTO:-0600
TZNAME:CST
DTSTART:20211107T070000
END:STANDARD
END:VTIMEZONE
BEGIN:VTIMEZONE
TZID:UTC
BEGIN:STANDARD
TZOFFSETFROM:+0000
TZOFFSETTO:+0000
TZNAME:UTC
DTSTART:20190101T000000
END:STANDARD
END:VTIMEZONE
BEGIN:VEVENT
DTSTART;TZID=America/Chicago:20200829T080000
DTEND;TZID=America/Chicago:20200829T170000
DTSTAMP:20260420T125828
CREATED:20200522T155232Z
LAST-MODIFIED:20200522T155232Z
UID:10002577-1598688000-1598720400@soks.org
SUMMARY:Bourbon County Golf Scramble
DESCRIPTION:
URL:https://soks.org/event/bourbon-county-golf-scramble/
END:VEVENT
BEGIN:VEVENT
DTSTART;TZID=America/Chicago:20200829T080000
DTEND;TZID=America/Chicago:20200829T170000
DTSTAMP:20260420T125828
CREATED:20200522T155232Z
LAST-MODIFIED:20200522T155232Z
UID:10002578-1598688000-1598720400@soks.org
SUMMARY:Bourbon County Golf Scramble
DESCRIPTION:
URL:https://soks.org/event/bourbon-county-golf-scramble-2/
END:VEVENT
BEGIN:VEVENT
DTSTART;TZID=America/Chicago:20200801T100000
DTEND;TZID=America/Chicago:20200801T150000
DTSTAMP:20260420T125828
CREATED:20200529T003245Z
LAST-MODIFIED:20200529T003245Z
UID:10002581-1596276000-1596294000@soks.org
SUMMARY:Leawood Car Show
DESCRIPTION:Join us for the annual Leawood Police Department Car Show at Park Place on August 1 from 10 a.m. to 3 p.m. \nEntry fee for cars to participate in the show: $20. Register online: https://secure.e2rm.com/registrant/startup.aspx?eventid=311490 \nQuestions? Contact Cougar\, grayc@ksso.org. \nLocation: AMC Corporate Parking Garage in Park Place; Nall Avenue and Town Center Drive/115th Street. \nAll proceeds will benefit Special Olympics Kansas. \nEXCLUSIVE: The Mo-Kan Hot Wheelers Club has created a truly one of a kind 1957 Chevy Hot Wheels Car to be raffled at the Leawood Car Show. \nTickets can be purchased ahead of the event at https://secure.e2rm.com/registrant/startup.aspx?eventid=311490 \nRaffle tickets cost $5 for 1 entry or $20 for 5 entries.\nRaffle winner does not have to be present to win.
URL:https://soks.org/event/leawood-car-show-3/
LOCATION:United States
CATEGORIES:Fundraising Events,LETR,Metro Region
END:VEVENT
BEGIN:VEVENT
DTSTART;TZID=America/Chicago:20200801T100000
DTEND;TZID=America/Chicago:20200801T150000
DTSTAMP:20260420T125828
CREATED:20200529T003245Z
LAST-MODIFIED:20200529T003245Z
UID:10002582-1596276000-1596294000@soks.org
SUMMARY:Leawood Car Show
DESCRIPTION:Join us for the annual Leawood Police Department Car Show at Park Place on August 1 from 10 a.m. to 3 p.m. \nEntry fee for cars to participate in the show: $20. Register online: https://secure.e2rm.com/registrant/startup.aspx?eventid=311490 \nQuestions? Contact Cougar\, grayc@ksso.org. \nLocation: AMC Corporate Parking Garage in Park Place; Nall Avenue and Town Center Drive/115th Street. \nAll proceeds will benefit Special Olympics Kansas. \nEXCLUSIVE: The Mo-Kan Hot Wheelers Club has created a truly one of a kind 1957 Chevy Hot Wheels Car to be raffled at the Leawood Car Show. \nTickets can be purchased ahead of the event at https://secure.e2rm.com/registrant/startup.aspx?eventid=311490 \nRaffle tickets cost $5 for 1 entry or $20 for 5 entries.\nRaffle winner does not have to be present to win.
URL:https://soks.org/event/leawood-car-show-3-2/
LOCATION:United States
CATEGORIES:Fundraising Events,LETR,Metro Region
END:VEVENT
BEGIN:VEVENT
DTSTART;TZID=America/Chicago:20200727T130000
DTEND;TZID=America/Chicago:20200727T170000
DTSTAMP:20260420T125828
CREATED:20200528T235123Z
LAST-MODIFIED:20200528T235123Z
UID:10002579-1595854800-1595869200@soks.org
SUMMARY:Golf Tournament
DESCRIPTION:The Prairie Village Police Department is one of several agencies in the state of Kansas that participate in the Law Enforcement Torch Run for Special Olympics Kansas.  In addition to running the “Flame of Hope” throughout the Metro\, departments host fundraising events with 100% of the proceeds benefiting Special Olympics Kansas. \nAs a participant in the 2020 Prairie Village Golf Tournament for Special Olympics Kansas you are helping to provide year-round sports training and education as well as health and wellness education to over 5\,000 athletes throughout Kansas. \nOn behalf of the Prairie Village Police Department\, the Law Enforcement Torch Run and Special Olympics Kansas\, thank you for your support and good luck on tournament day! \nScramble for Special Olympics\nHosted by Prairie Village Police Department\nJuly 27\, 2020\, 1:00 PM at Sycamore Ridge Golf Club\nProceeds Benefit Special Olympics Kansas \nClick to register >>> https://secure.e2rm.com/registrant/EventHome.aspx?eventid=311266&langpref=en-CA&Referrer=https%3a%2f%2fmail.google.com%2fmail%2fu%2f0%2f
URL:https://soks.org/event/43794/
CATEGORIES:Fundraising Events,LETR,Metro Region
END:VEVENT
BEGIN:VEVENT
DTSTART;TZID=America/Chicago:20200727T130000
DTEND;TZID=America/Chicago:20200727T170000
DTSTAMP:20260420T125828
CREATED:20200528T235123Z
LAST-MODIFIED:20200528T235123Z
UID:10002580-1595854800-1595869200@soks.org
SUMMARY:Golf Tournament
DESCRIPTION:The Prairie Village Police Department is one of several agencies in the state of Kansas that participate in the Law Enforcement Torch Run for Special Olympics Kansas.  In addition to running the “Flame of Hope” throughout the Metro\, departments host fundraising events with 100% of the proceeds benefiting Special Olympics Kansas. \nAs a participant in the 2020 Prairie Village Golf Tournament for Special Olympics Kansas you are helping to provide year-round sports training and education as well as health and wellness education to over 5\,000 athletes throughout Kansas. \nOn behalf of the Prairie Village Police Department\, the Law Enforcement Torch Run and Special Olympics Kansas\, thank you for your support and good luck on tournament day! \nScramble for Special Olympics\nHosted by Prairie Village Police Department\nJuly 27\, 2020\, 1:00 PM at Sycamore Ridge Golf Club\nProceeds Benefit Special Olympics Kansas \nClick to register >>> https://secure.e2rm.com/registrant/EventHome.aspx?eventid=311266&langpref=en-CA&Referrer=https%3a%2f%2fmail.google.com%2fmail%2fu%2f0%2f
URL:https://soks.org/event/43794-2/
CATEGORIES:Fundraising Events,LETR,Metro Region
END:VEVENT
BEGIN:VEVENT
DTSTART;TZID=America/Chicago:20200725T235900
DTEND;TZID=America/Chicago:20200725T235900
DTSTAMP:20260420T125828
CREATED:20200225T204543Z
LAST-MODIFIED:20200225T204543Z
UID:10002547-1595721540-1595721540@soks.org
SUMMARY:Midnight Run
DESCRIPTION:Join us for the coolest race of the summer! \nThe run kicks off at 11:59 p.m. on Saturday\, July 25. \nFor race map\, registration\, and all details click HERE.
URL:https://soks.org/event/midnight-run-3/
CATEGORIES:Fundraising Events,LETR,Metro Region
END:VEVENT
BEGIN:VEVENT
DTSTART;TZID=America/Chicago:20200725T235900
DTEND;TZID=America/Chicago:20200725T235900
DTSTAMP:20260420T125828
CREATED:20200225T204543Z
LAST-MODIFIED:20200225T204543Z
UID:10002548-1595721540-1595721540@soks.org
SUMMARY:Midnight Run
DESCRIPTION:Join us for the coolest race of the summer! \nThe run kicks off at 11:59 p.m. on Saturday\, July 25. \nFor race map\, registration\, and all details click HERE.
URL:https://soks.org/event/midnight-run-3-2/
CATEGORIES:Fundraising Events,LETR,Metro Region
END:VEVENT
BEGIN:VEVENT
DTSTART;TZID=America/Chicago:20200725T235900
DTEND;TZID=America/Chicago:20200725T235900
DTSTAMP:20260420T125828
CREATED:20200123T195439Z
LAST-MODIFIED:20200123T195439Z
UID:10002525-1595721540-1595721540@soks.org
SUMMARY:
DESCRIPTION:Participants in the 5K and 10K events will compete for top overall male and female awards\, together with top three male and top three female awards in each of the following age groups: 19 and under\, 20-29\, 30-39\, 40-49\, 50-59\, 60-69\, and 70+. All finishers in the 5K and 10K will receive custom finishers medals. \nMore information can be found on the race website: \nhttps://runsignup.com/Race/KS/Leawood/MidnightRun5K10K \n 
URL:https://soks.org/event/38592/
CATEGORIES:Fundraising Events,LETR,Metro Region
END:VEVENT
BEGIN:VEVENT
DTSTART;TZID=America/Chicago:20200725T235900
DTEND;TZID=America/Chicago:20200725T235900
DTSTAMP:20260420T125828
CREATED:20200123T195439Z
LAST-MODIFIED:20200123T195439Z
UID:10002526-1595721540-1595721540@soks.org
SUMMARY:
DESCRIPTION:Participants in the 5K and 10K events will compete for top overall male and female awards\, together with top three male and top three female awards in each of the following age groups: 19 and under\, 20-29\, 30-39\, 40-49\, 50-59\, 60-69\, and 70+. All finishers in the 5K and 10K will receive custom finishers medals. \nMore information can be found on the race website: \nhttps://runsignup.com/Race/KS/Leawood/MidnightRun5K10K \n 
URL:https://soks.org/event/38592-2/
CATEGORIES:Fundraising Events,LETR,Metro Region
END:VEVENT
BEGIN:VEVENT
DTSTART;TZID=America/Chicago:20200725T090000
DTEND;TZID=America/Chicago:20200725T150000
DTSTAMP:20260420T125828
CREATED:20200110T184733Z
LAST-MODIFIED:20200110T184733Z
UID:10002515-1595667600-1595689200@soks.org
SUMMARY:Wichita Golf Scramble
DESCRIPTION:Hosted by the Wichita Police Department \nThis is the 2nd annual Scramble for Special Olympics! It is a 4 person scramble to raise money for Special Olympics of Kansas. All money raised and donated goes towards the organization and helping athletes with special needs travel and compete year round across the state of Kansas. Last year we raised over $3\,500! Get your team together and come out and enjoy a great day of golf with fantastic prizes and help us beat our goal from last year! Drinks included along with lunch at the conclusion of the event. \nRegister online: https://www.sandcreekgolfclub.com/event/special-olympics/ \n 
URL:https://soks.org/event/wichita-golf-scramble/
LOCATION:United States
CATEGORIES:Fundraising Events,LETR,South Central Region
END:VEVENT
BEGIN:VEVENT
DTSTART;TZID=America/Chicago:20200725T090000
DTEND;TZID=America/Chicago:20200725T150000
DTSTAMP:20260420T125828
CREATED:20200110T184733Z
LAST-MODIFIED:20200110T184733Z
UID:10002516-1595667600-1595689200@soks.org
SUMMARY:Wichita Golf Scramble
DESCRIPTION:Hosted by the Wichita Police Department \nThis is the 2nd annual Scramble for Special Olympics! It is a 4 person scramble to raise money for Special Olympics of Kansas. All money raised and donated goes towards the organization and helping athletes with special needs travel and compete year round across the state of Kansas. Last year we raised over $3\,500! Get your team together and come out and enjoy a great day of golf with fantastic prizes and help us beat our goal from last year! Drinks included along with lunch at the conclusion of the event. \nRegister online: https://www.sandcreekgolfclub.com/event/special-olympics/ \n 
URL:https://soks.org/event/wichita-golf-scramble-2/
LOCATION:United States
CATEGORIES:Fundraising Events,LETR,South Central Region
END:VEVENT
BEGIN:VEVENT
DTSTART;TZID=America/Chicago:20200720T080000
DTEND;TZID=America/Chicago:20200731T170000
DTSTAMP:20260420T125828
CREATED:20200713T210831Z
LAST-MODIFIED:20200713T210831Z
UID:10002583-1595232000-1596214800@soks.org
SUMMARY:Virtual Ron's Ride
DESCRIPTION:As a participant in the 1st Virtual Ron’s Ride you will complete at least a 5k either running or cycling at home to benefit Special Olympics Kansas! Registration is $30 per person and will include a free LETR shirt  that can be picked up at the Emporia Police Department or the Lyon County Sheriff’s office! This year\, the Virtual Ron’s Ride as an Emporia Rec Center Super Series event. Upon completion\, participants should tag KVOE on Facebook or Twitter to show that they’ve completed their run or email Amanda Gutierrez at  agutierrez@emporiarec.org. This event is sponsored by KVOE\, Emporia PD\, Lyon County Sheriff’s Department.\nREGISTER: https://secure.e2rm.com/registrant/startup.aspx?eventid=340062
URL:https://soks.org/event/virtual-rons-ride/
END:VEVENT
BEGIN:VEVENT
DTSTART;TZID=America/Chicago:20200720T080000
DTEND;TZID=America/Chicago:20200731T170000
DTSTAMP:20260420T125828
CREATED:20200713T210831Z
LAST-MODIFIED:20200713T210831Z
UID:10002584-1595232000-1596214800@soks.org
SUMMARY:Virtual Ron's Ride
DESCRIPTION:As a participant in the 1st Virtual Ron’s Ride you will complete at least a 5k either running or cycling at home to benefit Special Olympics Kansas! Registration is $30 per person and will include a free LETR shirt  that can be picked up at the Emporia Police Department or the Lyon County Sheriff’s office! This year\, the Virtual Ron’s Ride as an Emporia Rec Center Super Series event. Upon completion\, participants should tag KVOE on Facebook or Twitter to show that they’ve completed their run or email Amanda Gutierrez at  agutierrez@emporiarec.org. This event is sponsored by KVOE\, Emporia PD\, Lyon County Sheriff’s Department.\nREGISTER: https://secure.e2rm.com/registrant/startup.aspx?eventid=340062
URL:https://soks.org/event/virtual-rons-ride-2/
END:VEVENT
BEGIN:VEVENT
DTSTART;TZID=America/Chicago:20200606T190000
DTEND;TZID=America/Chicago:20200606T200000
DTSTAMP:20260420T125828
CREATED:20200520T195414Z
LAST-MODIFIED:20200520T195414Z
UID:10002571-1591470000-1591473600@soks.org
SUMMARY:Neon Virtual Dance Party!
DESCRIPTION:LET’S GET DOWN!!!\n \nSaturday\, June 6\, 2020\nThree sessions – 7 p.m.\, 7:20 p.m.\, 7:40 p.m. \nAthletes can sign up to be in the Zoom Party for one session (space is limited per session).\nAll three sessions will be streamed LIVE on Facebook so everyone can watch all three sessions and get down with everyone! \nSpecial Guest DJ: \nBrian B. Shynin from Hot 103 Jamz! Kansas City \nRegister online by clicking HERE   – Deadline May 31 to register. \nWe will email a Zoom invitation and details how to join after you register! \nWatch the LIVE event June 6 from 7-8 p.m. at www.facebook.com/specialolympicskansas
URL:https://soks.org/event/neon-virtual-dance-party/
END:VEVENT
BEGIN:VEVENT
DTSTART;TZID=America/Chicago:20200606T190000
DTEND;TZID=America/Chicago:20200606T200000
DTSTAMP:20260420T125828
CREATED:20200520T195414Z
LAST-MODIFIED:20200520T195414Z
UID:10002572-1591470000-1591473600@soks.org
SUMMARY:Neon Virtual Dance Party!
DESCRIPTION:LET’S GET DOWN!!!\n \nSaturday\, June 6\, 2020\nThree sessions – 7 p.m.\, 7:20 p.m.\, 7:40 p.m. \nAthletes can sign up to be in the Zoom Party for one session (space is limited per session).\nAll three sessions will be streamed LIVE on Facebook so everyone can watch all three sessions and get down with everyone! \nSpecial Guest DJ: \nBrian B. Shynin from Hot 103 Jamz! Kansas City \nRegister online by clicking HERE   – Deadline May 31 to register. \nWe will email a Zoom invitation and details how to join after you register! \nWatch the LIVE event June 6 from 7-8 p.m. at www.facebook.com/specialolympicskansas
URL:https://soks.org/event/neon-virtual-dance-party-2/
END:VEVENT
BEGIN:VEVENT
DTSTART;TZID=America/Chicago:20200606T130000
DTEND;TZID=America/Chicago:20200606T143000
DTSTAMP:20260420T125828
CREATED:20200520T195616Z
LAST-MODIFIED:20200520T195616Z
UID:10002573-1591448400-1591453800@soks.org
SUMMARY:Virtual Trivia!
DESCRIPTION:Join us for Online Trivia\nSaturday\, June 6\, 2020\nTwo sessions – 1 p.m. & 1:45 p.m. \nSpecial Guest Hosts: \nJohn Lair\, Special Olympics Kansas President/CEO \nChris Moore\, Law Enforcement Torch Run Executive Council Director \nRegister online by clicking HERE. – deadline to register is 5/28/20 \nWe will email you a Zoom invitation and details how to join after you register! \nWinners will receive prizes!!!
URL:https://soks.org/event/virtual-trivia/
END:VEVENT
BEGIN:VEVENT
DTSTART;TZID=America/Chicago:20200606T130000
DTEND;TZID=America/Chicago:20200606T143000
DTSTAMP:20260420T125828
CREATED:20200520T195616Z
LAST-MODIFIED:20200520T195616Z
UID:10002574-1591448400-1591453800@soks.org
SUMMARY:Virtual Trivia!
DESCRIPTION:Join us for Online Trivia\nSaturday\, June 6\, 2020\nTwo sessions – 1 p.m. & 1:45 p.m. \nSpecial Guest Hosts: \nJohn Lair\, Special Olympics Kansas President/CEO \nChris Moore\, Law Enforcement Torch Run Executive Council Director \nRegister online by clicking HERE. – deadline to register is 5/28/20 \nWe will email you a Zoom invitation and details how to join after you register! \nWinners will receive prizes!!!
URL:https://soks.org/event/virtual-trivia-2/
END:VEVENT
BEGIN:VEVENT
DTSTART;TZID=America/Chicago:20200605T190000
DTEND;TZID=America/Chicago:20200605T200000
DTSTAMP:20260420T125828
CREATED:20200520T195734Z
LAST-MODIFIED:20200520T195734Z
UID:10002575-1591383600-1591387200@soks.org
SUMMARY:SOKS Got Talent!
DESCRIPTION:Special Olympics Kansas Got Talent!   \nMay 8 – May 22\nRecord a video of yourself doing a talent – do you sing\, dance\, do magic? We want to see it! \nUpload your video HERE.  Deadline is May 22 \nWe will put all of the videos together to create an SOKS Got Talent Video that will premiere on Friday\, June 5\, 2020! \nSpecial Guest Emcees: \nErin Wannow\, Law Enforcement Torch Run for Special Olympics Kansas member\nCasey Hostetler\, Special Olympics Kansas athlete \nAll entrants will receive a certificate for participation!
URL:https://soks.org/event/soks-got-talent/
END:VEVENT
BEGIN:VEVENT
DTSTART;TZID=America/Chicago:20200605T190000
DTEND;TZID=America/Chicago:20200605T200000
DTSTAMP:20260420T125828
CREATED:20200520T195734Z
LAST-MODIFIED:20200520T195734Z
UID:10002576-1591383600-1591387200@soks.org
SUMMARY:SOKS Got Talent!
DESCRIPTION:Special Olympics Kansas Got Talent!   \nMay 8 – May 22\nRecord a video of yourself doing a talent – do you sing\, dance\, do magic? We want to see it! \nUpload your video HERE.  Deadline is May 22 \nWe will put all of the videos together to create an SOKS Got Talent Video that will premiere on Friday\, June 5\, 2020! \nSpecial Guest Emcees: \nErin Wannow\, Law Enforcement Torch Run for Special Olympics Kansas member\nCasey Hostetler\, Special Olympics Kansas athlete \nAll entrants will receive a certificate for participation!
URL:https://soks.org/event/soks-got-talent-2/
END:VEVENT
BEGIN:VEVENT
DTSTART;TZID=UTC:20200605T080000
DTEND;TZID=UTC:20200607T170000
DTSTAMP:20260420T125828
CREATED:20190606T181616Z
LAST-MODIFIED:20190606T181616Z
UID:10002307-1591344000-1591549200@soks.org
SUMMARY:VIRTUAL State Summer Games
DESCRIPTION:The in-person  2020 Summer Games have been cancelled due to concerns about the spread of COVID-19. \nWe have transitioned to a Virtual Summer Games for this year! Find out all of the details here: https://ksso.org/virtual-summer-games/
URL:https://soks.org/event/state-summer-games-4/
LOCATION:United States
CATEGORIES:Metro Region,North Central Region,South Central Region,Southeast Region,Sports,West Region
END:VEVENT
BEGIN:VEVENT
DTSTART;TZID=UTC:20200605T080000
DTEND;TZID=UTC:20200607T170000
DTSTAMP:20260420T125828
CREATED:20190606T181616Z
LAST-MODIFIED:20190606T181616Z
UID:10002308-1591344000-1591549200@soks.org
SUMMARY:VIRTUAL State Summer Games
DESCRIPTION:The in-person  2020 Summer Games have been cancelled due to concerns about the spread of COVID-19. \nWe have transitioned to a Virtual Summer Games for this year! Find out all of the details here: https://ksso.org/virtual-summer-games/
URL:https://soks.org/event/state-summer-games-4-2/
LOCATION:United States
CATEGORIES:Metro Region,North Central Region,South Central Region,Southeast Region,Sports,West Region
END:VEVENT
BEGIN:VEVENT
DTSTART;VALUE=DATE:20200531
DTEND;VALUE=DATE:20200601
DTSTAMP:20260420T125828
CREATED:20200520T195254Z
LAST-MODIFIED:20200520T195254Z
UID:10002569-1590883200-1590969599@soks.org
SUMMARY:Registration Deadline for Virtual Dance Party
DESCRIPTION:LET’S GET DOWN!!!\n \nSaturday\, June 6\, 2020\nThree sessions – 7 p.m.\, 7:20 p.m.\, 7:40 p.m. \nAthletes can sign up to be in the Zoom Party for one session (space is limited per session).\nAll three sessions will be streamed LIVE on Facebook so everyone can watch all three sessions and get down with everyone! \nSpecial Guest DJ: \nBrian B. Shynin from Hot 103 Jamz! Kansas City \nRegister online by clicking HERE. \nWe will email a Zoom invitation and details how to join after you register! \nWatch the LIVE event June 6 from 7-8 p.m. at www.facebook.com/specialolympicskansas
URL:https://soks.org/event/registration-deadline-for-virtual-dance-party/
END:VEVENT
BEGIN:VEVENT
DTSTART;VALUE=DATE:20200531
DTEND;VALUE=DATE:20200601
DTSTAMP:20260420T125828
CREATED:20200520T195254Z
LAST-MODIFIED:20200520T195254Z
UID:10002570-1590883200-1590969599@soks.org
SUMMARY:Registration Deadline for Virtual Dance Party
DESCRIPTION:LET’S GET DOWN!!!\n \nSaturday\, June 6\, 2020\nThree sessions – 7 p.m.\, 7:20 p.m.\, 7:40 p.m. \nAthletes can sign up to be in the Zoom Party for one session (space is limited per session).\nAll three sessions will be streamed LIVE on Facebook so everyone can watch all three sessions and get down with everyone! \nSpecial Guest DJ: \nBrian B. Shynin from Hot 103 Jamz! Kansas City \nRegister online by clicking HERE. \nWe will email a Zoom invitation and details how to join after you register! \nWatch the LIVE event June 6 from 7-8 p.m. at www.facebook.com/specialolympicskansas
URL:https://soks.org/event/registration-deadline-for-virtual-dance-party-2/
END:VEVENT
BEGIN:VEVENT
DTSTART;VALUE=DATE:20200529
DTEND;VALUE=DATE:20200530
DTSTAMP:20260420T125828
CREATED:20200520T194833Z
LAST-MODIFIED:20200520T194833Z
UID:10002563-1590710400-1590796799@soks.org
SUMMARY:Submit Virtual Summer Games Results
DESCRIPTION:This is the deadline to submit your Virtual Summer Games scores online at https://form.jotform.com/201055474882154 \nFor ALL information about the summer games please visit: https://ksso.org/virtual-summer-games/ \n 
URL:https://soks.org/event/submit-virtual-summer-games-results/
END:VEVENT
BEGIN:VEVENT
DTSTART;VALUE=DATE:20200529
DTEND;VALUE=DATE:20200530
DTSTAMP:20260420T125828
CREATED:20200520T194833Z
LAST-MODIFIED:20200520T194833Z
UID:10002564-1590710400-1590796799@soks.org
SUMMARY:Submit Virtual Summer Games Results
DESCRIPTION:This is the deadline to submit your Virtual Summer Games scores online at https://form.jotform.com/201055474882154 \nFor ALL information about the summer games please visit: https://ksso.org/virtual-summer-games/ \n 
URL:https://soks.org/event/submit-virtual-summer-games-results-2/
END:VEVENT
BEGIN:VEVENT
DTSTART;VALUE=DATE:20200528
DTEND;VALUE=DATE:20200529
DTSTAMP:20260420T125828
CREATED:20200520T195148Z
LAST-MODIFIED:20200520T195148Z
UID:10002567-1590624000-1590710399@soks.org
SUMMARY:Registration Deadline for Virtual Games Trivia
DESCRIPTION:Join us for Online Trivia\nSaturday\, June 6\, 2020\nTwo sessions – 1 p.m. & 1:45 p.m. \nSpecial Guest Hosts: \nJohn Lair\, Special Olympics Kansas President/CEO \nChris Moore\, Law Enforcement Torch Run Executive Council Director \nRegister online by clicking HERE. \nWe will email you a Zoom invitation and details how to join after you register! \nWinners will receive prizes!!!
URL:https://soks.org/event/registration-deadline-for-virtual-games-trivia/
END:VEVENT
BEGIN:VEVENT
DTSTART;VALUE=DATE:20200528
DTEND;VALUE=DATE:20200529
DTSTAMP:20260420T125828
CREATED:20200520T195148Z
LAST-MODIFIED:20200520T195148Z
UID:10002568-1590624000-1590710399@soks.org
SUMMARY:Registration Deadline for Virtual Games Trivia
DESCRIPTION:Join us for Online Trivia\nSaturday\, June 6\, 2020\nTwo sessions – 1 p.m. & 1:45 p.m. \nSpecial Guest Hosts: \nJohn Lair\, Special Olympics Kansas President/CEO \nChris Moore\, Law Enforcement Torch Run Executive Council Director \nRegister online by clicking HERE. \nWe will email you a Zoom invitation and details how to join after you register! \nWinners will receive prizes!!!
URL:https://soks.org/event/registration-deadline-for-virtual-games-trivia-2/
END:VEVENT
BEGIN:VEVENT
DTSTART;VALUE=DATE:20200522
DTEND;VALUE=DATE:20200523
DTSTAMP:20260420T125828
CREATED:20200520T194936Z
LAST-MODIFIED:20200520T194936Z
UID:10002565-1590105600-1590191999@soks.org
SUMMARY:Talent Show Submission Deadline
DESCRIPTION:May 8 – May 22\nRecord a video of yourself doing a talent – do you sing\, dance\, do magic? We want to see it! \nUpload your video HERE.  \nWe will put all of the videos together to create an SOKS Got Talent Video that will premiere on Friday\, June 5\, 2020! \nSpecial Guest Emcees: \nErin Wannow\, Law Enforcement Torch Run for Special Olympics Kansas member\nCasey Hostetler\, Special Olympics Kansas athlete \nAll entrants will receive a certificate for participation!
URL:https://soks.org/event/talent-show-submission-deadline/
END:VEVENT
BEGIN:VEVENT
DTSTART;VALUE=DATE:20200522
DTEND;VALUE=DATE:20200523
DTSTAMP:20260420T125828
CREATED:20200520T194936Z
LAST-MODIFIED:20200520T194936Z
UID:10002566-1590105600-1590191999@soks.org
SUMMARY:Talent Show Submission Deadline
DESCRIPTION:May 8 – May 22\nRecord a video of yourself doing a talent – do you sing\, dance\, do magic? We want to see it! \nUpload your video HERE.  \nWe will put all of the videos together to create an SOKS Got Talent Video that will premiere on Friday\, June 5\, 2020! \nSpecial Guest Emcees: \nErin Wannow\, Law Enforcement Torch Run for Special Olympics Kansas member\nCasey Hostetler\, Special Olympics Kansas athlete \nAll entrants will receive a certificate for participation!
URL:https://soks.org/event/talent-show-submission-deadline-2/
END:VEVENT
END:VCALENDAR