BEGIN:VCALENDAR
VERSION:2.0
PRODID:-//Special Olympics Kansas - ECPv6.15.20//NONSGML v1.0//EN
CALSCALE:GREGORIAN
METHOD:PUBLISH
X-WR-CALNAME:Special Olympics Kansas
X-ORIGINAL-URL:https://soks.org
X-WR-CALDESC:Events for Special Olympics Kansas
REFRESH-INTERVAL;VALUE=DURATION:PT1H
X-Robots-Tag:noindex
X-PUBLISHED-TTL:PT1H
BEGIN:VTIMEZONE
TZID:America/Chicago
BEGIN:DAYLIGHT
TZOFFSETFROM:-0600
TZOFFSETTO:-0500
TZNAME:CDT
DTSTART:20190310T080000
END:DAYLIGHT
BEGIN:STANDARD
TZOFFSETFROM:-0500
TZOFFSETTO:-0600
TZNAME:CST
DTSTART:20191103T070000
END:STANDARD
BEGIN:DAYLIGHT
TZOFFSETFROM:-0600
TZOFFSETTO:-0500
TZNAME:CDT
DTSTART:20200308T080000
END:DAYLIGHT
BEGIN:STANDARD
TZOFFSETFROM:-0500
TZOFFSETTO:-0600
TZNAME:CST
DTSTART:20201101T070000
END:STANDARD
BEGIN:DAYLIGHT
TZOFFSETFROM:-0600
TZOFFSETTO:-0500
TZNAME:CDT
DTSTART:20210314T080000
END:DAYLIGHT
BEGIN:STANDARD
TZOFFSETFROM:-0500
TZOFFSETTO:-0600
TZNAME:CST
DTSTART:20211107T070000
END:STANDARD
END:VTIMEZONE
BEGIN:VTIMEZONE
TZID:UTC
BEGIN:STANDARD
TZOFFSETFROM:+0000
TZOFFSETTO:+0000
TZNAME:UTC
DTSTART:20190101T000000
END:STANDARD
END:VTIMEZONE
BEGIN:VEVENT
DTSTART;VALUE=DATE:20200529
DTEND;VALUE=DATE:20200530
DTSTAMP:20260420T160919
CREATED:20200520T194833Z
LAST-MODIFIED:20200520T194833Z
UID:10002563-1590710400-1590796799@soks.org
SUMMARY:Submit Virtual Summer Games Results
DESCRIPTION:This is the deadline to submit your Virtual Summer Games scores online at https://form.jotform.com/201055474882154 \nFor ALL information about the summer games please visit: https://ksso.org/virtual-summer-games/ \n 
URL:https://soks.org/event/submit-virtual-summer-games-results/
LOCATION:KS
END:VEVENT
BEGIN:VEVENT
DTSTART;VALUE=DATE:20200529
DTEND;VALUE=DATE:20200530
DTSTAMP:20260420T160919
CREATED:20200520T194833Z
LAST-MODIFIED:20200520T194833Z
UID:10002564-1590710400-1590796799@soks.org
SUMMARY:Submit Virtual Summer Games Results
DESCRIPTION:This is the deadline to submit your Virtual Summer Games scores online at https://form.jotform.com/201055474882154 \nFor ALL information about the summer games please visit: https://ksso.org/virtual-summer-games/ \n 
URL:https://soks.org/event/submit-virtual-summer-games-results-2/
LOCATION:KS
END:VEVENT
BEGIN:VEVENT
DTSTART;VALUE=DATE:20200528
DTEND;VALUE=DATE:20200529
DTSTAMP:20260420T160919
CREATED:20200520T195148Z
LAST-MODIFIED:20200520T195148Z
UID:10002567-1590624000-1590710399@soks.org
SUMMARY:Registration Deadline for Virtual Games Trivia
DESCRIPTION:Join us for Online Trivia\nSaturday\, June 6\, 2020\nTwo sessions – 1 p.m. & 1:45 p.m. \nSpecial Guest Hosts: \nJohn Lair\, Special Olympics Kansas President/CEO \nChris Moore\, Law Enforcement Torch Run Executive Council Director \nRegister online by clicking HERE. \nWe will email you a Zoom invitation and details how to join after you register! \nWinners will receive prizes!!!
URL:https://soks.org/event/registration-deadline-for-virtual-games-trivia/
LOCATION:KS
END:VEVENT
BEGIN:VEVENT
DTSTART;VALUE=DATE:20200528
DTEND;VALUE=DATE:20200529
DTSTAMP:20260420T160919
CREATED:20200520T195148Z
LAST-MODIFIED:20200520T195148Z
UID:10002568-1590624000-1590710399@soks.org
SUMMARY:Registration Deadline for Virtual Games Trivia
DESCRIPTION:Join us for Online Trivia\nSaturday\, June 6\, 2020\nTwo sessions – 1 p.m. & 1:45 p.m. \nSpecial Guest Hosts: \nJohn Lair\, Special Olympics Kansas President/CEO \nChris Moore\, Law Enforcement Torch Run Executive Council Director \nRegister online by clicking HERE. \nWe will email you a Zoom invitation and details how to join after you register! \nWinners will receive prizes!!!
URL:https://soks.org/event/registration-deadline-for-virtual-games-trivia-2/
LOCATION:KS
END:VEVENT
BEGIN:VEVENT
DTSTART;VALUE=DATE:20200522
DTEND;VALUE=DATE:20200523
DTSTAMP:20260420T160919
CREATED:20200520T194936Z
LAST-MODIFIED:20200520T194936Z
UID:10002565-1590105600-1590191999@soks.org
SUMMARY:Talent Show Submission Deadline
DESCRIPTION:May 8 – May 22\nRecord a video of yourself doing a talent – do you sing\, dance\, do magic? We want to see it! \nUpload your video HERE.  \nWe will put all of the videos together to create an SOKS Got Talent Video that will premiere on Friday\, June 5\, 2020! \nSpecial Guest Emcees: \nErin Wannow\, Law Enforcement Torch Run for Special Olympics Kansas member\nCasey Hostetler\, Special Olympics Kansas athlete \nAll entrants will receive a certificate for participation!
URL:https://soks.org/event/talent-show-submission-deadline/
LOCATION:KS
END:VEVENT
BEGIN:VEVENT
DTSTART;VALUE=DATE:20200522
DTEND;VALUE=DATE:20200523
DTSTAMP:20260420T160919
CREATED:20200520T194936Z
LAST-MODIFIED:20200520T194936Z
UID:10002566-1590105600-1590191999@soks.org
SUMMARY:Talent Show Submission Deadline
DESCRIPTION:May 8 – May 22\nRecord a video of yourself doing a talent – do you sing\, dance\, do magic? We want to see it! \nUpload your video HERE.  \nWe will put all of the videos together to create an SOKS Got Talent Video that will premiere on Friday\, June 5\, 2020! \nSpecial Guest Emcees: \nErin Wannow\, Law Enforcement Torch Run for Special Olympics Kansas member\nCasey Hostetler\, Special Olympics Kansas athlete \nAll entrants will receive a certificate for participation!
URL:https://soks.org/event/talent-show-submission-deadline-2/
LOCATION:KS
END:VEVENT
BEGIN:VEVENT
DTSTART;TZID=America/Chicago:20200509T100000
DTEND;TZID=America/Chicago:20200509T160000
DTSTAMP:20260420T160919
CREATED:20191111T214036Z
LAST-MODIFIED:20191111T214036Z
UID:10002447-1589018400-1589040000@soks.org
SUMMARY:CANCELLED: Unified Soccer Tournament
DESCRIPTION:This event has been cancelled due to coronavirus.  \nUnified Soccer Tournament will be held on Saturday\, May 9 at Shawnee Mission Northwest High School\, 12701 W 67th St\, Shawnee\, KS  66216. \nFor more information\, please call Taylor Obersteadt at obersteadtt@ksso.org
URL:https://soks.org/event/unified-soccer-tournament-3/
LOCATION:KS\, United States
CATEGORIES:Metro Region,North Central Region,South Central Region,Southeast Region,Sports,Unified,West Region
END:VEVENT
BEGIN:VEVENT
DTSTART;TZID=America/Chicago:20200509T100000
DTEND;TZID=America/Chicago:20200509T160000
DTSTAMP:20260420T160919
CREATED:20191111T214036Z
LAST-MODIFIED:20191111T214036Z
UID:10002448-1589018400-1589040000@soks.org
SUMMARY:CANCELLED: Unified Soccer Tournament
DESCRIPTION:This event has been cancelled due to coronavirus.  \nUnified Soccer Tournament will be held on Saturday\, May 9 at Shawnee Mission Northwest High School\, 12701 W 67th St\, Shawnee\, KS  66216. \nFor more information\, please call Taylor Obersteadt at obersteadtt@ksso.org
URL:https://soks.org/event/unified-soccer-tournament-3-2/
LOCATION:KS\, United States
CATEGORIES:Metro Region,North Central Region,South Central Region,Southeast Region,Sports,Unified,West Region
END:VEVENT
BEGIN:VEVENT
DTSTART;TZID=America/Chicago:20200502T100000
DTEND;TZID=America/Chicago:20200502T160000
DTSTAMP:20260420T160919
CREATED:20200310T184241Z
LAST-MODIFIED:20200310T184241Z
UID:10002557-1588413600-1588435200@soks.org
SUMMARY:CANCELLED: West Regional Track & Field Competition
DESCRIPTION:This event has been cancelled due to coronavirus.  \nThe West Regional Track & Field Competition will be held on May 2. The location for the competition is Memorial Stadium\, 300 West Comanche St\, Dodge City. Opening Ceremonies will begin at 10:30am. The competition will be from 11am – 4pm. \nFor more information\, contact Tim Rehder at rehdert@ksso.org
URL:https://soks.org/event/west-regional-track-field-competition-2-2/
LOCATION:KS\, United States
CATEGORIES:Sports,West Region
END:VEVENT
BEGIN:VEVENT
DTSTART;TZID=America/Chicago:20200502T100000
DTEND;TZID=America/Chicago:20200502T160000
DTSTAMP:20260420T160919
CREATED:20200310T184241Z
LAST-MODIFIED:20200310T184241Z
UID:10002558-1588413600-1588435200@soks.org
SUMMARY:CANCELLED: West Regional Track & Field Competition
DESCRIPTION:This event has been cancelled due to coronavirus.  \nThe West Regional Track & Field Competition will be held on May 2. The location for the competition is Memorial Stadium\, 300 West Comanche St\, Dodge City. Opening Ceremonies will begin at 10:30am. The competition will be from 11am – 4pm. \nFor more information\, contact Tim Rehder at rehdert@ksso.org
URL:https://soks.org/event/west-regional-track-field-competition-2-3/
LOCATION:KS\, United States
CATEGORIES:Sports,West Region
END:VEVENT
BEGIN:VEVENT
DTSTART;TZID=America/Chicago:20200502T080000
DTEND;TZID=America/Chicago:20200502T170000
DTSTAMP:20260420T160919
CREATED:20191219T152517Z
LAST-MODIFIED:20191219T152517Z
UID:10002505-1588406400-1588438800@soks.org
SUMMARY:CANCELLED: Metro Regional Track & Field
DESCRIPTION:This event has been cancelled due to coronavirus.  \nThe Metro Region Track & Field will be on Saturday\, May 2 at the  Blue Valley Northwest High School – District Activity Complex – 13500 Switzer\, Overland Park\, KS 66221. The competition will begin at 8:00am. \nFor more information\, contact Tim Rehder at rehdert@ksso.org
URL:https://soks.org/event/metro-regional-track-field-3/
LOCATION:KS\, United States
CATEGORIES:Metro Region,Sports
END:VEVENT
BEGIN:VEVENT
DTSTART;TZID=America/Chicago:20200502T080000
DTEND;TZID=America/Chicago:20200502T170000
DTSTAMP:20260420T160919
CREATED:20191219T152517Z
LAST-MODIFIED:20191219T152517Z
UID:10002506-1588406400-1588438800@soks.org
SUMMARY:CANCELLED: Metro Regional Track & Field
DESCRIPTION:This event has been cancelled due to coronavirus.  \nThe Metro Region Track & Field will be on Saturday\, May 2 at the  Blue Valley Northwest High School – District Activity Complex – 13500 Switzer\, Overland Park\, KS 66221. The competition will begin at 8:00am. \nFor more information\, contact Tim Rehder at rehdert@ksso.org
URL:https://soks.org/event/metro-regional-track-field-3-2/
LOCATION:KS\, United States
CATEGORIES:Metro Region,Sports
END:VEVENT
BEGIN:VEVENT
DTSTART;TZID=America/Chicago:20200501T080000
DTEND;TZID=America/Chicago:20200501T170000
DTSTAMP:20260420T160919
CREATED:20191217T195800Z
LAST-MODIFIED:20191217T195800Z
UID:10002483-1588320000-1588352400@soks.org
SUMMARY:CANCELLED: Chad W Oehme Fishing Tournament
DESCRIPTION:This event has been cancelled due to coronavirus.  \nThe Chad W Oehme Fishing Tournament will be held on Friday\, May 1 in Pittsburg\, Kansas. \nFor more information\, contact Samantha Overman spoverman@medicalodges.com
URL:https://soks.org/event/chad-w-oehme-fishing-tournament-2-2/
LOCATION:KS
CATEGORIES:Southeast Region
END:VEVENT
BEGIN:VEVENT
DTSTART;TZID=America/Chicago:20200501T080000
DTEND;TZID=America/Chicago:20200501T170000
DTSTAMP:20260420T160919
CREATED:20191217T195800Z
LAST-MODIFIED:20191217T195800Z
UID:10002484-1588320000-1588352400@soks.org
SUMMARY:CANCELLED: Chad W Oehme Fishing Tournament
DESCRIPTION:This event has been cancelled due to coronavirus.  \nThe Chad W Oehme Fishing Tournament will be held on Friday\, May 1 in Pittsburg\, Kansas. \nFor more information\, contact Samantha Overman spoverman@medicalodges.com
URL:https://soks.org/event/chad-w-oehme-fishing-tournament-2-3/
LOCATION:KS
CATEGORIES:Southeast Region
END:VEVENT
BEGIN:VEVENT
DTSTART;TZID=UTC:20200427T083000
DTEND;TZID=UTC:20200427T143000
DTSTAMP:20260420T160919
CREATED:20190918T003558Z
LAST-MODIFIED:20190918T003558Z
UID:10002359-1587976200-1587997800@soks.org
SUMMARY:CANCELLED: Southeast Regional Track Meet - Erie
DESCRIPTION:This event has been cancelled due to coronavirus. \nSoutheast Regional Track Meet – Erie\, will be held at Erie High School 1400 N. Main\, Erie\, KS 66733 on Wednesday\, April 27.   There will be a coaches meeting at 8:45\, Opening Ceremonies at 9:00 and competition beginning at 9:30am and ending around 2:30pm. \nFor more information\, contact Terri Price at pricet@ksso.org
URL:https://soks.org/event/southeast-regional-track-meet-erie-2-2/
LOCATION:KS\, United States
CATEGORIES:Southeast Region,Sports
END:VEVENT
BEGIN:VEVENT
DTSTART;TZID=UTC:20200427T083000
DTEND;TZID=UTC:20200427T143000
DTSTAMP:20260420T160919
CREATED:20190918T003558Z
LAST-MODIFIED:20190918T003558Z
UID:10002360-1587976200-1587997800@soks.org
SUMMARY:CANCELLED: Southeast Regional Track Meet - Erie
DESCRIPTION:This event has been cancelled due to coronavirus. \nSoutheast Regional Track Meet – Erie\, will be held at Erie High School 1400 N. Main\, Erie\, KS 66733 on Wednesday\, April 27.   There will be a coaches meeting at 8:45\, Opening Ceremonies at 9:00 and competition beginning at 9:30am and ending around 2:30pm. \nFor more information\, contact Terri Price at pricet@ksso.org
URL:https://soks.org/event/southeast-regional-track-meet-erie-2-3/
LOCATION:KS\, United States
CATEGORIES:Southeast Region,Sports
END:VEVENT
BEGIN:VEVENT
DTSTART;TZID=America/Chicago:20200426T110000
DTEND;TZID=America/Chicago:20200426T170000
DTSTAMP:20260420T160919
CREATED:20200110T210235Z
LAST-MODIFIED:20200110T210235Z
UID:10002517-1587898800-1587920400@soks.org
SUMMARY:CANCELLED: Metro Regional Swimming
DESCRIPTION:This event is cancelled due to the Coronavirus.   \nThe Metro Regional Swimming Competition will be held at Turner High School – Aquatics Center\, 2211 S 55th St\, Kansas City\, KS. The competition will be from 11:00am to 5:00pm on Sunday\, April 26. \nFor more information\, please contact Tim Rehder at rehdert@ksso.org
URL:https://soks.org/event/metro-regional-swimming-3/
LOCATION:KS\, United States
CATEGORIES:Metro Region,Sports
END:VEVENT
BEGIN:VEVENT
DTSTART;TZID=America/Chicago:20200426T110000
DTEND;TZID=America/Chicago:20200426T170000
DTSTAMP:20260420T160919
CREATED:20200110T210235Z
LAST-MODIFIED:20200110T210235Z
UID:10002518-1587898800-1587920400@soks.org
SUMMARY:CANCELLED: Metro Regional Swimming
DESCRIPTION:This event is cancelled due to the Coronavirus.   \nThe Metro Regional Swimming Competition will be held at Turner High School – Aquatics Center\, 2211 S 55th St\, Kansas City\, KS. The competition will be from 11:00am to 5:00pm on Sunday\, April 26. \nFor more information\, please contact Tim Rehder at rehdert@ksso.org
URL:https://soks.org/event/metro-regional-swimming-3-2/
LOCATION:KS\, United States
CATEGORIES:Metro Region,Sports
END:VEVENT
BEGIN:VEVENT
DTSTART;TZID=America/Chicago:20200425T113000
DTEND;TZID=America/Chicago:20200425T170000
DTSTAMP:20260420T160919
CREATED:20191122T164450Z
LAST-MODIFIED:20191122T164450Z
UID:10002465-1587814200-1587834000@soks.org
SUMMARY:CANCELLED: State Powerlifting Competition
DESCRIPTION:This event is cancelled due to the Coronavirus.   \nState Powerlifting Competition will be held Saturday\, April 25 at Haskell Indian Nations University\, 155 E Indian Ave\, Lawrence\, KS 66046. Weigh-ins 11:30 a.m. Opening Ceremony 12:15 p.m. Begin lifting 1 p.m. Please contact Tim Rehder at rehdert@ksso.org for more information.
URL:https://soks.org/event/state-powerlifting-competition-2-2/
LOCATION:KS\, United States
CATEGORIES:Metro Region,North Central Region,South Central Region,Southeast Region,Sports,West Region
END:VEVENT
BEGIN:VEVENT
DTSTART;TZID=America/Chicago:20200425T113000
DTEND;TZID=America/Chicago:20200425T170000
DTSTAMP:20260420T160919
CREATED:20191122T164450Z
LAST-MODIFIED:20191122T164450Z
UID:10002466-1587814200-1587834000@soks.org
SUMMARY:CANCELLED: State Powerlifting Competition
DESCRIPTION:This event is cancelled due to the Coronavirus.   \nState Powerlifting Competition will be held Saturday\, April 25 at Haskell Indian Nations University\, 155 E Indian Ave\, Lawrence\, KS 66046. Weigh-ins 11:30 a.m. Opening Ceremony 12:15 p.m. Begin lifting 1 p.m. Please contact Tim Rehder at rehdert@ksso.org for more information.
URL:https://soks.org/event/state-powerlifting-competition-2-3/
LOCATION:KS\, United States
CATEGORIES:Metro Region,North Central Region,South Central Region,Southeast Region,Sports,West Region
END:VEVENT
BEGIN:VEVENT
DTSTART;TZID=America/Chicago:20200418T100000
DTEND;TZID=America/Chicago:20200418T160000
DTSTAMP:20260420T160919
CREATED:20191111T213115Z
LAST-MODIFIED:20191111T213115Z
UID:10002445-1587204000-1587225600@soks.org
SUMMARY:CANCELLED: Unified Soccer Matches
DESCRIPTION:This event is cancelled due to the Coronavirus.  \nUnified Soccer Matches will be held on Saturday\, April 18 at Blue Valley West High School\, 16200 Antioch Rd\, Overland Park\, KS 66085.  For more information\, please contact Taylor Obersteadt at oversteadtt@ksso.org
URL:https://soks.org/event/unified-soccer-matches-3/
LOCATION:KS\, United States
CATEGORIES:Metro Region,North Central Region,South Central Region,Southeast Region,Sports,Unified,West Region
END:VEVENT
BEGIN:VEVENT
DTSTART;TZID=America/Chicago:20200418T100000
DTEND;TZID=America/Chicago:20200418T160000
DTSTAMP:20260420T160919
CREATED:20191111T213115Z
LAST-MODIFIED:20191111T213115Z
UID:10002446-1587204000-1587225600@soks.org
SUMMARY:CANCELLED: Unified Soccer Matches
DESCRIPTION:This event is cancelled due to the Coronavirus.  \nUnified Soccer Matches will be held on Saturday\, April 18 at Blue Valley West High School\, 16200 Antioch Rd\, Overland Park\, KS 66085.  For more information\, please contact Taylor Obersteadt at oversteadtt@ksso.org
URL:https://soks.org/event/unified-soccer-matches-3-2/
LOCATION:KS\, United States
CATEGORIES:Metro Region,North Central Region,South Central Region,Southeast Region,Sports,Unified,West Region
END:VEVENT
BEGIN:VEVENT
DTSTART;TZID=America/Chicago:20200418T083000
DTEND;TZID=America/Chicago:20200418T160000
DTSTAMP:20260420T160919
CREATED:20200305T144122Z
LAST-MODIFIED:20200305T144122Z
UID:10002555-1587198600-1587225600@soks.org
SUMMARY:CANCELLED: North Central Regional Track & Field Competition
DESCRIPTION:This event is cancelled due to the Coronavirus.   \nNorth Central Regional Track & Field will be held on Saturday\, April 18 at Shawnee Heights High School (4201 SE Shawnee Heights Rd\, Tecumseh\, KS  66542).  The meet will include track events\, field events and wheelchair events.  Athletes must be registered by their local program coordinator and must have a current physical on file with the SOKS State Office. \nFor more information\, contact Krystin Guggisberg at guggisbergk@ksso.org. \nTo Volunteer\, visit https://ksso.org/volunteer/volunteer-at-an-event/
URL:https://soks.org/event/north-central-regional-track-field-competition/
LOCATION:KS\, United States
CATEGORIES:North Central Region,Sports
END:VEVENT
BEGIN:VEVENT
DTSTART;TZID=America/Chicago:20200418T083000
DTEND;TZID=America/Chicago:20200418T160000
DTSTAMP:20260420T160919
CREATED:20200305T144122Z
LAST-MODIFIED:20200305T144122Z
UID:10002556-1587198600-1587225600@soks.org
SUMMARY:CANCELLED: North Central Regional Track & Field Competition
DESCRIPTION:This event is cancelled due to the Coronavirus.   \nNorth Central Regional Track & Field will be held on Saturday\, April 18 at Shawnee Heights High School (4201 SE Shawnee Heights Rd\, Tecumseh\, KS  66542).  The meet will include track events\, field events and wheelchair events.  Athletes must be registered by their local program coordinator and must have a current physical on file with the SOKS State Office. \nFor more information\, contact Krystin Guggisberg at guggisbergk@ksso.org. \nTo Volunteer\, visit https://ksso.org/volunteer/volunteer-at-an-event/
URL:https://soks.org/event/north-central-regional-track-field-competition-2/
LOCATION:KS\, United States
CATEGORIES:North Central Region,Sports
END:VEVENT
BEGIN:VEVENT
DTSTART;TZID=America/Chicago:20200418T080000
DTEND;TZID=America/Chicago:20200418T170000
DTSTAMP:20260420T160919
CREATED:20200310T191921Z
LAST-MODIFIED:20200310T191921Z
UID:10002561-1587196800-1587229200@soks.org
SUMMARY:CANCELLED: 2nd Annual Chevi Peters Powerlifting Invitational
DESCRIPTION:This event is cancelled due to the Coronavirus.  \nThe Chevi Peters Powerlifting Invitational will be held on Saturday\, April 18. The competition will be held at New Hope\, 2614 N Joplin St\, Pittsburg\, KS. \nIf you need more information\, please contact Sam Overman at spoverman@medicalodges.com \n 
URL:https://soks.org/event/2nd-annual-chevi-peters-powerlifting-invitational/
LOCATION:KS\, United States
CATEGORIES:Southeast Region,Sports
END:VEVENT
BEGIN:VEVENT
DTSTART;TZID=America/Chicago:20200418T080000
DTEND;TZID=America/Chicago:20200418T170000
DTSTAMP:20260420T160919
CREATED:20200310T191921Z
LAST-MODIFIED:20200310T191921Z
UID:10002562-1587196800-1587229200@soks.org
SUMMARY:CANCELLED: 2nd Annual Chevi Peters Powerlifting Invitational
DESCRIPTION:This event is cancelled due to the Coronavirus.  \nThe Chevi Peters Powerlifting Invitational will be held on Saturday\, April 18. The competition will be held at New Hope\, 2614 N Joplin St\, Pittsburg\, KS. \nIf you need more information\, please contact Sam Overman at spoverman@medicalodges.com \n 
URL:https://soks.org/event/2nd-annual-chevi-peters-powerlifting-invitational-2/
LOCATION:KS\, United States
CATEGORIES:Southeast Region,Sports
END:VEVENT
BEGIN:VEVENT
DTSTART;TZID=America/Chicago:20200415T083000
DTEND;TZID=America/Chicago:20200415T143000
DTSTAMP:20260420T160919
CREATED:20191022T142631Z
LAST-MODIFIED:20191022T142631Z
UID:10002397-1586939400-1586961000@soks.org
SUMMARY:CANCELLED: Southeast Regional Track & Field - Pittsburg
DESCRIPTION:Due to COVID-19 Pittsburg State University has closed its campus for all remaining events scheduled to take place during Spring 2020. This event will not be rescheduled. \nSoutheast Regional Track Meet – Pittsburg\, will be held on Wednesday\, April 15 at Pittsburg State University 1701 S Broadway St\, Pittsburg\, KS 66762. There will be a coaches meeting at 8:45\, Opening Ceremonies at 9:00 and competition beginning at 9:30am and ending around 2:30pm. For more information\, contact Terri Price at pricet@ksso.org
URL:https://soks.org/event/southeast-regional-track-field-pittsburg/
LOCATION:KS\, United States
CATEGORIES:Southeast Region,Sports
END:VEVENT
BEGIN:VEVENT
DTSTART;TZID=America/Chicago:20200415T083000
DTEND;TZID=America/Chicago:20200415T143000
DTSTAMP:20260420T160919
CREATED:20191022T142631Z
LAST-MODIFIED:20191022T142631Z
UID:10002398-1586939400-1586961000@soks.org
SUMMARY:CANCELLED: Southeast Regional Track & Field - Pittsburg
DESCRIPTION:Due to COVID-19 Pittsburg State University has closed its campus for all remaining events scheduled to take place during Spring 2020. This event will not be rescheduled. \nSoutheast Regional Track Meet – Pittsburg\, will be held on Wednesday\, April 15 at Pittsburg State University 1701 S Broadway St\, Pittsburg\, KS 66762. There will be a coaches meeting at 8:45\, Opening Ceremonies at 9:00 and competition beginning at 9:30am and ending around 2:30pm. For more information\, contact Terri Price at pricet@ksso.org
URL:https://soks.org/event/southeast-regional-track-field-pittsburg-2/
LOCATION:KS\, United States
CATEGORIES:Southeast Region,Sports
END:VEVENT
BEGIN:VEVENT
DTSTART;TZID=America/Chicago:20200411T073000
DTEND;TZID=America/Chicago:20200411T170000
DTSTAMP:20260420T160919
CREATED:20191219T142651Z
LAST-MODIFIED:20191219T142651Z
UID:10002503-1586590200-1586624400@soks.org
SUMMARY:CANCELLED: Metro Powerlifting Tournament
DESCRIPTION:This event is cancelled due to the Coronavirus.   \nThe Metro Powerlifting Tournament will be held on Saturday\, April 11 at Desoto High School (600 Eagle Drive\, DeSoto\, KS). The competition will begin at 7:30am \nContact Tim Rehder at rehdert@ksso.org or more information.
URL:https://soks.org/event/metro-powerlifting-tournament-2-2/
LOCATION:KS\, United States
CATEGORIES:Metro Region,Sports
END:VEVENT
BEGIN:VEVENT
DTSTART;TZID=America/Chicago:20200411T073000
DTEND;TZID=America/Chicago:20200411T170000
DTSTAMP:20260420T160919
CREATED:20191219T142651Z
LAST-MODIFIED:20191219T142651Z
UID:10002504-1586590200-1586624400@soks.org
SUMMARY:CANCELLED: Metro Powerlifting Tournament
DESCRIPTION:This event is cancelled due to the Coronavirus.   \nThe Metro Powerlifting Tournament will be held on Saturday\, April 11 at Desoto High School (600 Eagle Drive\, DeSoto\, KS). The competition will begin at 7:30am \nContact Tim Rehder at rehdert@ksso.org or more information.
URL:https://soks.org/event/metro-powerlifting-tournament-2-3/
LOCATION:KS\, United States
CATEGORIES:Metro Region,Sports
END:VEVENT
END:VCALENDAR