BEGIN:VCALENDAR
VERSION:2.0
PRODID:-//Special Olympics Kansas - ECPv6.15.20//NONSGML v1.0//EN
CALSCALE:GREGORIAN
METHOD:PUBLISH
X-WR-CALNAME:Special Olympics Kansas
X-ORIGINAL-URL:https://soks.org
X-WR-CALDESC:Events for Special Olympics Kansas
REFRESH-INTERVAL;VALUE=DURATION:PT1H
X-Robots-Tag:noindex
X-PUBLISHED-TTL:PT1H
BEGIN:VTIMEZONE
TZID:America/Chicago
BEGIN:DAYLIGHT
TZOFFSETFROM:-0600
TZOFFSETTO:-0500
TZNAME:CDT
DTSTART:20190310T080000
END:DAYLIGHT
BEGIN:STANDARD
TZOFFSETFROM:-0500
TZOFFSETTO:-0600
TZNAME:CST
DTSTART:20191103T070000
END:STANDARD
BEGIN:DAYLIGHT
TZOFFSETFROM:-0600
TZOFFSETTO:-0500
TZNAME:CDT
DTSTART:20200308T080000
END:DAYLIGHT
BEGIN:STANDARD
TZOFFSETFROM:-0500
TZOFFSETTO:-0600
TZNAME:CST
DTSTART:20201101T070000
END:STANDARD
BEGIN:DAYLIGHT
TZOFFSETFROM:-0600
TZOFFSETTO:-0500
TZNAME:CDT
DTSTART:20210314T080000
END:DAYLIGHT
BEGIN:STANDARD
TZOFFSETFROM:-0500
TZOFFSETTO:-0600
TZNAME:CST
DTSTART:20211107T070000
END:STANDARD
END:VTIMEZONE
BEGIN:VTIMEZONE
TZID:UTC
BEGIN:STANDARD
TZOFFSETFROM:+0000
TZOFFSETTO:+0000
TZNAME:UTC
DTSTART:20190101T000000
END:STANDARD
END:VTIMEZONE
BEGIN:VEVENT
DTSTART;TZID=America/Chicago:20200215T090000
DTEND;TZID=America/Chicago:20200215T170000
DTSTAMP:20260421T003857
CREATED:20191031T145219Z
LAST-MODIFIED:20191031T145219Z
UID:10002405-1581757200-1581786000@soks.org
SUMMARY:West Regional Basketball Tournament
DESCRIPTION:The West Regional Basketball Tournament will be held on Saturday\, February 15 at Plainville High School\, 202 SE 3rd\, Plainville\, KS. The competition will begin at 9:00am. For more information\, contact Tim Rehder at rehdert@ksso.org
URL:https://soks.org/event/west-regional-basketball-tournament-2-2/
LOCATION:United States
CATEGORIES:Sports,West Region
END:VEVENT
BEGIN:VEVENT
DTSTART;TZID=America/Chicago:20200215T090000
DTEND;TZID=America/Chicago:20200215T170000
DTSTAMP:20260421T003857
CREATED:20191031T145219Z
LAST-MODIFIED:20191031T145219Z
UID:10002406-1581757200-1581786000@soks.org
SUMMARY:West Regional Basketball Tournament
DESCRIPTION:The West Regional Basketball Tournament will be held on Saturday\, February 15 at Plainville High School\, 202 SE 3rd\, Plainville\, KS. The competition will begin at 9:00am. For more information\, contact Tim Rehder at rehdert@ksso.org
URL:https://soks.org/event/west-regional-basketball-tournament-2-3/
LOCATION:United States
CATEGORIES:Sports,West Region
END:VEVENT
BEGIN:VEVENT
DTSTART;VALUE=DATE:20200215
DTEND;VALUE=DATE:20200216
DTSTAMP:20260421T003857
CREATED:20191106T173542Z
LAST-MODIFIED:20191106T173542Z
UID:10002429-1581724800-1581811199@soks.org
SUMMARY:Salina Polar Plunge and Strut
DESCRIPTION:Get all the details at plungeks.org/salina
URL:https://soks.org/event/salina-polar-plunge-and-strut/
CATEGORIES:Fundraising Events,LETR,South Central Region
END:VEVENT
BEGIN:VEVENT
DTSTART;VALUE=DATE:20200215
DTEND;VALUE=DATE:20200216
DTSTAMP:20260421T003857
CREATED:20191106T173542Z
LAST-MODIFIED:20191106T173542Z
UID:10002430-1581724800-1581811199@soks.org
SUMMARY:Salina Polar Plunge and Strut
DESCRIPTION:Get all the details at plungeks.org/salina
URL:https://soks.org/event/salina-polar-plunge-and-strut-2/
CATEGORIES:Fundraising Events,LETR,South Central Region
END:VEVENT
BEGIN:VEVENT
DTSTART;VALUE=DATE:20200215
DTEND;VALUE=DATE:20200216
DTSTAMP:20260421T003857
CREATED:20191106T173443Z
LAST-MODIFIED:20191106T173443Z
UID:10002427-1581724800-1581811199@soks.org
SUMMARY:Emporia Polar Plunge and Strut
DESCRIPTION:Get all the details at plungeks.org/emporia
URL:https://soks.org/event/emporia-polar-plunge-and-strut/
CATEGORIES:Fundraising Events,LETR,South Central Region
END:VEVENT
BEGIN:VEVENT
DTSTART;VALUE=DATE:20200215
DTEND;VALUE=DATE:20200216
DTSTAMP:20260421T003857
CREATED:20191106T173443Z
LAST-MODIFIED:20191106T173443Z
UID:10002428-1581724800-1581811199@soks.org
SUMMARY:Emporia Polar Plunge and Strut
DESCRIPTION:Get all the details at plungeks.org/emporia
URL:https://soks.org/event/emporia-polar-plunge-and-strut-2/
CATEGORIES:Fundraising Events,LETR,South Central Region
END:VEVENT
BEGIN:VEVENT
DTSTART;TZID=America/Chicago:20200213T090000
DTEND;TZID=America/Chicago:20200213T123000
DTSTAMP:20260421T003857
CREATED:20191024T203726Z
LAST-MODIFIED:20191024T203726Z
UID:10002401-1581584400-1581597000@soks.org
SUMMARY:Southeast Regional Basketball Tournament - Adult
DESCRIPTION:**Cancelled** No make-up date right now but will make every effort to reschedule.  The Southeast Regional Basketball Tournament – Adult  will be held Thursday\, February 13 at Pittsburg State University\, John Lance Arena\, 1701 S Homer St\, Pittsburg\, KS 66762.  The competition will run from 9:00am – 12:30 pm. \nPlease contact Terri Price for more information at pricet@ksso.org
URL:https://soks.org/event/southeast-regional-basketball-tournament-adult/
LOCATION:United States
CATEGORIES:Southeast Region,Sports
END:VEVENT
BEGIN:VEVENT
DTSTART;TZID=America/Chicago:20200213T090000
DTEND;TZID=America/Chicago:20200213T123000
DTSTAMP:20260421T003857
CREATED:20191024T203726Z
LAST-MODIFIED:20191024T203726Z
UID:10002402-1581584400-1581597000@soks.org
SUMMARY:Southeast Regional Basketball Tournament - Adult
DESCRIPTION:**Cancelled** No make-up date right now but will make every effort to reschedule.  The Southeast Regional Basketball Tournament – Adult  will be held Thursday\, February 13 at Pittsburg State University\, John Lance Arena\, 1701 S Homer St\, Pittsburg\, KS 66762.  The competition will run from 9:00am – 12:30 pm. \nPlease contact Terri Price for more information at pricet@ksso.org
URL:https://soks.org/event/southeast-regional-basketball-tournament-adult-2/
LOCATION:United States
CATEGORIES:Southeast Region,Sports
END:VEVENT
BEGIN:VEVENT
DTSTART;TZID=America/Chicago:20200212T180000
DTEND;TZID=America/Chicago:20200212T190000
DTSTAMP:20260421T003857
CREATED:20191218T153137Z
LAST-MODIFIED:20191218T153137Z
UID:10002493-1581530400-1581534000@soks.org
SUMMARY:Washburn University Unified Basketball
DESCRIPTION:Open to Washburn University Students and Special Olympics Kansas athletes. \nDedicated to promoting social inclusion through shared sports training & competition experiences\, Washburn University Student Recreation and Wellness and Special Olympics Kansas are joining forces to bring together people with and without intellectual disabilities on the same team. In Unified Sports\, teams are made up of people of similar age and ability. That makes practices more fun and games more challenging and exciting for all. Having sport in common is just one more way that preconceptions and false ideas are swept away. \nAthletes must be 18 and older and have a valid medical release form on file with Special Olympics Kansas. This is a competitive program and while any athlete can play regardless of ability level the competition will be comparable to a mid to high level 2 division. \nLOCATION: Student Recreation and Wellness Center\, 1700 SW College Ave\, Topeka\, KS 66621 \nSCHEDULE (6pm – 7pm): \nWeek 1: Wednesday\, January 29 (Informational Session/Open Scrimmage)\nWeek 2: Wednesday\, February 5 (Practice/Scrimmage)\nWeek 3: Wednesday\, February 12 (League)\nWeek 4: Wednesday\, February 19 (League)\nWeek 5: Wednesday\, February 26 (League)\nWeek 6: Wednesday\, March 4 (Tournament)\nSpecial: Sunday\, March 15 – Unified College Exhibition Tournament at Washburn Rural HS against teams from KU\, KSU and others \nRegister online: https://docs.google.com/forms/d/e/1FAIpQLSfeLfWDmA2otU2gEJsNZHICG56snPo1WyHgk5UZ9Sf1gi5rRw/viewform
URL:https://soks.org/event/washburn-university-unified-basketball-3/
LOCATION:United States
CATEGORIES:North Central Region,Sports,Unified
END:VEVENT
BEGIN:VEVENT
DTSTART;TZID=America/Chicago:20200212T180000
DTEND;TZID=America/Chicago:20200212T190000
DTSTAMP:20260421T003857
CREATED:20191218T153137Z
LAST-MODIFIED:20191218T153137Z
UID:10002494-1581530400-1581534000@soks.org
SUMMARY:Washburn University Unified Basketball
DESCRIPTION:Open to Washburn University Students and Special Olympics Kansas athletes. \nDedicated to promoting social inclusion through shared sports training & competition experiences\, Washburn University Student Recreation and Wellness and Special Olympics Kansas are joining forces to bring together people with and without intellectual disabilities on the same team. In Unified Sports\, teams are made up of people of similar age and ability. That makes practices more fun and games more challenging and exciting for all. Having sport in common is just one more way that preconceptions and false ideas are swept away. \nAthletes must be 18 and older and have a valid medical release form on file with Special Olympics Kansas. This is a competitive program and while any athlete can play regardless of ability level the competition will be comparable to a mid to high level 2 division. \nLOCATION: Student Recreation and Wellness Center\, 1700 SW College Ave\, Topeka\, KS 66621 \nSCHEDULE (6pm – 7pm): \nWeek 1: Wednesday\, January 29 (Informational Session/Open Scrimmage)\nWeek 2: Wednesday\, February 5 (Practice/Scrimmage)\nWeek 3: Wednesday\, February 12 (League)\nWeek 4: Wednesday\, February 19 (League)\nWeek 5: Wednesday\, February 26 (League)\nWeek 6: Wednesday\, March 4 (Tournament)\nSpecial: Sunday\, March 15 – Unified College Exhibition Tournament at Washburn Rural HS against teams from KU\, KSU and others \nRegister online: https://docs.google.com/forms/d/e/1FAIpQLSfeLfWDmA2otU2gEJsNZHICG56snPo1WyHgk5UZ9Sf1gi5rRw/viewform
URL:https://soks.org/event/washburn-university-unified-basketball-3-2/
LOCATION:United States
CATEGORIES:North Central Region,Sports,Unified
END:VEVENT
BEGIN:VEVENT
DTSTART;TZID=America/Chicago:20200209T100000
DTEND;TZID=America/Chicago:20200209T160000
DTSTAMP:20260421T003857
CREATED:20191111T204430Z
LAST-MODIFIED:20191111T204430Z
UID:10002441-1581242400-1581264000@soks.org
SUMMARY:Unified Bocce Matches
DESCRIPTION:Unified Bocce Matches will be held on Sunday\, February 9 at Spring Hill High School\, 19701 S Ridgeview Rd\, Spring Hill\, KS.  For more information\, please contact Taylor Obersteadt at obersteadtt@ksso.org
URL:https://soks.org/event/unified-bocce-matches-3/
LOCATION:United States
CATEGORIES:Metro Region,North Central Region,South Central Region,Southeast Region,Sports,Unified,West Region
END:VEVENT
BEGIN:VEVENT
DTSTART;TZID=America/Chicago:20200209T100000
DTEND;TZID=America/Chicago:20200209T160000
DTSTAMP:20260421T003857
CREATED:20191111T204430Z
LAST-MODIFIED:20191111T204430Z
UID:10002442-1581242400-1581264000@soks.org
SUMMARY:Unified Bocce Matches
DESCRIPTION:Unified Bocce Matches will be held on Sunday\, February 9 at Spring Hill High School\, 19701 S Ridgeview Rd\, Spring Hill\, KS.  For more information\, please contact Taylor Obersteadt at obersteadtt@ksso.org
URL:https://soks.org/event/unified-bocce-matches-3-2/
LOCATION:United States
CATEGORIES:Metro Region,North Central Region,South Central Region,Southeast Region,Sports,Unified,West Region
END:VEVENT
BEGIN:VEVENT
DTSTART;VALUE=DATE:20200208
DTEND;VALUE=DATE:20200209
DTSTAMP:20260421T003857
CREATED:20191106T173333Z
LAST-MODIFIED:20191106T173333Z
UID:10002425-1581120000-1581206399@soks.org
SUMMARY:Topeka Polar Plunge and Strut
DESCRIPTION:Get all the details at plungeks.org/topeka
URL:https://soks.org/event/topeka-polar-plunge-and-strut/
CATEGORIES:Fundraising Events,LETR,North Central Region
END:VEVENT
BEGIN:VEVENT
DTSTART;VALUE=DATE:20200208
DTEND;VALUE=DATE:20200209
DTSTAMP:20260421T003857
CREATED:20191106T173333Z
LAST-MODIFIED:20191106T173333Z
UID:10002426-1581120000-1581206399@soks.org
SUMMARY:Topeka Polar Plunge and Strut
DESCRIPTION:Get all the details at plungeks.org/topeka
URL:https://soks.org/event/topeka-polar-plunge-and-strut-2/
CATEGORIES:Fundraising Events,LETR,North Central Region
END:VEVENT
BEGIN:VEVENT
DTSTART;VALUE=DATE:20200208
DTEND;VALUE=DATE:20200209
DTSTAMP:20260421T003857
CREATED:20191106T173242Z
LAST-MODIFIED:20191106T173242Z
UID:10002423-1581120000-1581206399@soks.org
SUMMARY:Pittsburg Polar Plunge
DESCRIPTION:Get all the details at plungeks.org/pittsburg
URL:https://soks.org/event/pittsburg-polar-plunge-2-2/
CATEGORIES:Fundraising Events,LETR,Southeast Region
END:VEVENT
BEGIN:VEVENT
DTSTART;VALUE=DATE:20200208
DTEND;VALUE=DATE:20200209
DTSTAMP:20260421T003857
CREATED:20191106T173242Z
LAST-MODIFIED:20191106T173242Z
UID:10002424-1581120000-1581206399@soks.org
SUMMARY:Pittsburg Polar Plunge
DESCRIPTION:Get all the details at plungeks.org/pittsburg
URL:https://soks.org/event/pittsburg-polar-plunge-2-3/
CATEGORIES:Fundraising Events,LETR,Southeast Region
END:VEVENT
BEGIN:VEVENT
DTSTART;VALUE=DATE:20200208
DTEND;VALUE=DATE:20200209
DTSTAMP:20260421T003857
CREATED:20191106T173142Z
LAST-MODIFIED:20191106T173142Z
UID:10002421-1581120000-1581206399@soks.org
SUMMARY:Kansas City Polar Plunge and Strut
DESCRIPTION:Get all information at plungeks.org/kc
URL:https://soks.org/event/kansas-city-polar-plunge-and-strut/
CATEGORIES:Fundraising Events,LETR,Metro Region
END:VEVENT
BEGIN:VEVENT
DTSTART;VALUE=DATE:20200208
DTEND;VALUE=DATE:20200209
DTSTAMP:20260421T003857
CREATED:20191106T173142Z
LAST-MODIFIED:20191106T173142Z
UID:10002422-1581120000-1581206399@soks.org
SUMMARY:Kansas City Polar Plunge and Strut
DESCRIPTION:Get all information at plungeks.org/kc
URL:https://soks.org/event/kansas-city-polar-plunge-and-strut-2/
CATEGORIES:Fundraising Events,LETR,Metro Region
END:VEVENT
BEGIN:VEVENT
DTSTART;VALUE=DATE:20200208
DTEND;VALUE=DATE:20200209
DTSTAMP:20260421T003857
CREATED:20191106T173047Z
LAST-MODIFIED:20191106T173047Z
UID:10002419-1581120000-1581206399@soks.org
SUMMARY:Haysville Polar Plunge and Strut
DESCRIPTION:Get all information at plungeks.org/haysville
URL:https://soks.org/event/haysville-polar-plunge-and-strut/
CATEGORIES:Fundraising Events,LETR,South Central Region
END:VEVENT
BEGIN:VEVENT
DTSTART;VALUE=DATE:20200208
DTEND;VALUE=DATE:20200209
DTSTAMP:20260421T003857
CREATED:20191106T173047Z
LAST-MODIFIED:20191106T173047Z
UID:10002420-1581120000-1581206399@soks.org
SUMMARY:Haysville Polar Plunge and Strut
DESCRIPTION:Get all information at plungeks.org/haysville
URL:https://soks.org/event/haysville-polar-plunge-and-strut-2/
CATEGORIES:Fundraising Events,LETR,South Central Region
END:VEVENT
BEGIN:VEVENT
DTSTART;TZID=America/Chicago:20200205T180000
DTEND;TZID=America/Chicago:20200205T190000
DTSTAMP:20260421T003857
CREATED:20191218T153043Z
LAST-MODIFIED:20191218T153043Z
UID:10002491-1580925600-1580929200@soks.org
SUMMARY:Washburn University Unified Basketball
DESCRIPTION:Open to Washburn University Students and Special Olympics Kansas athletes. \nDedicated to promoting social inclusion through shared sports training & competition experiences\, Washburn University Student Recreation and Wellness and Special Olympics Kansas are joining forces to bring together people with and without intellectual disabilities on the same team. In Unified Sports\, teams are made up of people of similar age and ability. That makes practices more fun and games more challenging and exciting for all. Having sport in common is just one more way that preconceptions and false ideas are swept away. \nAthletes must be 18 and older and have a valid medical release form on file with Special Olympics Kansas. This is a competitive program and while any athlete can play regardless of ability level the competition will be comparable to a mid to high level 2 division. \nLOCATION: Student Recreation and Wellness Center\, 1700 SW College Ave\, Topeka\, KS 66621 \nSCHEDULE (6pm – 7pm): \nWeek 1: Wednesday\, January 29 (Informational Session/Open Scrimmage)\nWeek 2: Wednesday\, February 5 (Practice/Scrimmage)\nWeek 3: Wednesday\, February 12 (League)\nWeek 4: Wednesday\, February 19 (League)\nWeek 5: Wednesday\, February 26 (League)\nWeek 6: Wednesday\, March 4 (Tournament)\nSpecial: Sunday\, March 15 – Unified College Exhibition Tournament at Washburn Rural HS against teams from KU\, KSU and others \nRegister online: https://docs.google.com/forms/d/e/1FAIpQLSfeLfWDmA2otU2gEJsNZHICG56snPo1WyHgk5UZ9Sf1gi5rRw/viewform
URL:https://soks.org/event/washburn-university-unified-basketball-2/
LOCATION:United States
CATEGORIES:North Central Region,Sports,Unified
END:VEVENT
BEGIN:VEVENT
DTSTART;TZID=America/Chicago:20200205T180000
DTEND;TZID=America/Chicago:20200205T190000
DTSTAMP:20260421T003857
CREATED:20191218T153043Z
LAST-MODIFIED:20191218T153043Z
UID:10002492-1580925600-1580929200@soks.org
SUMMARY:Washburn University Unified Basketball
DESCRIPTION:Open to Washburn University Students and Special Olympics Kansas athletes. \nDedicated to promoting social inclusion through shared sports training & competition experiences\, Washburn University Student Recreation and Wellness and Special Olympics Kansas are joining forces to bring together people with and without intellectual disabilities on the same team. In Unified Sports\, teams are made up of people of similar age and ability. That makes practices more fun and games more challenging and exciting for all. Having sport in common is just one more way that preconceptions and false ideas are swept away. \nAthletes must be 18 and older and have a valid medical release form on file with Special Olympics Kansas. This is a competitive program and while any athlete can play regardless of ability level the competition will be comparable to a mid to high level 2 division. \nLOCATION: Student Recreation and Wellness Center\, 1700 SW College Ave\, Topeka\, KS 66621 \nSCHEDULE (6pm – 7pm): \nWeek 1: Wednesday\, January 29 (Informational Session/Open Scrimmage)\nWeek 2: Wednesday\, February 5 (Practice/Scrimmage)\nWeek 3: Wednesday\, February 12 (League)\nWeek 4: Wednesday\, February 19 (League)\nWeek 5: Wednesday\, February 26 (League)\nWeek 6: Wednesday\, March 4 (Tournament)\nSpecial: Sunday\, March 15 – Unified College Exhibition Tournament at Washburn Rural HS against teams from KU\, KSU and others \nRegister online: https://docs.google.com/forms/d/e/1FAIpQLSfeLfWDmA2otU2gEJsNZHICG56snPo1WyHgk5UZ9Sf1gi5rRw/viewform
URL:https://soks.org/event/washburn-university-unified-basketball-2-2/
LOCATION:United States
CATEGORIES:North Central Region,Sports,Unified
END:VEVENT
BEGIN:VEVENT
DTSTART;TZID=America/Chicago:20200129T180000
DTEND;TZID=America/Chicago:20200129T190000
DTSTAMP:20260421T003857
CREATED:20191218T152820Z
LAST-MODIFIED:20191218T152820Z
UID:10002489-1580320800-1580324400@soks.org
SUMMARY:Washburn University Unified Basketball
DESCRIPTION:Open to Washburn University Students and Special Olympics Kansas athletes. \nDedicated to promoting social inclusion through shared sports training & competition experiences\, Washburn University Student Recreation and Wellness and Special Olympics Kansas are joining forces to bring together people with and without intellectual disabilities on the same team. In Unified Sports\, teams are made up of people of similar age and ability. That makes practices more fun and games more challenging and exciting for all. Having sport in common is just one more way that preconceptions and false ideas are swept away. \nAthletes must be 18 and older and have a valid medical release form on file with Special Olympics Kansas. This is a competitive program and while any athlete can play regardless of ability level the competition will be comparable to a mid to high level 2 division. \nLOCATION: Student Recreation and Wellness Center\, 1700 SW College Ave\, Topeka\, KS 66621 \nSCHEDULE (6pm – 7pm): \nWeek 1: Wednesday\, January 29 (Informational Session/Open Scrimmage)\nWeek 2: Wednesday\, February 5 (Practice/Scrimmage)\nWeek 3: Wednesday\, February 12 (League)\nWeek 4: Wednesday\, February 19 (League)\nWeek 5: Wednesday\, February 26 (League)\nWeek 6: Wednesday\, March 4 (Tournament)\nSpecial: Sunday\, March 15 – Unified College Exhibition Tournament at Washburn Rural HS against teams from KU\, KSU and others \nRegister online: https://docs.google.com/forms/d/e/1FAIpQLSfeLfWDmA2otU2gEJsNZHICG56snPo1WyHgk5UZ9Sf1gi5rRw/viewform
URL:https://soks.org/event/washburn-university-unified-basketball/
LOCATION:United States
CATEGORIES:North Central Region,Sports,Unified
END:VEVENT
BEGIN:VEVENT
DTSTART;TZID=America/Chicago:20200129T180000
DTEND;TZID=America/Chicago:20200129T190000
DTSTAMP:20260421T003857
CREATED:20191218T152820Z
LAST-MODIFIED:20191218T152820Z
UID:10002490-1580320800-1580324400@soks.org
SUMMARY:Washburn University Unified Basketball
DESCRIPTION:Open to Washburn University Students and Special Olympics Kansas athletes. \nDedicated to promoting social inclusion through shared sports training & competition experiences\, Washburn University Student Recreation and Wellness and Special Olympics Kansas are joining forces to bring together people with and without intellectual disabilities on the same team. In Unified Sports\, teams are made up of people of similar age and ability. That makes practices more fun and games more challenging and exciting for all. Having sport in common is just one more way that preconceptions and false ideas are swept away. \nAthletes must be 18 and older and have a valid medical release form on file with Special Olympics Kansas. This is a competitive program and while any athlete can play regardless of ability level the competition will be comparable to a mid to high level 2 division. \nLOCATION: Student Recreation and Wellness Center\, 1700 SW College Ave\, Topeka\, KS 66621 \nSCHEDULE (6pm – 7pm): \nWeek 1: Wednesday\, January 29 (Informational Session/Open Scrimmage)\nWeek 2: Wednesday\, February 5 (Practice/Scrimmage)\nWeek 3: Wednesday\, February 12 (League)\nWeek 4: Wednesday\, February 19 (League)\nWeek 5: Wednesday\, February 26 (League)\nWeek 6: Wednesday\, March 4 (Tournament)\nSpecial: Sunday\, March 15 – Unified College Exhibition Tournament at Washburn Rural HS against teams from KU\, KSU and others \nRegister online: https://docs.google.com/forms/d/e/1FAIpQLSfeLfWDmA2otU2gEJsNZHICG56snPo1WyHgk5UZ9Sf1gi5rRw/viewform
URL:https://soks.org/event/washburn-university-unified-basketball-7/
LOCATION:United States
CATEGORIES:North Central Region,Sports,Unified
END:VEVENT
BEGIN:VEVENT
DTSTART;TZID=UTC:20200129T173000
DTEND;TZID=UTC:20200129T200000
DTSTAMP:20260421T003857
CREATED:20191008T235228Z
LAST-MODIFIED:20191008T235228Z
UID:10002393-1580319000-1580328000@soks.org
SUMMARY:Athlete Ski Clinic
DESCRIPTION:Athlete Ski Clinic. Skiing will be held on January 29\n5:30 p.m. – 8:00 p.m — Alpine Skiing\n7:00 p.m. – 8:00 p.m. Snowshoeing & Cross Country Skiing \nFor more information\, contact Tim Rehder at rehdert@ksso.org
URL:https://soks.org/event/athlete-ski-clinic-13/
LOCATION:United States
CATEGORIES:Metro Region,North Central Region,South Central Region,Southeast Region,Sports,West Region
END:VEVENT
BEGIN:VEVENT
DTSTART;TZID=UTC:20200129T173000
DTEND;TZID=UTC:20200129T200000
DTSTAMP:20260421T003857
CREATED:20191008T235228Z
LAST-MODIFIED:20191008T235228Z
UID:10002394-1580319000-1580328000@soks.org
SUMMARY:Athlete Ski Clinic
DESCRIPTION:Athlete Ski Clinic. Skiing will be held on January 29\n5:30 p.m. – 8:00 p.m — Alpine Skiing\n7:00 p.m. – 8:00 p.m. Snowshoeing & Cross Country Skiing \nFor more information\, contact Tim Rehder at rehdert@ksso.org
URL:https://soks.org/event/athlete-ski-clinic-13-2/
LOCATION:United States
CATEGORIES:Metro Region,North Central Region,South Central Region,Southeast Region,Sports,West Region
END:VEVENT
BEGIN:VEVENT
DTSTART;TZID=UTC:20200129T080000
DTEND;TZID=UTC:20200131T170000
DTSTAMP:20260421T003857
CREATED:20190801T214818Z
LAST-MODIFIED:20190801T214818Z
UID:10002327-1580284800-1580490000@soks.org
SUMMARY:John L Cassidy Heartland Winter Games
DESCRIPTION:The John L Cassidy Heartland Winter Games will be held in Weston\, MO\, St Joseph\, Mo and Atchison\, KS. Competitions will be held in Alpine Skiing\, Snowshoeing\, Cross Country\, Figure Skating and Speed Skating. Opening Ceremonies begin at 8:15pm on Wednesday\, January 29. For more information\, contact Tim Rehder at rehdert@ksso.org
URL:https://soks.org/event/john-l-cassidy-heartland-winter-games-3/
LOCATION:United States
CATEGORIES:Metro Region,North Central Region,South Central Region,Southeast Region,Sports,West Region
END:VEVENT
BEGIN:VEVENT
DTSTART;TZID=UTC:20200129T080000
DTEND;TZID=UTC:20200131T170000
DTSTAMP:20260421T003857
CREATED:20190801T214818Z
LAST-MODIFIED:20190801T214818Z
UID:10002328-1580284800-1580490000@soks.org
SUMMARY:John L Cassidy Heartland Winter Games
DESCRIPTION:The John L Cassidy Heartland Winter Games will be held in Weston\, MO\, St Joseph\, Mo and Atchison\, KS. Competitions will be held in Alpine Skiing\, Snowshoeing\, Cross Country\, Figure Skating and Speed Skating. Opening Ceremonies begin at 8:15pm on Wednesday\, January 29. For more information\, contact Tim Rehder at rehdert@ksso.org
URL:https://soks.org/event/john-l-cassidy-heartland-winter-games-3-2/
LOCATION:United States
CATEGORIES:Metro Region,North Central Region,South Central Region,Southeast Region,Sports,West Region
END:VEVENT
BEGIN:VEVENT
DTSTART;TZID=UTC:20200126T123000
DTEND;TZID=UTC:20200126T160000
DTSTAMP:20260421T003857
CREATED:20191008T234632Z
LAST-MODIFIED:20191008T234632Z
UID:10002391-1580041800-1580054400@soks.org
SUMMARY:Athlete Ski Clinic
DESCRIPTION:Athlete Ski Clinic  — Check in 12:30 p.m. Event begins at 1:00 p.m. — Alpine Skiing will be held from 1:00 p.m. – 4:00 p.m.  Snowshoeing & Cross County Skiing will be held from 2:30 p.m. – 3:45 p.m. \nFor more information\, please contact Tim Rehder at rehdert@ksso.org
URL:https://soks.org/event/athlete-ski-clinic-12/
LOCATION:United States
CATEGORIES:Metro Region,North Central Region,South Central Region,Southeast Region,Sports,West Region
END:VEVENT
BEGIN:VEVENT
DTSTART;TZID=UTC:20200126T123000
DTEND;TZID=UTC:20200126T160000
DTSTAMP:20260421T003857
CREATED:20191008T234632Z
LAST-MODIFIED:20191008T234632Z
UID:10002392-1580041800-1580054400@soks.org
SUMMARY:Athlete Ski Clinic
DESCRIPTION:Athlete Ski Clinic  — Check in 12:30 p.m. Event begins at 1:00 p.m. — Alpine Skiing will be held from 1:00 p.m. – 4:00 p.m.  Snowshoeing & Cross County Skiing will be held from 2:30 p.m. – 3:45 p.m. \nFor more information\, please contact Tim Rehder at rehdert@ksso.org
URL:https://soks.org/event/athlete-ski-clinic-12-2/
LOCATION:United States
CATEGORIES:Metro Region,North Central Region,South Central Region,Southeast Region,Sports,West Region
END:VEVENT
END:VCALENDAR