BEGIN:VCALENDAR
VERSION:2.0
PRODID:-//Special Olympics Kansas - ECPv6.15.20//NONSGML v1.0//EN
CALSCALE:GREGORIAN
METHOD:PUBLISH
X-WR-CALNAME:Special Olympics Kansas
X-ORIGINAL-URL:https://soks.org
X-WR-CALDESC:Events for Special Olympics Kansas
REFRESH-INTERVAL;VALUE=DURATION:PT1H
X-Robots-Tag:noindex
X-PUBLISHED-TTL:PT1H
BEGIN:VTIMEZONE
TZID:UTC
BEGIN:STANDARD
TZOFFSETFROM:+0000
TZOFFSETTO:+0000
TZNAME:UTC
DTSTART:20180101T000000
END:STANDARD
END:VTIMEZONE
BEGIN:VEVENT
DTSTART;TZID=UTC:20191027T150000
DTEND;TZID=UTC:20191027T160000
DTSTAMP:20260421T213508
CREATED:20191003T202621Z
LAST-MODIFIED:20191003T202621Z
UID:10002374-1572188400-1572192000@soks.org
SUMMARY:Manhattan Young Athletes
DESCRIPTION:
URL:https://soks.org/event/manhattan-young-athletes-3-2/
LOCATION:KS\, United States
CATEGORIES:North Central Region,Sports
ATTACH;FMTTYPE=:
END:VEVENT
BEGIN:VEVENT
DTSTART;TZID=UTC:20191027T120000
DTEND;TZID=UTC:20191027T170000
DTSTAMP:20260421T213508
CREATED:20190627T195843Z
LAST-MODIFIED:20190627T195843Z
UID:10002321-1572177600-1572195600@soks.org
SUMMARY:Topeka Battle of the Badges
DESCRIPTION:Officers from the Topeka Police Department\, Kansas HIghway Patrol\, Shawnee County Sheriff Office\, and Topeka Fire Department will compete in flag football for bragging rights! \nThis is the 16th year for the Glory Days Battle of the Badges. \nGates open at noon with competition at 1 p.m. \nDonations at the gate for admission. Silent Auction & opportunities to win great prizes available. \nHalf time entertainment provided. \nQuestions? Contact Dan Wilson\, dwilson@topeka.org \nfacebook.com/battle-of-the-badges-charity-flag-football-game \nLocation: Yager Stadium\, Washburn University\, 1700 College\, Topeka\, KS
URL:https://soks.org/event/topeka-battle-of-the-badges/
LOCATION:KS\, United States
CATEGORIES:Fundraising Events,LETR,North Central Region
END:VEVENT
BEGIN:VEVENT
DTSTART;TZID=UTC:20191027T120000
DTEND;TZID=UTC:20191027T170000
DTSTAMP:20260421T213508
CREATED:20190627T195843Z
LAST-MODIFIED:20190627T195843Z
UID:10002322-1572177600-1572195600@soks.org
SUMMARY:Topeka Battle of the Badges
DESCRIPTION:Officers from the Topeka Police Department\, Kansas HIghway Patrol\, Shawnee County Sheriff Office\, and Topeka Fire Department will compete in flag football for bragging rights! \nThis is the 16th year for the Glory Days Battle of the Badges. \nGates open at noon with competition at 1 p.m. \nDonations at the gate for admission. Silent Auction & opportunities to win great prizes available. \nHalf time entertainment provided. \nQuestions? Contact Dan Wilson\, dwilson@topeka.org \nfacebook.com/battle-of-the-badges-charity-flag-football-game \nLocation: Yager Stadium\, Washburn University\, 1700 College\, Topeka\, KS
URL:https://soks.org/event/topeka-battle-of-the-badges-2/
LOCATION:KS\, United States
CATEGORIES:Fundraising Events,LETR,North Central Region
END:VEVENT
BEGIN:VEVENT
DTSTART;TZID=UTC:20191026T080000
DTEND;TZID=UTC:20191026T170000
DTSTAMP:20260421T213508
CREATED:20190824T003904Z
LAST-MODIFIED:20190824T003904Z
UID:10002351-1572076800-1572109200@soks.org
SUMMARY:South Central Regional Soccer Tournament
DESCRIPTION:The South Central Regional Soccer Tournament will be held on Saturday\, October 26 at Circle High School\, 905 Main St\, Towanda\, KS 67144. \nFor more information\, please contact Brian Talarico at talaricob@ksso.org
URL:https://soks.org/event/south-central-regional-soccer-tournament-2-2/
LOCATION:KS\, United States
CATEGORIES:South Central Region,Sports
END:VEVENT
BEGIN:VEVENT
DTSTART;TZID=UTC:20191026T080000
DTEND;TZID=UTC:20191026T170000
DTSTAMP:20260421T213508
CREATED:20190824T003904Z
LAST-MODIFIED:20190824T003904Z
UID:10002352-1572076800-1572109200@soks.org
SUMMARY:South Central Regional Soccer Tournament
DESCRIPTION:The South Central Regional Soccer Tournament will be held on Saturday\, October 26 at Circle High School\, 905 Main St\, Towanda\, KS 67144. \nFor more information\, please contact Brian Talarico at talaricob@ksso.org
URL:https://soks.org/event/south-central-regional-soccer-tournament-2-3/
LOCATION:KS\, United States
CATEGORIES:South Central Region,Sports
END:VEVENT
BEGIN:VEVENT
DTSTART;TZID=UTC:20191020T150000
DTEND;TZID=UTC:20191020T160000
DTSTAMP:20260421T213508
CREATED:20191003T202507Z
LAST-MODIFIED:20191003T202507Z
UID:10002371-1571583600-1571587200@soks.org
SUMMARY:Manhattan Young Athletes
DESCRIPTION:
URL:https://soks.org/event/manhattan-young-athletes-2/
LOCATION:KS\, United States
CATEGORIES:North Central Region,Sports
ATTACH;FMTTYPE=:
END:VEVENT
BEGIN:VEVENT
DTSTART;TZID=UTC:20191020T150000
DTEND;TZID=UTC:20191020T160000
DTSTAMP:20260421T213508
CREATED:20191003T202507Z
LAST-MODIFIED:20191003T202507Z
UID:10002372-1571583600-1571587200@soks.org
SUMMARY:Manhattan Young Athletes
DESCRIPTION:
URL:https://soks.org/event/manhattan-young-athletes-2-2/
LOCATION:KS\, United States
CATEGORIES:North Central Region,Sports
ATTACH;FMTTYPE=:
END:VEVENT
BEGIN:VEVENT
DTSTART;TZID=UTC:20191020T123000
DTEND;TZID=UTC:20191020T170000
DTSTAMP:20260421T213508
CREATED:20190520T225731Z
LAST-MODIFIED:20190520T225731Z
UID:10002299-1571574600-1571590800@soks.org
SUMMARY:Metro Regional Soccer & Bocce Tournament
DESCRIPTION:The Metro Regional Soccer & Bocce Tournament will be held on Sunday\, October 20 at Lone Elm Park\,  21151 W 167th St\, Olathe.  Competition will begin 12:30pm. For more information\, contact Terri Price at price@ksso.org
URL:https://soks.org/event/metro-regional-soccer-bocce-tournament-4/
LOCATION:KS\, United States
CATEGORIES:Metro Region,Sports
END:VEVENT
BEGIN:VEVENT
DTSTART;TZID=UTC:20191020T123000
DTEND;TZID=UTC:20191020T170000
DTSTAMP:20260421T213508
CREATED:20190520T225731Z
LAST-MODIFIED:20190520T225731Z
UID:10002300-1571574600-1571590800@soks.org
SUMMARY:Metro Regional Soccer & Bocce Tournament
DESCRIPTION:The Metro Regional Soccer & Bocce Tournament will be held on Sunday\, October 20 at Lone Elm Park\,  21151 W 167th St\, Olathe.  Competition will begin 12:30pm. For more information\, contact Terri Price at price@ksso.org
URL:https://soks.org/event/metro-regional-soccer-bocce-tournament-4-2/
LOCATION:KS\, United States
CATEGORIES:Metro Region,Sports
END:VEVENT
BEGIN:VEVENT
DTSTART;TZID=UTC:20191020T100000
DTEND;TZID=UTC:20191020T170000
DTSTAMP:20260421T213508
CREATED:20190606T181002Z
LAST-MODIFIED:20190606T181002Z
UID:10002305-1571565600-1571590800@soks.org
SUMMARY:Unified Basketball Matches
DESCRIPTION:The Unified Basketball Match Play will be held Sunday\, October 20 at Washburn Rural High School\, 5900 SW 61st St\, Topeka\, KS  66619 \nFor more information\, please contact Taylor Obersteadt at obersteadtt@ksso.org
URL:https://soks.org/event/unified-basketball-matches-4/
LOCATION:KS\, United States
CATEGORIES:Sports,Unified
END:VEVENT
BEGIN:VEVENT
DTSTART;TZID=UTC:20191020T100000
DTEND;TZID=UTC:20191020T170000
DTSTAMP:20260421T213508
CREATED:20190606T181002Z
LAST-MODIFIED:20190606T181002Z
UID:10002306-1571565600-1571590800@soks.org
SUMMARY:Unified Basketball Matches
DESCRIPTION:The Unified Basketball Match Play will be held Sunday\, October 20 at Washburn Rural High School\, 5900 SW 61st St\, Topeka\, KS  66619 \nFor more information\, please contact Taylor Obersteadt at obersteadtt@ksso.org
URL:https://soks.org/event/unified-basketball-matches-4-2/
LOCATION:KS\, United States
CATEGORIES:Sports,Unified
END:VEVENT
BEGIN:VEVENT
DTSTART;TZID=UTC:20191019T110000
DTEND;TZID=UTC:20191019T170000
DTSTAMP:20260421T213508
CREATED:20191001T201423Z
LAST-MODIFIED:20191001T201423Z
UID:10002365-1571482800-1571504400@soks.org
SUMMARY:Charles E Watson Softball & Golf Tournament
DESCRIPTION:** UPDATE**  Softball  October 19.\nGolf — Wednesday\, October 9th and Friday\, October 11h \nThe Charles E Watson Softball & Golf Tournament will be held in Wichita\, KS. \nWednesday & Friday\, the Golf Competitions will be held at: Sierra Hills – 13420 E Pawnee\, Wichita\, KS;\nSaturday the Softball Competition will be held at: – Two Rivers Youth Club (TRYC) – 1700 N Ridge\, Wichita\, KS. \nFor more information\, contact Tim Rehder at rehdert@ksso.org
URL:https://soks.org/event/charles-e-watson-softball-golf-tournament-4/
LOCATION:KS\, United States
CATEGORIES:Metro Region,North Central Region,South Central Region,Southeast Region,Sports,West Region
END:VEVENT
BEGIN:VEVENT
DTSTART;TZID=UTC:20191019T110000
DTEND;TZID=UTC:20191019T170000
DTSTAMP:20260421T213508
CREATED:20191001T201423Z
LAST-MODIFIED:20191001T201423Z
UID:10002366-1571482800-1571504400@soks.org
SUMMARY:Charles E Watson Softball & Golf Tournament
DESCRIPTION:** UPDATE**  Softball  October 19.\nGolf — Wednesday\, October 9th and Friday\, October 11h \nThe Charles E Watson Softball & Golf Tournament will be held in Wichita\, KS. \nWednesday & Friday\, the Golf Competitions will be held at: Sierra Hills – 13420 E Pawnee\, Wichita\, KS;\nSaturday the Softball Competition will be held at: – Two Rivers Youth Club (TRYC) – 1700 N Ridge\, Wichita\, KS. \nFor more information\, contact Tim Rehder at rehdert@ksso.org
URL:https://soks.org/event/charles-e-watson-softball-golf-tournament-4-2/
LOCATION:KS\, United States
CATEGORIES:Metro Region,North Central Region,South Central Region,Southeast Region,Sports,West Region
END:VEVENT
BEGIN:VEVENT
DTSTART;TZID=UTC:20191019T100000
DTEND;TZID=UTC:20191019T170000
DTSTAMP:20260421T213508
CREATED:20190606T180458Z
LAST-MODIFIED:20190606T180458Z
UID:10002303-1571479200-1571504400@soks.org
SUMMARY:Unified Basketball Matches
DESCRIPTION:The Unified Basketball Match Play will be held Saturday\, October 19 at Gardner-Edgerton High School\, 425 Waverly Rd\, Gardner\, KS 66030. \nFor more information\, please contact Taylor Obersteadt at obersteadtt@ksso.org
URL:https://soks.org/event/unified-basketball-matches-3/
LOCATION:KS\, United States
CATEGORIES:Sports,Unified
END:VEVENT
BEGIN:VEVENT
DTSTART;TZID=UTC:20191019T100000
DTEND;TZID=UTC:20191019T170000
DTSTAMP:20260421T213508
CREATED:20190606T180458Z
LAST-MODIFIED:20190606T180458Z
UID:10002304-1571479200-1571504400@soks.org
SUMMARY:Unified Basketball Matches
DESCRIPTION:The Unified Basketball Match Play will be held Saturday\, October 19 at Gardner-Edgerton High School\, 425 Waverly Rd\, Gardner\, KS 66030. \nFor more information\, please contact Taylor Obersteadt at obersteadtt@ksso.org
URL:https://soks.org/event/unified-basketball-matches-3-2/
LOCATION:KS\, United States
CATEGORIES:Sports,Unified
END:VEVENT
BEGIN:VEVENT
DTSTART;TZID=UTC:20191013T150000
DTEND;TZID=UTC:20191013T160000
DTSTAMP:20260421T213508
CREATED:20191003T202106Z
LAST-MODIFIED:20191003T202106Z
UID:10002369-1570978800-1570982400@soks.org
SUMMARY:Manhattan Young Athletes
DESCRIPTION:
URL:https://soks.org/event/manhattan-young-athletes/
LOCATION:KS\, United States
CATEGORIES:North Central Region,Sports
ATTACH;FMTTYPE=:
END:VEVENT
BEGIN:VEVENT
DTSTART;TZID=UTC:20191013T150000
DTEND;TZID=UTC:20191013T160000
DTSTAMP:20260421T213508
CREATED:20191003T202106Z
LAST-MODIFIED:20191003T202106Z
UID:10002370-1570978800-1570982400@soks.org
SUMMARY:Manhattan Young Athletes
DESCRIPTION:
URL:https://soks.org/event/manhattan-young-athletes-7/
LOCATION:KS\, United States
CATEGORIES:North Central Region,Sports
ATTACH;FMTTYPE=:
END:VEVENT
BEGIN:VEVENT
DTSTART;TZID=UTC:20191012T190000
DTEND;TZID=UTC:20191012T210000
DTSTAMP:20260421T213508
CREATED:20190906T184237Z
LAST-MODIFIED:20190906T184237Z
UID:10002353-1570906800-1570914000@soks.org
SUMMARY:Paint Night / Give Back
DESCRIPTION:Pinot’s Pallette in Lee’s Summit\, MO\, is hosting a give back night for Special Olympics Kansas on Saturday\, October 12\, from 7-9 p.m. A portion of the proceeds from the event will be given to Special Olympics Kansas. \nFull details and registration for the event can be found here: https://www.pinotspalette.com/lees-summit/event/364005 \nClick HERE to see the image that will be painted at the event.
URL:https://soks.org/event/paint-night-give-back/
LOCATION:KS\, United States
CATEGORIES:Fundraising Events,Metro Region
END:VEVENT
BEGIN:VEVENT
DTSTART;TZID=UTC:20191012T190000
DTEND;TZID=UTC:20191012T210000
DTSTAMP:20260421T213508
CREATED:20190906T184237Z
LAST-MODIFIED:20190906T184237Z
UID:10002354-1570906800-1570914000@soks.org
SUMMARY:Paint Night / Give Back
DESCRIPTION:Pinot’s Pallette in Lee’s Summit\, MO\, is hosting a give back night for Special Olympics Kansas on Saturday\, October 12\, from 7-9 p.m. A portion of the proceeds from the event will be given to Special Olympics Kansas. \nFull details and registration for the event can be found here: https://www.pinotspalette.com/lees-summit/event/364005 \nClick HERE to see the image that will be painted at the event.
URL:https://soks.org/event/paint-night-give-back-2/
LOCATION:KS\, United States
CATEGORIES:Fundraising Events,Metro Region
END:VEVENT
BEGIN:VEVENT
DTSTART;TZID=UTC:20191012T090000
DTEND;TZID=UTC:20191012T150000
DTSTAMP:20260421T213508
CREATED:20190620T204115Z
LAST-MODIFIED:20190620T204115Z
UID:10002313-1570870800-1570892400@soks.org
SUMMARY:West Regional Bowling Tournament - North
DESCRIPTION:The West Regional Bowling Tournament – North will be held on Saturday\, October 12th at the Colby Bowl & Fun Center\, 1175 S Range Ave\, Colby\, KS. The competition will be held from 9:00am to 1:00pm. For more information\, contact Tim Rehder at rehdert@ksso.org
URL:https://soks.org/event/west-regional-bowling-tournament-north-3/
LOCATION:KS\, United States
CATEGORIES:Sports,West Region
END:VEVENT
BEGIN:VEVENT
DTSTART;TZID=UTC:20191012T090000
DTEND;TZID=UTC:20191012T150000
DTSTAMP:20260421T213508
CREATED:20190620T204115Z
LAST-MODIFIED:20190620T204115Z
UID:10002314-1570870800-1570892400@soks.org
SUMMARY:West Regional Bowling Tournament - North
DESCRIPTION:The West Regional Bowling Tournament – North will be held on Saturday\, October 12th at the Colby Bowl & Fun Center\, 1175 S Range Ave\, Colby\, KS. The competition will be held from 9:00am to 1:00pm. For more information\, contact Tim Rehder at rehdert@ksso.org
URL:https://soks.org/event/west-regional-bowling-tournament-north-3-2/
LOCATION:KS\, United States
CATEGORIES:Sports,West Region
END:VEVENT
BEGIN:VEVENT
DTSTART;TZID=UTC:20191012T090000
DTEND;TZID=UTC:20191012T140000
DTSTAMP:20260421T213508
CREATED:20190911T230902Z
LAST-MODIFIED:20190911T230902Z
UID:10002357-1570870800-1570888800@soks.org
SUMMARY:West Regional Bowling Tournament - South
DESCRIPTION:The West Regional Bowling Tournament – South will be held on October 12th at the Spare Tyme Bowl\, 11150 Kliesen St./East HWY 50 By Pass\, Dodge City\, KS. The competition will be held from 9:00am to 2:00pm. \nFor more information\, contact Tim Rehder at rehdert@ksso.org
URL:https://soks.org/event/west-regional-bowling-tournament-south-3/
LOCATION:KS\, United States
CATEGORIES:Sports,West Region
END:VEVENT
BEGIN:VEVENT
DTSTART;TZID=UTC:20191012T090000
DTEND;TZID=UTC:20191012T140000
DTSTAMP:20260421T213508
CREATED:20190911T230902Z
LAST-MODIFIED:20190911T230902Z
UID:10002358-1570870800-1570888800@soks.org
SUMMARY:West Regional Bowling Tournament - South
DESCRIPTION:The West Regional Bowling Tournament – South will be held on October 12th at the Spare Tyme Bowl\, 11150 Kliesen St./East HWY 50 By Pass\, Dodge City\, KS. The competition will be held from 9:00am to 2:00pm. \nFor more information\, contact Tim Rehder at rehdert@ksso.org
URL:https://soks.org/event/west-regional-bowling-tournament-south-3-2/
LOCATION:KS\, United States
CATEGORIES:Sports,West Region
END:VEVENT
BEGIN:VEVENT
DTSTART;TZID=UTC:20191011T150000
DTEND;TZID=UTC:20191011T183000
DTSTAMP:20260421T213508
CREATED:20191008T023429Z
LAST-MODIFIED:20191008T023429Z
UID:10002383-1570806000-1570818600@soks.org
SUMMARY:Charles E Watson Softball & Golf Tournament
DESCRIPTION:** UPDATE**  Golf — Wednesday\, October 9th and Friday\, October 11h\nSoftball – October 19 \nThe Charles E Watson Softball & Golf Tournament will be held in Wichita\, KS. \nWednesday & Friday\, the Golf Competitions will be held at: Sierra Hills – 13420 E Pawnee\, Wichita\, KS;\nSaturday the Softball Competition will be held at: – Two Rivers Youth Club (TRYC) – 1700 N Ridge\, Wichita\, KS. \nFor more information\, contact Tim Rehder at rehdert@ksso.org
URL:https://soks.org/event/charles-e-watson-softball-golf-tournament-6/
LOCATION:KS\, United States
CATEGORIES:Sports
END:VEVENT
BEGIN:VEVENT
DTSTART;TZID=UTC:20191011T150000
DTEND;TZID=UTC:20191011T183000
DTSTAMP:20260421T213508
CREATED:20191008T023429Z
LAST-MODIFIED:20191008T023429Z
UID:10002384-1570806000-1570818600@soks.org
SUMMARY:Charles E Watson Softball & Golf Tournament
DESCRIPTION:** UPDATE**  Golf — Wednesday\, October 9th and Friday\, October 11h\nSoftball – October 19 \nThe Charles E Watson Softball & Golf Tournament will be held in Wichita\, KS. \nWednesday & Friday\, the Golf Competitions will be held at: Sierra Hills – 13420 E Pawnee\, Wichita\, KS;\nSaturday the Softball Competition will be held at: – Two Rivers Youth Club (TRYC) – 1700 N Ridge\, Wichita\, KS. \nFor more information\, contact Tim Rehder at rehdert@ksso.org
URL:https://soks.org/event/charles-e-watson-softball-golf-tournament-6-2/
LOCATION:KS\, United States
CATEGORIES:Sports
END:VEVENT
BEGIN:VEVENT
DTSTART;TZID=UTC:20191010T180000
DTEND;TZID=UTC:20191010T190000
DTSTAMP:20260421T213508
CREATED:20190806T231242Z
LAST-MODIFIED:20190806T231242Z
UID:10002341-1570730400-1570734000@soks.org
SUMMARY:Overland Park Young Athletes
DESCRIPTION:
URL:https://soks.org/event/overland-park-young-athletes-6/
LOCATION:KS\, United States
CATEGORIES:Metro Region
ATTACH;FMTTYPE=:
END:VEVENT
BEGIN:VEVENT
DTSTART;TZID=UTC:20191010T180000
DTEND;TZID=UTC:20191010T190000
DTSTAMP:20260421T213508
CREATED:20190806T231242Z
LAST-MODIFIED:20190806T231242Z
UID:10002342-1570730400-1570734000@soks.org
SUMMARY:Overland Park Young Athletes
DESCRIPTION:
URL:https://soks.org/event/overland-park-young-athletes-6-2/
LOCATION:KS\, United States
CATEGORIES:Metro Region
ATTACH;FMTTYPE=:
END:VEVENT
BEGIN:VEVENT
DTSTART;TZID=UTC:20191009T150000
DTEND;TZID=UTC:20191009T183000
DTSTAMP:20260421T213508
CREATED:20191008T023101Z
LAST-MODIFIED:20191008T023101Z
UID:10002381-1570633200-1570645800@soks.org
SUMMARY:Charles E Watson Softball & Golf Tournament
DESCRIPTION:** UPDATE**  Golf — Wednesday\, October 9th and Friday\, October 11h\nSoftball – October 19 \nThe Charles E Watson Softball & Golf Tournament will be held in Wichita\, KS. \nWednesday & Friday\, the Golf Competitions will be held at: Sierra Hills – 13420 E Pawnee\, Wichita\, KS;\nSaturday the Softball Competition will be held at: – Two Rivers Youth Club (TRYC) – 1700 N Ridge\, Wichita\, KS. \nFor more information\, contact Tim Rehder at rehdert@ksso.org
URL:https://soks.org/event/charles-e-watson-softball-golf-tournament-5/
LOCATION:KS\, United States
CATEGORIES:Sports
END:VEVENT
BEGIN:VEVENT
DTSTART;TZID=UTC:20191009T150000
DTEND;TZID=UTC:20191009T183000
DTSTAMP:20260421T213508
CREATED:20191008T023101Z
LAST-MODIFIED:20191008T023101Z
UID:10002382-1570633200-1570645800@soks.org
SUMMARY:Charles E Watson Softball & Golf Tournament
DESCRIPTION:** UPDATE**  Golf — Wednesday\, October 9th and Friday\, October 11h\nSoftball – October 19 \nThe Charles E Watson Softball & Golf Tournament will be held in Wichita\, KS. \nWednesday & Friday\, the Golf Competitions will be held at: Sierra Hills – 13420 E Pawnee\, Wichita\, KS;\nSaturday the Softball Competition will be held at: – Two Rivers Youth Club (TRYC) – 1700 N Ridge\, Wichita\, KS. \nFor more information\, contact Tim Rehder at rehdert@ksso.org
URL:https://soks.org/event/charles-e-watson-softball-golf-tournament-5-2/
LOCATION:KS\, United States
CATEGORIES:Sports
END:VEVENT
BEGIN:VEVENT
DTSTART;TZID=UTC:20191003T180000
DTEND;TZID=UTC:20191003T190000
DTSTAMP:20260421T213508
CREATED:20190806T231143Z
LAST-MODIFIED:20190806T231143Z
UID:10002339-1570125600-1570129200@soks.org
SUMMARY:Overland Park Young Athletes
DESCRIPTION:
URL:https://soks.org/event/overland-park-young-athletes-5/
LOCATION:KS\, United States
CATEGORIES:Metro Region
ATTACH;FMTTYPE=:
END:VEVENT
END:VCALENDAR