BEGIN:VCALENDAR
VERSION:2.0
PRODID:-//Special Olympics Kansas - ECPv6.15.20//NONSGML v1.0//EN
CALSCALE:GREGORIAN
METHOD:PUBLISH
X-WR-CALNAME:Special Olympics Kansas
X-ORIGINAL-URL:https://soks.org
X-WR-CALDESC:Events for Special Olympics Kansas
REFRESH-INTERVAL;VALUE=DURATION:PT1H
X-Robots-Tag:noindex
X-PUBLISHED-TTL:PT1H
BEGIN:VTIMEZONE
TZID:America/Chicago
BEGIN:DAYLIGHT
TZOFFSETFROM:-0600
TZOFFSETTO:-0500
TZNAME:CDT
DTSTART:20210314T080000
END:DAYLIGHT
BEGIN:STANDARD
TZOFFSETFROM:-0500
TZOFFSETTO:-0600
TZNAME:CST
DTSTART:20211107T070000
END:STANDARD
BEGIN:DAYLIGHT
TZOFFSETFROM:-0600
TZOFFSETTO:-0500
TZNAME:CDT
DTSTART:20220313T080000
END:DAYLIGHT
BEGIN:STANDARD
TZOFFSETFROM:-0500
TZOFFSETTO:-0600
TZNAME:CST
DTSTART:20221106T070000
END:STANDARD
BEGIN:DAYLIGHT
TZOFFSETFROM:-0600
TZOFFSETTO:-0500
TZNAME:CDT
DTSTART:20230312T080000
END:DAYLIGHT
BEGIN:STANDARD
TZOFFSETFROM:-0500
TZOFFSETTO:-0600
TZNAME:CST
DTSTART:20231105T070000
END:STANDARD
BEGIN:DAYLIGHT
TZOFFSETFROM:-0600
TZOFFSETTO:-0500
TZNAME:CDT
DTSTART:20240310T080000
END:DAYLIGHT
BEGIN:STANDARD
TZOFFSETFROM:-0500
TZOFFSETTO:-0600
TZNAME:CST
DTSTART:20241103T070000
END:STANDARD
BEGIN:DAYLIGHT
TZOFFSETFROM:-0600
TZOFFSETTO:-0500
TZNAME:CDT
DTSTART:20250309T080000
END:DAYLIGHT
BEGIN:STANDARD
TZOFFSETFROM:-0500
TZOFFSETTO:-0600
TZNAME:CST
DTSTART:20251102T070000
END:STANDARD
BEGIN:DAYLIGHT
TZOFFSETFROM:-0600
TZOFFSETTO:-0500
TZNAME:CDT
DTSTART:20260308T080000
END:DAYLIGHT
BEGIN:STANDARD
TZOFFSETFROM:-0500
TZOFFSETTO:-0600
TZNAME:CST
DTSTART:20261101T070000
END:STANDARD
BEGIN:DAYLIGHT
TZOFFSETFROM:-0600
TZOFFSETTO:-0500
TZNAME:CDT
DTSTART:20270314T080000
END:DAYLIGHT
BEGIN:STANDARD
TZOFFSETFROM:-0500
TZOFFSETTO:-0600
TZNAME:CST
DTSTART:20271107T070000
END:STANDARD
END:VTIMEZONE
BEGIN:VEVENT
DTSTART;TZID=America/Chicago:20260418T090000
DTEND;TZID=America/Chicago:20260418T120000
DTSTAMP:20260419T140207
CREATED:20251211T161932Z
LAST-MODIFIED:20251211T161932Z
UID:10003268-1776502800-1776513600@soks.org
SUMMARY:321 Fit
DESCRIPTION:321 FitDate: April 18\, 2026Time: 9:00 AM – 12:00 PMLocation: Johnson County Community College Gymnasium12345 College Blvd.\, Overland Park\, KS 66210 \nEvent Description:321 Fit is an annual health and fitness celebration hosted by Special Olympics Kansas in partnership with Down Syndrome Innovations (DSI) and the University of Kansas Medical Center (KUMC). Held each year around March 21 to honor World Down Syndrome Day\, this event promotes inclusive physical activity\, wellness education\, and community connection. \nParticipants of all ages and abilities are invited to take part in adaptive fitness sessions\, hands-on health stations\, and engaging educational activities designed to inspire healthy habits and support active lifestyles. The event fosters an encouraging environment where individuals with intellectual and developmental disabilities can explore movement\, build confidence\, and celebrate their strengths. \nRegistration and volunteer links will be available soon.
URL:https://soks.org/event/321-fit-3/
LOCATION:Johnson County Community College\, 12345 College Blvd\, Overland Park\, 66210\, United States
CATEGORIES:Health & Fitness,Metro Region,Volunteer
ORGANIZER;CN="Erin McDaniel":MAILTO:mcdaniele@soks.org
END:VEVENT
BEGIN:VEVENT
DTSTART;TZID=America/Chicago:20260321T083000
DTEND;TZID=America/Chicago:20260321T143000
DTSTAMP:20260419T140207
CREATED:20260309T194632Z
LAST-MODIFIED:20260309T194632Z
UID:10003293-1774081800-1774103400@soks.org
SUMMARY:Healthy Hearing at State Basketball and Cheerleading
DESCRIPTION:Join us for the Healthy Athletes Healthy Hearing screening during the State Basketball Tournament! This free health program provides Special Olympics athletes with professional hearing screenings and education to help ensure they can perform at their best both on and off the court. \nHosted at the Gross Memorial Coliseum in Hays\, athletes will meet with trained health professionals who will conduct hearing screenings\, identify potential concerns\, and provide guidance on hearing health and follow-up care if needed. Healthy Hearing helps detect hearing issues early so athletes can stay connected\, communicate effectively\, and fully participate in sports and daily life. \nThe screening will take place on March 21 from 8:30 a.m. to 2:30 p.m. alongside the excitement of the State Basketball Tournament. \nVolunteers are also needed to assist with event setup and support throughout the day\, including helping with tables\, chairs\, and maintaining the screening space. \nHelp support athlete health and make a difference by volunteering or stopping by to learn more about the Healthy Athletes program! \nVolunteer here!
URL:https://soks.org/event/healthy-hearing-at-state-basketball-and-cheerleading/
LOCATION:Gross Memorial Coliseum\, 600 Park St\, Hays\, 67601\, United States
CATEGORIES:Health & Fitness,Volunteer,West Region
ATTACH;FMTTYPE=image/jpeg:https://soks.org/wp-content/uploads/2022/10/Healthy-Hearing-SOKS.jpg
ORGANIZER;CN="Erin McDaniel":MAILTO:mcdaniele@soks.org
END:VEVENT
BEGIN:VEVENT
DTSTART;TZID=America/Chicago:20260320T080000
DTEND;TZID=America/Chicago:20260321T170000
DTSTAMP:20260419T140207
CREATED:20260309T194328Z
LAST-MODIFIED:20260309T194328Z
UID:10003292-1773993600-1774112400@soks.org
SUMMARY:Fit Feet at State Basketball and Cheerleading
DESCRIPTION:Join us for the Healthy Athletes Fit Feet screening during the State Basketball and Cheerleading Tournament! This important health program provides Special Olympics athletes with free foot and ankle screenings\, education\, and resources to help them stay healthy and perform their best. \nHeld at the Gross Memorial Coliseum in Hays\, athletes will have the opportunity to meet with trained health professionals who will evaluate foot and ankle health\, identify potential issues\, and provide guidance on proper footwear\, hygiene\, and injury prevention. Healthy Athletes programs like Fit Feet help ensure athletes can continue participating safely and confidently in the sports they love. \nThis screening will take place during the mornings of March 20 and March 21 alongside the State Basketball and Cheerleading competitions. \nVolunteers are also needed to assist with set-up\, including helping with tables\, chairs\, and supporting the screening area. \nCome support athlete wellness and help keep our athletes healthy\, strong\, and ready to compete! \nVolunteer here!
URL:https://soks.org/event/fit-feet-at-state-basketball-and-cheerleading/
LOCATION:Gross Memorial Coliseum\, 600 Park St\, Hays\, 67601\, United States
CATEGORIES:Health & Fitness,Volunteer,West Region
ATTACH;FMTTYPE=image/jpeg:https://soks.org/wp-content/uploads/2022/10/Fit-Feet-SOKS.jpg
ORGANIZER;CN="Erin McDaniel":MAILTO:mcdaniele@soks.org
END:VEVENT
BEGIN:VEVENT
DTSTART;TZID=America/Chicago:20250412T100000
DTEND;TZID=America/Chicago:20250412T120000
DTSTAMP:20260419T140207
CREATED:20250401T175454Z
LAST-MODIFIED:20250401T180040Z
UID:10003154-1744452000-1744459200@soks.org
SUMMARY:Field Day with Benedictine College
DESCRIPTION:Benedictine Field DayDate: Saturday\, April 12\, 2025Time: 10:00 AM – 12:00 PMLocation: Murphy Recreation Center\, Benedictine College\, 1020 N. 2nd St.\, Atchison\, KSContact: Erin McDaniel – mcdaniele@soks.org🔗 Register now: Field Day Registration \nJoin us for a fun-filled morning of physical activity at Benedictine Field Day! This inclusive event is open to families and individuals of all ability levels\, ages 3 and up. Participants will enjoy a variety of engaging activities designed to promote movement\, fitness\, and fun in a supportive environment. Whether you’re looking to get active\, meet new friends\, or just enjoy a great morning of sports and recreation\, this event is for you! \nDon’t miss out—register today and come ready to move!
URL:https://soks.org/event/field-day-with-benedictine-college/
LOCATION:Murphy Recreation Center\, 1020 N. 2nd St.\, Atchison\, 66002\, United States
CATEGORIES:Health & Fitness,Metro Region
ATTACH;FMTTYPE=image/png:https://soks.org/wp-content/uploads/2022/11/Facebook-Event-Covers-7.png
ORGANIZER;CN="Erin McDaniel":MAILTO:mcdaniele@soks.org
END:VEVENT
BEGIN:VEVENT
DTSTART;TZID=America/Chicago:20250411T080000
DTEND;TZID=America/Chicago:20250411T170000
DTSTAMP:20260419T140207
CREATED:20250411T160317Z
LAST-MODIFIED:20250411T160317Z
UID:10003165-1744358400-1744390800@soks.org
SUMMARY:Kansas Community Physical Activity Leader Workshop
DESCRIPTION:Kansas Community Physical Activity Leader WorkshopDate: Friday\, June 6\, 2025Time: 1:30 PM – 3:30 PMLocation: Maize High School – Main Gymnasium📍 11600 W 45th St N\, Maize\, KS 67601Hosted by: Special Olympics Kansas Health & Fitness ProgramWorkshop Lead: Erin McDanielRegistration: Click here to sign up \n\nLead the Way: Activating Physical Activity Leaders in the Community \nAre you ready to inspire movement and create healthy change in your community? Join us for the Kansas Community Physical Activity Leader Workshop\, a FREE 2-hour\, hands-on training designed to equip you with the skills to lead inclusive physical activity programs for people of all abilities. \nWhether you’re a coach\, Unified partner\, athlete leader\, parent\, or a local program staff member—this workshop is for YOU. If you’re passionate about fitness\, health\, and leadership\, we want to help you take the next step in making an impact. \n✅ Learn how to lead simple\, fun\, and inclusive fitness sessions✅ Build leadership confidence to engage your team or local group✅ Connect with other change-makers in the Special Olympics Kansas community \nBonus: The first 30 registrants who attend the full workshop will receive a $25 stipend and special goodies from Special Olympics International! \nDon’t miss this opportunity to become a Physical Activity Leader and help get your community moving—one workout at a time. \n \nRegister today: https://docs.google.com/forms/d/e/1FAIpQLScM03HTocLypH9AHe_tnKWmnHNhasXRCpnCPea8ccjsMPhvqQ/viewform?usp=sharing \n\nCommunity Physical Activity Leader Course and Workshop Information-June 6
URL:https://soks.org/event/kansas-community-physical-activity-leader-workshop/
LOCATION:Maize High School\, 11600 W 45th St N\, Maize\, 67601\, United States
CATEGORIES:Health & Fitness,South Central Region
ATTACH;FMTTYPE=image/jpeg:https://soks.org/wp-content/uploads/2022/09/Athlete-Leaders-Slider-copy-min.jpg
ORGANIZER;CN="Erin McDaniel":MAILTO:mcdaniele@soks.org
END:VEVENT
BEGIN:VEVENT
DTSTART;TZID=America/Chicago:20250322T090000
DTEND;TZID=America/Chicago:20250322T120000
DTSTAMP:20260419T140207
CREATED:20250203T205239Z
LAST-MODIFIED:20250203T205512Z
UID:10003136-1742634000-1742644800@soks.org
SUMMARY:321 Fit!
DESCRIPTION:321 Fit – Celebrating Abilities\, Fostering Inclusion \nDate: March 22\, 2025\nTime: 9:00 AM – 12:00 PM\nLocation: Johnson County Community College Gymnasium\nAddress: 12345 College Blvd\, Overland Park\, KS 66210 \nJoin us for 321 Fit\, an inspiring and inclusive event dedicated to promoting physical activity for individuals with intellectual and developmental disabilities (IDD). Hosted by the Kansas City Alliance for Physical Activity in IDD\, this event is designed to celebrate abilities\, foster inclusion\, and encourage healthy\, active lifestyles. \nEvent Highlights\nInspiring Speakers – Hear from community leaders and self-advocates about the power of physical activity in transforming lives.\nInclusive Fitness Stations – Enjoy fun\, engaging activities set up along the indoor track\, designed for all ability levels.\nBreakout Sessions – Gain insights from self-advocates as they share their personal experiences and the importance of staying active. \nVolunteer & Participation Details\nVolunteer Report Time: 7:30 AM – 12:30 PM (Opportunities to stay longer and assist with the Down Syndrome Innovations Walk-Through Parade)\nParking: Available in the lower lot near the softball/baseball fields and indoor track. Event staff will provide directions upon arrival. \n🔗 Volunteer Sign-Up: Register Here\n🔗 Participant Registration: Coming Soon!
URL:https://soks.org/event/321-fit-2/
LOCATION:Johnson County Community College\, 12345 College Blvd\, Overland Park\, 66210\, United States
CATEGORIES:Health & Fitness,Metro Region,Volunteer
ATTACH;FMTTYPE=image/jpeg:https://soks.org/wp-content/uploads/2025/02/321-fit.jpg
ORGANIZER;CN="Erin McDaniel":MAILTO:mcdaniele@soks.org
END:VEVENT
BEGIN:VEVENT
DTSTART;TZID=America/Chicago:20240924T170000
DTEND;TZID=America/Chicago:20240924T210000
DTSTAMP:20260419T140207
CREATED:20240917T190208Z
LAST-MODIFIED:20240917T211522Z
UID:10003082-1727197200-1727211600@soks.org
SUMMARY:Healthcare Worker and Community Appreciation Night
DESCRIPTION:Join us for an evening of celebration\, appreciation\, and networking designed exclusively for our dedicated healthcare workers. Enjoy a night filled with entertainment\, engaging activities\, and heartfelt appreciation as we honor your commitment to health and wellness. \nItinerary for the Evening:\n5:00 – 6:00 PM: Meet and Greet Social Hour Kick off the evening with a lively meet and greet session accompanied by a live band. Explore various raffle opportunities throughout the venue. Enjoy games like cornhole on the terrace for some relaxed fun.\n5:30 PM: Tapas and Refreshments Delight in a selection of tapas and appetizer plates served throughout the event. Complimentary Boulevard beer from kegs and house red and white wines from bottles will be available.\n6:00 PM: Opening Remarks Our event will formally begin with opening remarks\, followed by an inspiring speech from one of our Health Messenger athletes.\n6:30 – 7:15 PM: Healthcare Bingo Participate in Healthcare Bingo with a chance to win exciting prizes!\n7:15 – 8:00 PM: Insights and Updates Hear from Svea Knight\, our Health Programs Coordinator\, and our esteemed clinical directors.\n8:00 – 9:00 PM: Networking and Music Continue the night with more live music\, networking opportunities\, and games on the terrace. Raffle winners announced at 8:30 PM. \n  \nRSVP here
URL:https://soks.org/event/healthcare-worker-and-community-appreciation-night/
LOCATION:Boulevard Brewing\, Muehlebach Suite\, 2501 Southwest Blvd\, Kansas City\, MO\, 64108\, United States
CATEGORIES:Health & Fitness,Metro Region,Special
ATTACH;FMTTYPE=image/png:https://soks.org/wp-content/uploads/2024/09/Healthcare-Worker-Appreciation-Night-True-01-1.png
ORGANIZER;CN="Erin McDaniel":MAILTO:mcdaniele@soks.org
END:VEVENT
BEGIN:VEVENT
DTSTART;TZID=America/Chicago:20240601T090000
DTEND;TZID=America/Chicago:20240601T150000
DTSTAMP:20260419T140207
CREATED:20240129T212505Z
LAST-MODIFIED:20240301T015556Z
UID:10002994-1717232400-1717254000@soks.org
SUMMARY:2024 Healthy Athletes
DESCRIPTION:2024 Healthy Athletes at the Special Olympics Kansas Summer Games \n  \nVolunteer at this event.
URL:https://soks.org/event/2024-healthy-athletes-special-olympics-kansas/
LOCATION:Maize High School\, 11600 W 45th St N\, Maize\, 67601\, United States
CATEGORIES:Health & Fitness,South Central Region,Volunteer
ATTACH;FMTTYPE=image/png:https://soks.org/wp-content/uploads/2022/10/SOMD_Health_HealthyAthletes_Logo_Disciplines.png
ORGANIZER;CN="Erin McDaniel":MAILTO:mcdaniele@soks.org
END:VEVENT
BEGIN:VEVENT
DTSTART;TZID=America/Chicago:20240427T100000
DTEND;TZID=America/Chicago:20240427T143000
DTSTAMP:20260419T140207
CREATED:20240129T212257Z
LAST-MODIFIED:20240129T212325Z
UID:10002993-1714212000-1714228200@soks.org
SUMMARY:FUNfitness
DESCRIPTION:FUNfitness at North Central Regional Track \n  \nVolunteer at this event. \n  \n 
URL:https://soks.org/event/funfitness/
LOCATION:Shawnee Heights High School\, 4201 SE Shawnee Heights Rd\, Tecumseh\, KS\, 66542\, United States
CATEGORIES:Health & Fitness,North Central Region,Volunteer
ATTACH;FMTTYPE=image/jpeg:https://soks.org/wp-content/uploads/2022/10/Fun-Fitness-SOKS.jpg
ORGANIZER;CN="Erin McDaniel":MAILTO:mcdaniele@soks.org
END:VEVENT
BEGIN:VEVENT
DTSTART;TZID=America/Chicago:20240323T093000
DTEND;TZID=America/Chicago:20240323T143000
DTSTAMP:20260419T140207
CREATED:20240129T212058Z
LAST-MODIFIED:20240320T184111Z
UID:10002992-1711186200-1711204200@soks.org
SUMMARY:Healthy Hearing
DESCRIPTION:Healthy Hearing happening at State Basketball and Cheer in Hays. \nVolunteer at this event. 
URL:https://soks.org/event/healthy-hearing/
LOCATION:Gross Memorial Coliseum\, 600 Park St\, Hays\, 67601\, United States
CATEGORIES:Health & Fitness,Volunteer
ATTACH;FMTTYPE=image/jpeg:https://soks.org/wp-content/uploads/2022/10/Healthy-Hearing-SOKS.jpg
ORGANIZER;CN="Erin McDaniel":MAILTO:mcdaniele@soks.org
END:VEVENT
BEGIN:VEVENT
DTSTART;TZID=America/Chicago:20240323T090000
DTEND;TZID=America/Chicago:20240323T123000
DTSTAMP:20260419T140207
CREATED:20231031T184646Z
LAST-MODIFIED:20240320T183947Z
UID:10002959-1711184400-1711197000@soks.org
SUMMARY:321 Fit!
DESCRIPTION:Register here.  \nVolunteer here.
URL:https://soks.org/event/321-fit/
LOCATION:Johnson County Community College\, 12345 College Blvd\, Overland Park\, 66210\, United States
CATEGORIES:Health & Fitness,Metro Region,Volunteer
ATTACH;FMTTYPE=image/jpeg:https://soks.org/wp-content/uploads/2022/10/Fit-5-image-min.jpg
ORGANIZER;CN="Erin McDaniel":MAILTO:mcdaniele@soks.org
END:VEVENT
BEGIN:VEVENT
DTSTART;TZID=America/Chicago:20240224T093000
DTEND;TZID=America/Chicago:20240224T133000
DTSTAMP:20260419T140207
CREATED:20231031T184429Z
LAST-MODIFIED:20240112T170953Z
UID:10002958-1708767000-1708781400@soks.org
SUMMARY:Special Smiles Healthy Athlete Screening
DESCRIPTION:The Special Smiles discipline of Healthy Athletes provides comprehensive oral health care information\, including offering free dental screenings and instructions on correct brushing and flossing techniques to participating Special Olympics athletes. This resource page is equipped with manuals and forms\, event resources and Special Smiles stories and additional information. Special Smiles has demonstrated remarkable success in creating awareness and improving access to dental care for children and adults with intellectual disabilities. \n  \nClick here to volunteer.
URL:https://soks.org/event/special-smiles-healthy-athlete-screening/
LOCATION:Junction City High School\, 1100 Blue Jay Wy\, Junction City\, KS\, 66441\, United States
CATEGORIES:Health & Fitness,Volunteer
ATTACH;FMTTYPE=image/jpeg:https://soks.org/wp-content/uploads/2022/10/Special-Smiles-SOKS.jpg
ORGANIZER;CN="Erin McDaniel":MAILTO:mcdaniele@soks.org
END:VEVENT
BEGIN:VEVENT
DTSTART;TZID=America/Chicago:20231111T090000
DTEND;TZID=America/Chicago:20231111T120000
DTSTAMP:20260419T140207
CREATED:20231031T184302Z
LAST-MODIFIED:20231031T184302Z
UID:10002957-1699693200-1699704000@soks.org
SUMMARY:Healthy Hearing Healthy Athletes Screening
DESCRIPTION:The Healthy Hearing discipline of Healthy Athletes provides comprehensive hearing screenings and follow-up recommendations. The main goals of this program are to inform athletes\, parents\, coaches or caregivers about the detection of possible ear and hearing problems\, recommend follow-up as needed\, and to promote the necessity of regular ear and hearing screenings.
URL:https://soks.org/event/healthy-hearing-healthy-athletes-screening-2/
LOCATION:Hummer Sports Park\, 2751 SW East Circle Dr S # 1\, Topeka\, KS\, 66606\, United States
CATEGORIES:Health & Fitness,North Central Region,Volunteer
ATTACH;FMTTYPE=image/jpeg:https://soks.org/wp-content/uploads/2022/10/Healthy-Hearing-SOKS.jpg
ORGANIZER;CN="Erin McDaniel":MAILTO:mcdaniele@soks.org
END:VEVENT
BEGIN:VEVENT
DTSTART;TZID=America/Chicago:20231110T093000
DTEND;TZID=America/Chicago:20231110T133000
DTSTAMP:20260419T140207
CREATED:20231031T184052Z
LAST-MODIFIED:20231031T184052Z
UID:10002956-1699608600-1699623000@soks.org
SUMMARY:Health Promotion Healthy Athletes Screening
DESCRIPTION:Volunteer here. \nHealth Promotion\, a discipline of Special Olympics Healthy Athletes\, focuses on healthy living\, healthy lifestyle choices\, and nation-specific health issues. In addition to health education activities\, health Promotion offers screenings for bone density\, blood pressure\, and body mass index (BMI). Its goals include encouraging and enhancing healthy behaviors and improving self-efficacy and self-advocacy.
URL:https://soks.org/event/health-promotion-healthy-athletes-screening/
LOCATION:Okun Fieldhouse\, 20200 Johnson Dr\, Shawnee\, KS\, 66218\, United States
CATEGORIES:Health & Fitness,Metro Region,Volunteer
ATTACH;FMTTYPE=image/jpeg:https://soks.org/wp-content/uploads/2022/10/Fun-Fitness-SOKS.jpg
ORGANIZER;CN="Erin McDaniel":MAILTO:mcdaniele@soks.org
END:VEVENT
BEGIN:VEVENT
DTSTART;TZID=America/Chicago:20231110T090000
DTEND;TZID=America/Chicago:20231110T130000
DTSTAMP:20260419T140207
CREATED:20231031T183905Z
LAST-MODIFIED:20231031T183905Z
UID:10002955-1699606800-1699621200@soks.org
SUMMARY:Healthy Hearing Healthy Athletes Screening
DESCRIPTION:The Healthy Hearing discipline of Healthy Athletes provides comprehensive hearing screenings and follow-up recommendations. The main goals of this program are to inform athletes\, parents\, coaches or caregivers about the detection of possible ear and hearing problems\, recommend follow-up as needed\, and to promote the necessity of regular ear and hearing screenings.
URL:https://soks.org/event/healthy-hearing-healthy-athletes-screening/
LOCATION:Okun Fieldhouse\, 20200 Johnson Dr\, Shawnee\, KS\, 66218\, United States
CATEGORIES:Health & Fitness,Metro Region,Volunteer
ATTACH;FMTTYPE=image/jpeg:https://soks.org/wp-content/uploads/2022/10/Healthy-Hearing-SOKS.jpg
ORGANIZER;CN="Erin McDaniel":MAILTO:mcdaniele@soks.org
END:VEVENT
BEGIN:VEVENT
DTSTART;TZID=America/Chicago:20231104T093000
DTEND;TZID=America/Chicago:20231104T133000
DTSTAMP:20260419T140207
CREATED:20231031T183718Z
LAST-MODIFIED:20231031T184146Z
UID:10002954-1699090200-1699104600@soks.org
SUMMARY:FUNfitness Healthy Athlete Screening
DESCRIPTION:Volunteer here. \nFUNfitness is a physical therapy event that addresses the ongoing health needs of Special Olympics athletes. FUNfitness provides athletes the opportunity to be examined for flexibility\, functional strength\, balance\, and aerobic fitness. During these screenings\, physical therapists\, related health professionals\, and students offer athletes expert guidance and exercise recommendations to prevent and reduce the risk of injury while working to improve the athletes’ optimal function not only in sports training and competition but in everyday life.
URL:https://soks.org/event/funfitness-healthy-athlete-screening/
LOCATION:Bonner Springs High School\, 100 McDanield St\, Bonner Springs\, KS\, 66012\, United States
CATEGORIES:Health & Fitness,Metro Region,Volunteer
ATTACH;FMTTYPE=image/jpeg:https://soks.org/wp-content/uploads/2022/10/Fun-Fitness-SOKS.jpg
ORGANIZER;CN="Erin McDaniel":MAILTO:mcdaniele@soks.org
END:VEVENT
BEGIN:VEVENT
DTSTART;TZID=America/Chicago:20231104T090000
DTEND;TZID=America/Chicago:20231104T120000
DTSTAMP:20260419T140207
CREATED:20230906T195658Z
LAST-MODIFIED:20230906T195658Z
UID:10002935-1699088400-1699099200@soks.org
SUMMARY:Special Smiles
DESCRIPTION:
URL:https://soks.org/event/special-smiles/
LOCATION:Robert W. Plaster Center\, 1701 S Homer St\, Pittsburg\, KS\, 66762\, United States
CATEGORIES:Health & Fitness,Southeast Region
ATTACH;FMTTYPE=image/jpeg:https://soks.org/wp-content/uploads/2022/10/Special-Smiles-SOKS.jpg
ORGANIZER;CN="Erin McDaniel":MAILTO:mcdaniele@soks.org
END:VEVENT
BEGIN:VEVENT
DTSTART;TZID=America/Chicago:20231004T153000
DTEND;TZID=America/Chicago:20231004T163000
DTSTAMP:20260419T140207
CREATED:20230906T195415Z
LAST-MODIFIED:20230913T163828Z
UID:10002934-1696433400-1696437000@soks.org
SUMMARY:Young Athletes - F.L. Schlagle Library
DESCRIPTION:
URL:https://soks.org/event/young-athletes-f-l-schlagle-library/
LOCATION:F.L. Schlagle Library\, 4051 West Dr\, Kansas City\, 66109\, United States
CATEGORIES:Health & Fitness,Metro Region
ATTACH;FMTTYPE=image/jpeg:https://soks.org/wp-content/uploads/2023/09/PXL_20230912_214157842-scaled-e1694623100601.jpg
ORGANIZER;CN="Erin McDaniel":MAILTO:mcdaniele@soks.org
END:VEVENT
BEGIN:VEVENT
DTSTART;TZID=America/Chicago:20230912T160000
DTEND;TZID=America/Chicago:20230912T170000
DTSTAMP:20260419T140207
CREATED:20230906T194917Z
LAST-MODIFIED:20230906T194917Z
UID:10002932-1694534400-1694538000@soks.org
SUMMARY:Young Athletes - South Branch Library
DESCRIPTION:
URL:https://soks.org/event/young-athletes-south-branch-library/
LOCATION:South Branch Library\, 3104 Strong Ave\, Kansas City\, 66106\, United States
CATEGORIES:Health & Fitness,Metro Region
ATTACH;FMTTYPE=image/jpeg:https://soks.org/wp-content/uploads/2022/09/Young-Athletes-5.jpg
ORGANIZER;CN="Erin McDaniel":MAILTO:mcdaniele@soks.org
END:VEVENT
BEGIN:VEVENT
DTSTART;TZID=America/Chicago:20230910T153000
DTEND;TZID=America/Chicago:20230910T163000
DTSTAMP:20260419T140207
CREATED:20230906T195125Z
LAST-MODIFIED:20230906T195125Z
UID:10002933-1694359800-1694363400@soks.org
SUMMARY:Young Athletes - Manhattan
DESCRIPTION:
URL:https://soks.org/event/young-athletes-manhattan/
LOCATION:CrossFit 785\, 511 Richards Dr\, Manhattan\, 66502\, United States
CATEGORIES:Health & Fitness,North Central Region
ATTACH;FMTTYPE=image/jpeg:https://soks.org/wp-content/uploads/2022/09/Young-Athletes-5.jpg
ORGANIZER;CN="Erin McDaniel":MAILTO:mcdaniele@soks.org
END:VEVENT
BEGIN:VEVENT
DTSTART;TZID=America/Chicago:20221115T180000
DTEND;TZID=America/Chicago:20221115T190000
DTSTAMP:20260419T140207
CREATED:20221103T143401Z
LAST-MODIFIED:20221103T143401Z
UID:10002839-1668535200-1668538800@soks.org
SUMMARY:Fall Into Healthy Habits Webinar Series - Session #6
DESCRIPTION:Register: https://docs.google.com/document/d/1x8mvCYjMSF9iY0WcUH7BJ8HPYtysWQPJtGvV_BIrAi4/edit?usp=sharing
URL:https://soks.org/event/fall-into-healthy-habits-webinar-series-session-6/
LOCATION:Zoom\, KS\, United States
CATEGORIES:Special
ATTACH;FMTTYPE=image/jpeg:https://soks.org/wp-content/uploads/2022/09/Young-Athletes-4-pueevud5v7lspozgt13jhx90s4l4ir4h0hbhpatyp4.jpg
ORGANIZER;CN="Erin McDaniel":MAILTO:mcdaniele@soks.org
END:VEVENT
BEGIN:VEVENT
DTSTART;TZID=America/Chicago:20221111T100000
DTEND;TZID=America/Chicago:20221111T140000
DTSTAMP:20260419T140207
CREATED:20221103T143126Z
LAST-MODIFIED:20221103T143126Z
UID:10002837-1668160800-1668175200@soks.org
SUMMARY:CVS Vaccination Clinic
DESCRIPTION:Click here for more info/registration: https://docs.google.com/document/d/1x8mvCYjMSF9iY0WcUH7BJ8HPYtysWQPJtGvV_BIrAi4/edit?usp=sharing
URL:https://soks.org/event/cvs-vaccination-clinic/
LOCATION:Okun Fieldhouse\, 20200 Johnson Dr\, Shawnee\, KS\, 66218\, United States
CATEGORIES:Special,State
ATTACH;FMTTYPE=image/png:https://soks.org/wp-content/uploads/2022/11/Facebook-Event-Covers-6.png
ORGANIZER;CN="Erin McDaniel":MAILTO:mcdaniele@soks.org
END:VEVENT
BEGIN:VEVENT
DTSTART;TZID=America/Chicago:20221111T100000
DTEND;TZID=America/Chicago:20221111T140000
DTSTAMP:20260419T140207
CREATED:20221103T142920Z
LAST-MODIFIED:20221103T142920Z
UID:10002836-1668160800-1668175200@soks.org
SUMMARY:Health Promotions
DESCRIPTION:Please print and fill out the HEALTHY ATHLETES CONSENT and RELEASE OF LIABILITY FORM prior to arriving: https://ksso.org/wp-content/uploads/2016/07/Healthy-Athletes-Consent-and-Release-Form.pdf
URL:https://soks.org/event/health-promotions/
LOCATION:Okun Fieldhouse\, 20200 Johnson Dr\, Shawnee\, KS\, 66218\, United States
CATEGORIES:Special,State
ATTACH;FMTTYPE=image/png:https://soks.org/wp-content/uploads/2022/11/Facebook-Event-Covers-5.png
ORGANIZER;CN="Erin McDaniel":MAILTO:mcdaniele@soks.org
END:VEVENT
BEGIN:VEVENT
DTSTART;TZID=America/Chicago:20221110T100000
DTEND;TZID=America/Chicago:20221110T120000
DTSTAMP:20260419T140207
CREATED:20221103T142638Z
LAST-MODIFIED:20221103T142638Z
UID:10002835-1668074400-1668081600@soks.org
SUMMARY:Special Smiles Dental Screening
DESCRIPTION:Please print and fill out the HEALTHY ATHLETES CONSENT and RELEASE OF LIABILITY FORM prior to arriving: https://ksso.org/wp-content/uploads/2016/07/Healthy-Athletes-Consent-and-Release-Form.pdf
URL:https://soks.org/event/special-smiles-dental-screening/
LOCATION:Robert W. Plaster Center\, 1701 S Homer St\, Pittsburg\, KS\, 66762\, United States
CATEGORIES:Southeast Region,Special
ATTACH;FMTTYPE=image/png:https://soks.org/wp-content/uploads/2022/11/Facebook-Event-Covers-4.png
ORGANIZER;CN="Erin McDaniel":MAILTO:mcdaniele@soks.org
END:VEVENT
BEGIN:VEVENT
DTSTART;TZID=America/Chicago:20221108T180000
DTEND;TZID=America/Chicago:20221108T190000
DTSTAMP:20260419T140207
CREATED:20221103T143322Z
LAST-MODIFIED:20221103T143322Z
UID:10002838-1667930400-1667934000@soks.org
SUMMARY:Fall Into Healthy Habits Webinar Series - Session #5
DESCRIPTION:Register: https://docs.google.com/document/d/1x8mvCYjMSF9iY0WcUH7BJ8HPYtysWQPJtGvV_BIrAi4/edit?usp=sharing
URL:https://soks.org/event/fall-into-healthy-habits-webinar-series-session-5/
LOCATION:Zoom\, KS\, United States
CATEGORIES:Special
ATTACH;FMTTYPE=image/jpeg:https://soks.org/wp-content/uploads/2022/09/Young-Athletes-4-pueevud5v7lspozgt13jhx90s4l4ir4h0hbhpatyp4.jpg
ORGANIZER;CN="Erin McDaniel":MAILTO:mcdaniele@soks.org
END:VEVENT
END:VCALENDAR