BEGIN:VCALENDAR
VERSION:2.0
PRODID:-//Special Olympics Kansas - ECPv6.15.20//NONSGML v1.0//EN
CALSCALE:GREGORIAN
METHOD:PUBLISH
X-ORIGINAL-URL:https://soks.org
X-WR-CALDESC:Events for Special Olympics Kansas
REFRESH-INTERVAL;VALUE=DURATION:PT1H
X-Robots-Tag:noindex
X-PUBLISHED-TTL:PT1H
BEGIN:VTIMEZONE
TZID:America/Chicago
BEGIN:DAYLIGHT
TZOFFSETFROM:-0600
TZOFFSETTO:-0500
TZNAME:CDT
DTSTART:20250309T080000
END:DAYLIGHT
BEGIN:STANDARD
TZOFFSETFROM:-0500
TZOFFSETTO:-0600
TZNAME:CST
DTSTART:20251102T070000
END:STANDARD
BEGIN:DAYLIGHT
TZOFFSETFROM:-0600
TZOFFSETTO:-0500
TZNAME:CDT
DTSTART:20260308T080000
END:DAYLIGHT
BEGIN:STANDARD
TZOFFSETFROM:-0500
TZOFFSETTO:-0600
TZNAME:CST
DTSTART:20261101T070000
END:STANDARD
BEGIN:DAYLIGHT
TZOFFSETFROM:-0600
TZOFFSETTO:-0500
TZNAME:CDT
DTSTART:20270314T080000
END:DAYLIGHT
BEGIN:STANDARD
TZOFFSETFROM:-0500
TZOFFSETTO:-0600
TZNAME:CST
DTSTART:20271107T070000
END:STANDARD
END:VTIMEZONE
BEGIN:VEVENT
DTSTART;TZID=America/Chicago:20260425T090000
DTEND;TZID=America/Chicago:20260425T140000
DTSTAMP:20260423T112548
CREATED:20251106T203449Z
LAST-MODIFIED:20260114T210647Z
UID:10003239-1777107600-1777125600@soks.org
SUMMARY:KC Metro Unified Soccer Tournament
DESCRIPTION:KC Metro Unified Soccer Tournament\nSaturday\, April 25\, 2026 | 9:00 AM – 2:00 PM\nOlathe East High School \nJoin us for the Unified Soccer Tournament\, bringing together athletes with and without intellectual disabilities from the Metro and North Central areas! This Unified Sports event provides an opportunity for teamwork\, friendship\, and competition in a fun and inclusive environment. \nParticipants will showcase their soccer skills while celebrating sportsmanship\, collaboration\, and community. Volunteers and spectators are welcome to cheer on the athletes and help make the day memorable for everyone involved. \nVolunteer: Sign up on GivePulse
URL:https://soks.org/event/kc-metro-unified-soccer-tournament/
LOCATION:College Boulevard Activity Center\, 11031 South Valley Road\, Olathe\, 66061\, United States
CATEGORIES:Metro Region,Sporting Event,Sports,Unified,Volunteer
ATTACH;FMTTYPE=image/jpeg:https://soks.org/wp-content/uploads/2023/08/20230719_MLS_special_olympics_0718-scaled.jpg
ORGANIZER;CN="Caroline Meyers":MAILTO:meyersc@soks.org
END:VEVENT
BEGIN:VEVENT
DTSTART;TZID=America/Chicago:20260425T100000
DTEND;TZID=America/Chicago:20260425T110000
DTSTAMP:20260423T112548
CREATED:20260309T194952Z
LAST-MODIFIED:20260309T194952Z
UID:10003294-1777111200-1777114800@soks.org
SUMMARY:Young Athletes Fest
DESCRIPTION:Join us for the Young Athletes Fest\, a fun and inclusive celebration designed especially for our youngest athletes! Taking place during the Unified Soccer Tournament\, this exciting event welcomes all children ages 2–12 to experience the joy of sports\, movement\, and teamwork. \nThe event will be held at the College Boulevard Activity Center and will feature a variety of interactive sports and play stations designed to help children build confidence\, develop motor skills\, and discover a love for physical activity. Participants will rotate through engaging activities focused on foundational soccer skills like kicking and coordination\, while also practicing important movement skills such as walking\, running\, balance\, jumping\, and more. \nThe Young Athletes and Junior Athletes programs introduce children to sports in a fun\, supportive environment that promotes inclusion and early athletic development. Families are encouraged to stay before and after the event to enjoy the excitement of the Unified Soccer Tournament\, which begins at 9:00 a.m.\, and learn more about future opportunities to get involved with Special Olympics Kansas. \nWhether your child is new to sports or already loves to play\, the Young Athletes Fest is the perfect place to learn\, grow\, and celebrate the power of inclusion! \nRegister here! \nVolunteer here! 
URL:https://soks.org/event/young-athletes-fest-4/
LOCATION:College Boulevard Activity Center\, 11031 South Valley Road\, Olathe\, 66061\, United States
CATEGORIES:Health & Fitness,Metro Region,Sports,Unified,Volunteer
ATTACH;FMTTYPE=image/jpeg:https://soks.org/wp-content/uploads/2022/09/Young-Athletes-1.jpg
ORGANIZER;CN="Lauren Van Volkenburgh":MAILTO:vanvolkenburghl@soks.org
END:VEVENT
END:VCALENDAR