BEGIN:VCALENDAR
VERSION:2.0
PRODID:-//Special Olympics Kansas - ECPv6.15.20//NONSGML v1.0//EN
CALSCALE:GREGORIAN
METHOD:PUBLISH
X-ORIGINAL-URL:https://soks.org
X-WR-CALDESC:Events for Special Olympics Kansas
REFRESH-INTERVAL;VALUE=DURATION:PT1H
X-Robots-Tag:noindex
X-PUBLISHED-TTL:PT1H
BEGIN:VTIMEZONE
TZID:America/Chicago
BEGIN:DAYLIGHT
TZOFFSETFROM:-0600
TZOFFSETTO:-0500
TZNAME:CDT
DTSTART:20220313T080000
END:DAYLIGHT
BEGIN:STANDARD
TZOFFSETFROM:-0500
TZOFFSETTO:-0600
TZNAME:CST
DTSTART:20221106T070000
END:STANDARD
BEGIN:DAYLIGHT
TZOFFSETFROM:-0600
TZOFFSETTO:-0500
TZNAME:CDT
DTSTART:20230312T080000
END:DAYLIGHT
BEGIN:STANDARD
TZOFFSETFROM:-0500
TZOFFSETTO:-0600
TZNAME:CST
DTSTART:20231105T070000
END:STANDARD
BEGIN:DAYLIGHT
TZOFFSETFROM:-0600
TZOFFSETTO:-0500
TZNAME:CDT
DTSTART:20240310T080000
END:DAYLIGHT
BEGIN:STANDARD
TZOFFSETFROM:-0500
TZOFFSETTO:-0600
TZNAME:CST
DTSTART:20241103T070000
END:STANDARD
BEGIN:DAYLIGHT
TZOFFSETFROM:-0600
TZOFFSETTO:-0500
TZNAME:CDT
DTSTART:20250309T080000
END:DAYLIGHT
BEGIN:STANDARD
TZOFFSETFROM:-0500
TZOFFSETTO:-0600
TZNAME:CST
DTSTART:20251102T070000
END:STANDARD
BEGIN:DAYLIGHT
TZOFFSETFROM:-0600
TZOFFSETTO:-0500
TZNAME:CDT
DTSTART:20260308T080000
END:DAYLIGHT
BEGIN:STANDARD
TZOFFSETFROM:-0500
TZOFFSETTO:-0600
TZNAME:CST
DTSTART:20261101T070000
END:STANDARD
BEGIN:DAYLIGHT
TZOFFSETFROM:-0600
TZOFFSETTO:-0500
TZNAME:CDT
DTSTART:20270314T080000
END:DAYLIGHT
BEGIN:STANDARD
TZOFFSETFROM:-0500
TZOFFSETTO:-0600
TZNAME:CST
DTSTART:20271107T070000
END:STANDARD
END:VTIMEZONE
BEGIN:VEVENT
DTSTART;TZID=America/Chicago:20260204T080000
DTEND;TZID=America/Chicago:20260206T170000
DTSTAMP:20260421T233519
CREATED:20251027T210456Z
LAST-MODIFIED:20251027T210456Z
UID:10003236-1770192000-1770397200@soks.org
SUMMARY:2026 Winter Games
DESCRIPTION:Special Olympics Kansas Winter Games \nDate: February 4–6\, 2026\nLocation: Snow Creek\, 1 Snow Creek Dr\, Weston\, MO 64098\nContact: Tim Rehder \nThe Winter Games bring together Special Olympics athletes from across the state to compete in Alpine skiing\, cross-country skiing\, and snowshoeing. This multi-day event kicks off with a ski clinic on Wednesday\, February 4\, from 5:00–8:00 PM\, giving athletes the chance to practice and prepare for the competition. \nThe games continue February 5 and 6\, providing a supportive and exciting environment for athletes to showcase their skills\, build confidence\, and celebrate their achievements. \nAthletes and coaches can contact Tim Rehdert for registration and additional details.
URL:https://soks.org/event/2026-winter-games/
LOCATION:Snow Creek\, 1 Snow Creek Dr\, Weston\, KS\, 64098\, United States
CATEGORIES:Metro Region,Sporting Event,Sports,State
ATTACH;FMTTYPE=image/jpeg:https://soks.org/wp-content/uploads/2023/09/33023948071_5f7672a472_o-scaled.jpg
ORGANIZER;CN="Tim Rehder":MAILTO:rehdert@soks.org
END:VEVENT
BEGIN:VEVENT
DTSTART;TZID=America/Chicago:20260201T120000
DTEND;TZID=America/Chicago:20260201T160000
DTSTAMP:20260421T233519
CREATED:20251027T210203Z
LAST-MODIFIED:20251027T210203Z
UID:10003235-1769947200-1769961600@soks.org
SUMMARY:Winter Games Ski Clinic 2
DESCRIPTION:Winter Games Ski Clinic \nDate: February 1\, 2026\nTime: 12:00 PM – 4:00 PM\nLocation: Snow Creek\, 1 Snow Creek Dr\, Weston\, MO 64098\nContact: Tim Rehdert \nGet ready to hit the slopes! The Winter Games Ski Clinic offers athletes the opportunity to train in Alpine skiing\, cross-country skiing\, and snowshoeing in preparation for upcoming winter competitions. \nThis clinic is designed to help athletes improve their skills\, gain confidence on the snow\, and enjoy the winter sports experience in a supportive and fun environment. \nAthletes should contact Tim for registration information and any questions about the clinic.
URL:https://soks.org/event/winter-games-ski-clinic-2/
LOCATION:Snow Creek\, 1 Snow Creek Dr\, Weston\, KS\, 64098\, United States
CATEGORIES:Metro Region,Sporting Event,Sports
ATTACH;FMTTYPE=image/jpeg:https://soks.org/wp-content/uploads/2024/01/13409597953_96055ca6a7_o-scaled.jpg
ORGANIZER;CN="Tim Rehder":MAILTO:rehdert@soks.org
END:VEVENT
BEGIN:VEVENT
DTSTART;TZID=America/Chicago:20260125T120000
DTEND;TZID=America/Chicago:20260125T160000
DTSTAMP:20260421T233519
CREATED:20251027T205954Z
LAST-MODIFIED:20251027T205954Z
UID:10003234-1769342400-1769356800@soks.org
SUMMARY:Winter Games Ski Clinic 1
DESCRIPTION:Winter Games Ski Clinic \nDate: Sunday\, January 25\, 2026\nTime: 12:00 PM – 4:00 PM\nLocation: Snow Creek\, 1 Snow Creek Dr\, Weston\, MO 64098\nContact: Tim Rehder | rehdert@soks.org \nGet ready to hit the slopes at the Winter Games Ski Clinic with Special Olympics Kansas! \nThis training opportunity is designed for athletes interested in developing their skills in Alpine Skiing\, Cross-Country Skiing\, and Snowshoeing ahead of the 2026 Winter Games season. Whether you’re new to winter sports or preparing for competition\, this clinic offers hands-on instruction\, confidence-building practice\, and fun on the snow with coaches and peers. \nAthletes will receive guided training from experienced instructors focused on technique\, safety\, and skill progression in a supportive and encouraging environment. \nThis clinic is open to Special Olympics Kansas athletes who are registered for or interested in participating in winter sports. Bundle up and join us on the mountain as we kick off another exciting winter season with Special Olympics Kansas!
URL:https://soks.org/event/winter-games-ski-clinic-1/
LOCATION:Snow Creek\, 1 Snow Creek Dr\, Weston\, KS\, 64098\, United States
CATEGORIES:Metro Region,Sporting Event,Sports
ATTACH;FMTTYPE=image/jpeg:https://soks.org/wp-content/uploads/2024/01/13409597953_96055ca6a7_o-scaled.jpg
ORGANIZER;CN="Tim Rehder":MAILTO:rehdert@soks.org
END:VEVENT
BEGIN:VEVENT
DTSTART;VALUE=DATE:20250205
DTEND;VALUE=DATE:20250208
DTSTAMP:20260421T233519
CREATED:20240725T184903Z
LAST-MODIFIED:20240725T184903Z
UID:10003063-1738713600-1738972799@soks.org
SUMMARY:2025 Winter Games
DESCRIPTION:Feb 5 – Athlete ski clinic\nFeb 6 – Morning: snowshoe/cross country competition. Afternoon: ski qualifying\nFeb 7 – All day ski finals
URL:https://soks.org/event/2025-winter-games/
LOCATION:Snow Creek\, 1 Snow Creek Dr\, Weston\, KS\, 64098\, United States
CATEGORIES:Metro Region,Sporting Event,Sports,State,Volunteer
ATTACH;FMTTYPE=image/jpeg:https://soks.org/wp-content/uploads/2024/01/13409597953_96055ca6a7_o-scaled.jpg
ORGANIZER;CN="Tim Rehder":MAILTO:rehdert@soks.org
END:VEVENT
BEGIN:VEVENT
DTSTART;VALUE=DATE:20240131
DTEND;VALUE=DATE:20240203
DTSTAMP:20260421T233519
CREATED:20230926T173901Z
LAST-MODIFIED:20240112T170507Z
UID:10002940-1706659200-1706918399@soks.org
SUMMARY:2024 Winter Games
DESCRIPTION:’24 WG Tentative Schedule \n  \nClick here to volunteer. 
URL:https://soks.org/event/2024-winter-games/
LOCATION:Snow Creek\, 1 Snow Creek Dr\, Weston\, KS\, 64098\, United States
CATEGORIES:Special,Sporting Event,Sports,State,Volunteer
ATTACH;FMTTYPE=image/jpeg:https://soks.org/wp-content/uploads/2023/09/33023948071_5f7672a472_o-scaled.jpg
ORGANIZER;CN="Tim Rehder":MAILTO:rehdert@soks.org
END:VEVENT
BEGIN:VEVENT
DTSTART;VALUE=DATE:20230216
DTEND;VALUE=DATE:20230218
DTSTAMP:20260421T233519
CREATED:20221010T171636Z
LAST-MODIFIED:20230110T185855Z
UID:10002806-1676505600-1676678399@soks.org
SUMMARY:2023 John L. Cassidy Heartland Winter Games
DESCRIPTION:Tentative Schedule \n— \nVolunteer
URL:https://soks.org/event/2023-winter-games/
LOCATION:Snow Creek\, 1 Snow Creek Dr\, Weston\, KS\, 64098\, United States
CATEGORIES:Sporting Event,Sports,State,Volunteer
ATTACH;FMTTYPE=image/jpeg:https://soks.org/wp-content/uploads/2022/10/Winter-Games.jpg
END:VEVENT
BEGIN:VEVENT
DTSTART;TZID=America/Chicago:20230205T120000
DTEND;TZID=America/Chicago:20230205T160000
DTSTAMP:20260421T233519
CREATED:20221129T214201Z
LAST-MODIFIED:20230131T161619Z
UID:10002847-1675598400-1675612800@soks.org
SUMMARY:Winter Games Training Clinic
DESCRIPTION:
URL:https://soks.org/event/winter-games-training-clinic/
LOCATION:Snow Creek\, 1 Snow Creek Dr\, Weston\, KS\, 64098\, United States
CATEGORIES:Sporting Event,Sports,State
ATTACH;FMTTYPE=image/jpeg:https://soks.org/wp-content/uploads/2022/10/Winter-Games.jpg
ORGANIZER;CN="Tim Rehder":MAILTO:rehdert@soks.org
END:VEVENT
END:VCALENDAR